Workbook
Name FluxBins: Models!$S$7:$BU$932
Name FluxList1: temp!$D$3:$D$57
Name FluxList2: temp!$H$3:$H$57
Name FluxList3: temp!$L$3:$L$57
Name FluxLookup1: temp!$D$3:$E$57
Name FluxLookup2: temp!$H$3:$I$57
Name FluxLookup3: temp!$L$3:$M$57
Name ModelsData: Models!$A$7:$BU$932
Name NameIndexArray: Lookups!$D$4:$E$1502

Sheet CHARACTERIZE
B1: Compare: | C1: LED flux | D1: LED flux/W | E1: LED Vf | F1: LED W | H1: Current Display Range: | K1: Automatic | M1: Minimum: | N1: 0.1 | O1: Interval: | P1: 0.05
C2: =VLOOKUP(C1,Lookups!$J$2:$L$15,3,FALSE) -> 3 | D2: =VLOOKUP(D1,Lookups!$J$2:$L$15,3,FALSE) -> 4 | E2: =VLOOKUP(E1,Lookups!$J$2:$L$15,3,FALSE) -> 1 | F2: =VLOOKUP(F1,Lookups!$J$2:$L$15,3,FALSE) -> 2 | P2: I
B3: System: | C3: Target Flux : | E3: 1200 | F3: Optical Efficiency: | I3: 0.9 | J3: Electrical Efficiency: | M3: 0.9
B6: Current (A) | C6: Model | D6: (none) | H6: Model | I6: (none) | M6: Model | N6: (none)
C7: Flux | H7: Flux | M7: Flux
C8: Price | D8: 0 | E8: Tc (ºC) | F8: 25 | H8: Price | I8: 0 | J8: Tc (ºC) | K8: 25 | M8: Price | N8: 0 | O8: Tc (ºC) | P8: 25
C9: ΔVf | D9: 0 | E9: Multiple | F9: 1 | H9: ΔVf | I9: 0 | J9: Multiple | K9: 1 | M9: ΔVf | N9: 0 | O9: Multiple | P9: 1
C10: =IF($D$6="(none)","",INDEX('led1'!$B$48:$B$60,C$2)) | D10: =IF($D$6="(none)","",INDEX('led1'!$B$48:$B$60,D$2)) | E10: =IF($D$6="(none)","",INDEX('led1'!$B$48:$B$60,E$2)) | F10: =IF($D$6="(none)","",INDEX('led1'!$B$48:$B$60,F$2)) | H10: =IF($I$6="(none)","",INDEX('led2'!$B$48:$B$60,C$2)) | I10: =IF($I$6="(none)","",INDEX('led2'!$B$48:$B$60,D$2)) | J10: =IF($I$6="(none)","",INDEX('led2'!$B$48:$B$60,E$2)) | K10: =IF($I$6="(none)","",INDEX('led2'!$B$48:$B$60,F$2)) | M10: =IF($N$6="(none)","",INDEX('led3'!$B$48:$B$60,C$2)) | N10: =IF($N$6="(none)","",INDEX('led3'!$B$48:$B$60,D$2)) | O10: =IF($N$6="(none)","",INDEX('led3'!$B$48:$B$60,E$2)) | P10: =IF($N$6="(none)","",INDEX('led3'!$B$48:$B$60,F$2))
A11: 1 | B11: =IF(temp!$AO$7=-100,"",Lookups!AB2) | C11: =IF(OR($B11=0,C$2=0),NA(),INDEX('led1'!$K$85:$W$113,$A11,C$2)) -> #N/A | D11: =IF(OR($B11=0,D$2=0),NA(),INDEX('led1'!$K$85:$W$113,$A11,D$2)) -> #N/A | E11: =IF(OR($B11=0,E$2=0),NA(),INDEX('led1'!$K$85:$W$113,$A11,E$2)) -> #N/A | F11: =IF(OR($B11=0,F$2=0),NA(),INDEX('led1'!$K$85:$W$113,$A11,F$2)) -> #N/A | H11: =IF(OR($B11=0,C$2=0),NA(),INDEX('led2'!$K$85:$W$113,$A11,C$2)) -> #N/A | I11: =IF(OR($B11=0,D$2=0),NA(),INDEX('led2'!$K$85:$W$113,$A11,D$2)) -> #N/A | J11: =IF(OR($B11=0,E$2=0),NA(),INDEX('led2'!$K$85:$W$113,$A11,E$2)) -> #N/A | K11: =IF(OR($B11=0,F$2=0),NA(),INDEX('led2'!$K$85:$W$113,$A11,F$2)) -> #N/A | M11: =IF(OR($B11=0,C$2=0),NA(),INDEX('led3'!$K$85:$W$113,$A11,C$2)) -> #N/A | N11: =IF(OR($B11=0,D$2=0),NA(),INDEX('led3'!$K$85:$W$113,$A11,D$2)) -> #N/A | O11: =IF(OR($B11=0,E$2=0),NA(),INDEX('led3'!$K$85:$W$113,$A11,E$2)) -> #N/A | P11: =IF(OR($B11=0,F$2=0),NA(),INDEX('led3'!$K$85:$W$113,$A11,F$2)) -> #N/A
A12: 2 | B12: =IF(temp!$AO$7=-100,"",Lookups!AB3) | C12: =IF(OR($B12=0,C$2=0),NA(),INDEX('led1'!$K$85:$W$113,$A12,C$2)) -> #N/A | D12: =IF(OR($B12=0,D$2=0),NA(),INDEX('led1'!$K$85:$W$113,$A12,D$2)) -> #N/A | E12: =IF(OR($B12=0,E$2=0),NA(),INDEX('led1'!$K$85:$W$113,$A12,E$2)) -> #N/A | F12: =IF(OR($B12=0,F$2=0),NA(),INDEX('led1'!$K$85:$W$113,$A12,F$2)) -> #N/A | H12: =IF(OR($B12=0,C$2=0),NA(),INDEX('led2'!$K$85:$W$113,$A12,C$2)) -> #N/A | I12: =IF(OR($B12=0,D$2=0),NA(),INDEX('led2'!$K$85:$W$113,$A12,D$2)) -> #N/A | J12: =IF(OR($B12=0,E$2=0),NA(),INDEX('led2'!$K$85:$W$113,$A12,E$2)) -> #N/A | K12: =IF(OR($B12=0,F$2=0),NA(),INDEX('led2'!$K$85:$W$113,$A12,F$2)) -> #N/A | M12: =IF(OR($B12=0,C$2=0),NA(),INDEX('led3'!$K$85:$W$113,$A12,C$2)) -> #N/A | N12: =IF(OR($B12=0,D$2=0),NA(),INDEX('led3'!$K$85:$W$113,$A12,D$2)) -> #N/A | O12: =IF(OR($B12=0,E$2=0),NA(),INDEX('led3'!$K$85:$W$113,$A12,E$2)) -> #N/A | P12: =IF(OR($B12=0,F$2=0),NA(),INDEX('led3'!$K$85:$W$113,$A12,F$2)) -> #N/A
A13: 3 | B13: =IF(temp!$AO$7=-100,"",Lookups!AB4) | C13: =IF(OR($B13=0,C$2=0),NA(),INDEX('led1'!$K$85:$W$113,$A13,C$2)) -> #N/A | D13: =IF(OR($B13=0,D$2=0),NA(),INDEX('led1'!$K$85:$W$113,$A13,D$2)) -> #N/A | E13: =IF(OR($B13=0,E$2=0),NA(),INDEX('led1'!$K$85:$W$113,$A13,E$2)) -> #N/A | F13: =IF(OR($B13=0,F$2=0),NA(),INDEX('led1'!$K$85:$W$113,$A13,F$2)) -> #N/A | H13: =IF(OR($B13=0,C$2=0),NA(),INDEX('led2'!$K$85:$W$113,$A13,C$2)) -> #N/A | I13: =IF(OR($B13=0,D$2=0),NA(),INDEX('led2'!$K$85:$W$113,$A13,D$2)) -> #N/A | J13: =IF(OR($B13=0,E$2=0),NA(),INDEX('led2'!$K$85:$W$113,$A13,E$2)) -> #N/A | K13: =IF(OR($B13=0,F$2=0),NA(),INDEX('led2'!$K$85:$W$113,$A13,F$2)) -> #N/A | M13: =IF(OR($B13=0,C$2=0),NA(),INDEX('led3'!$K$85:$W$113,$A13,C$2)) -> #N/A | N13: =IF(OR($B13=0,D$2=0),NA(),INDEX('led3'!$K$85:$W$113,$A13,D$2)) -> #N/A | O13: =IF(OR($B13=0,E$2=0),NA(),INDEX('led3'!$K$85:$W$113,$A13,E$2)) -> #N/A | P13: =IF(OR($B13=0,F$2=0),NA(),INDEX('led3'!$K$85:$W$113,$A13,F$2)) -> #N/A
A14: 4 | B14: =IF(temp!$AO$7=-100,"",Lookups!AB5) | C14: =IF(OR($B14=0,C$2=0),NA(),INDEX('led1'!$K$85:$W$113,$A14,C$2)) -> #N/A | D14: =IF(OR($B14=0,D$2=0),NA(),INDEX('led1'!$K$85:$W$113,$A14,D$2)) -> #N/A | E14: =IF(OR($B14=0,E$2=0),NA(),INDEX('led1'!$K$85:$W$113,$A14,E$2)) -> #N/A | F14: =IF(OR($B14=0,F$2=0),NA(),INDEX('led1'!$K$85:$W$113,$A14,F$2)) -> #N/A | H14: =IF(OR($B14=0,C$2=0),NA(),INDEX('led2'!$K$85:$W$113,$A14,C$2)) -> #N/A | I14: =IF(OR($B14=0,D$2=0),NA(),INDEX('led2'!$K$85:$W$113,$A14,D$2)) -> #N/A | J14: =IF(OR($B14=0,E$2=0),NA(),INDEX('led2'!$K$85:$W$113,$A14,E$2)) -> #N/A | K14: =IF(OR($B14=0,F$2=0),NA(),INDEX('led2'!$K$85:$W$113,$A14,F$2)) -> #N/A | M14: =IF(OR($B14=0,C$2=0),NA(),INDEX('led3'!$K$85:$W$113,$A14,C$2)) -> #N/A | N14: =IF(OR($B14=0,D$2=0),NA(),INDEX('led3'!$K$85:$W$113,$A14,D$2)) -> #N/A | O14: =IF(OR($B14=0,E$2=0),NA(),INDEX('led3'!$K$85:$W$113,$A14,E$2)) -> #N/A | P14: =IF(OR($B14=0,F$2=0),NA(),INDEX('led3'!$K$85:$W$113,$A14,F$2)) -> #N/A
A15: 5 | B15: =IF(temp!$AO$7=-100,"",Lookups!AB6) | C15: =IF(OR($B15=0,C$2=0),NA(),INDEX('led1'!$K$85:$W$113,$A15,C$2)) -> #N/A | D15: =IF(OR($B15=0,D$2=0),NA(),INDEX('led1'!$K$85:$W$113,$A15,D$2)) -> #N/A | E15: =IF(OR($B15=0,E$2=0),NA(),INDEX('led1'!$K$85:$W$113,$A15,E$2)) -> #N/A | F15: =IF(OR($B15=0,F$2=0),NA(),INDEX('led1'!$K$85:$W$113,$A15,F$2)) -> #N/A | H15: =IF(OR($B15=0,C$2=0),NA(),INDEX('led2'!$K$85:$W$113,$A15,C$2)) -> #N/A | I15: =IF(OR($B15=0,D$2=0),NA(),INDEX('led2'!$K$85:$W$113,$A15,D$2)) -> #N/A | J15: =IF(OR($B15=0,E$2=0),NA(),INDEX('led2'!$K$85:$W$113,$A15,E$2)) -> #N/A | K15: =IF(OR($B15=0,F$2=0),NA(),INDEX('led2'!$K$85:$W$113,$A15,F$2)) -> #N/A | M15: =IF(OR($B15=0,C$2=0),NA(),INDEX('led3'!$K$85:$W$113,$A15,C$2)) -> #N/A | N15: =IF(OR($B15=0,D$2=0),NA(),INDEX('led3'!$K$85:$W$113,$A15,D$2)) -> #N/A | O15: =IF(OR($B15=0,E$2=0),NA(),INDEX('led3'!$K$85:$W$113,$A15,E$2)) -> #N/A | P15: =IF(OR($B15=0,F$2=0),NA(),INDEX('led3'!$K$85:$W$113,$A15,F$2)) -> #N/A
A16: 6 | B16: =IF(temp!$AO$7=-100,"",Lookups!AB7) | C16: =IF(OR($B16=0,C$2=0),NA(),INDEX('led1'!$K$85:$W$113,$A16,C$2)) -> #N/A | D16: =IF(OR($B16=0,D$2=0),NA(),INDEX('led1'!$K$85:$W$113,$A16,D$2)) -> #N/A | E16: =IF(OR($B16=0,E$2=0),NA(),INDEX('led1'!$K$85:$W$113,$A16,E$2)) -> #N/A | F16: =IF(OR($B16=0,F$2=0),NA(),INDEX('led1'!$K$85:$W$113,$A16,F$2)) -> #N/A | H16: =IF(OR($B16=0,C$2=0),NA(),INDEX('led2'!$K$85:$W$113,$A16,C$2)) -> #N/A | I16: =IF(OR($B16=0,D$2=0),NA(),INDEX('led2'!$K$85:$W$113,$A16,D$2)) -> #N/A | J16: =IF(OR($B16=0,E$2=0),NA(),INDEX('led2'!$K$85:$W$113,$A16,E$2)) -> #N/A | K16: =IF(OR($B16=0,F$2=0),NA(),INDEX('led2'!$K$85:$W$113,$A16,F$2)) -> #N/A | M16: =IF(OR($B16=0,C$2=0),NA(),INDEX('led3'!$K$85:$W$113,$A16,C$2)) -> #N/A | N16: =IF(OR($B16=0,D$2=0),NA(),INDEX('led3'!$K$85:$W$113,$A16,D$2)) -> #N/A | O16: =IF(OR($B16=0,E$2=0),NA(),INDEX('led3'!$K$85:$W$113,$A16,E$2)) -> #N/A | P16: =IF(OR($B16=0,F$2=0),NA(),INDEX('led3'!$K$85:$W$113,$A16,F$2)) -> #N/A
A17: 7 | B17: =IF(temp!$AO$7=-100,"",Lookups!AB8) | C17: =IF(OR($B17=0,C$2=0),NA(),INDEX('led1'!$K$85:$W$113,$A17,C$2)) -> #N/A | D17: =IF(OR($B17=0,D$2=0),NA(),INDEX('led1'!$K$85:$W$113,$A17,D$2)) -> #N/A | E17: =IF(OR($B17=0,E$2=0),NA(),INDEX('led1'!$K$85:$W$113,$A17,E$2)) -> #N/A | F17: =IF(OR($B17=0,F$2=0),NA(),INDEX('led1'!$K$85:$W$113,$A17,F$2)) -> #N/A | H17: =IF(OR($B17=0,C$2=0),NA(),INDEX('led2'!$K$85:$W$113,$A17,C$2)) -> #N/A | I17: =IF(OR($B17=0,D$2=0),NA(),INDEX('led2'!$K$85:$W$113,$A17,D$2)) -> #N/A | J17: =IF(OR($B17=0,E$2=0),NA(),INDEX('led2'!$K$85:$W$113,$A17,E$2)) -> #N/A | K17: =IF(OR($B17=0,F$2=0),NA(),INDEX('led2'!$K$85:$W$113,$A17,F$2)) -> #N/A | M17: =IF(OR($B17=0,C$2=0),NA(),INDEX('led3'!$K$85:$W$113,$A17,C$2)) -> #N/A | N17: =IF(OR($B17=0,D$2=0),NA(),INDEX('led3'!$K$85:$W$113,$A17,D$2)) -> #N/A | O17: =IF(OR($B17=0,E$2=0),NA(),INDEX('led3'!$K$85:$W$113,$A17,E$2)) -> #N/A | P17: =IF(OR($B17=0,F$2=0),NA(),INDEX('led3'!$K$85:$W$113,$A17,F$2)) -> #N/A
A18: 8 | B18: =IF(temp!$AO$7=-100,"",Lookups!AB9) | C18: =IF(OR($B18=0,C$2=0),NA(),INDEX('led1'!$K$85:$W$113,$A18,C$2)) -> #N/A | D18: =IF(OR($B18=0,D$2=0),NA(),INDEX('led1'!$K$85:$W$113,$A18,D$2)) -> #N/A | E18: =IF(OR($B18=0,E$2=0),NA(),INDEX('led1'!$K$85:$W$113,$A18,E$2)) -> #N/A | F18: =IF(OR($B18=0,F$2=0),NA(),INDEX('led1'!$K$85:$W$113,$A18,F$2)) -> #N/A | H18: =IF(OR($B18=0,C$2=0),NA(),INDEX('led2'!$K$85:$W$113,$A18,C$2)) -> #N/A | I18: =IF(OR($B18=0,D$2=0),NA(),INDEX('led2'!$K$85:$W$113,$A18,D$2)) -> #N/A | J18: =IF(OR($B18=0,E$2=0),NA(),INDEX('led2'!$K$85:$W$113,$A18,E$2)) -> #N/A | K18: =IF(OR($B18=0,F$2=0),NA(),INDEX('led2'!$K$85:$W$113,$A18,F$2)) -> #N/A | M18: =IF(OR($B18=0,C$2=0),NA(),INDEX('led3'!$K$85:$W$113,$A18,C$2)) -> #N/A | N18: =IF(OR($B18=0,D$2=0),NA(),INDEX('led3'!$K$85:$W$113,$A18,D$2)) -> #N/A | O18: =IF(OR($B18=0,E$2=0),NA(),INDEX('led3'!$K$85:$W$113,$A18,E$2)) -> #N/A | P18: =IF(OR($B18=0,F$2=0),NA(),INDEX('led3'!$K$85:$W$113,$A18,F$2)) -> #N/A
A19: 9 | B19: =IF(temp!$AO$7=-100,"",Lookups!AB10) | C19: =IF(OR($B19=0,C$2=0),NA(),INDEX('led1'!$K$85:$W$113,$A19,C$2)) -> #N/A | D19: =IF(OR($B19=0,D$2=0),NA(),INDEX('led1'!$K$85:$W$113,$A19,D$2)) -> #N/A | E19: =IF(OR($B19=0,E$2=0),NA(),INDEX('led1'!$K$85:$W$113,$A19,E$2)) -> #N/A | F19: =IF(OR($B19=0,F$2=0),NA(),INDEX('led1'!$K$85:$W$113,$A19,F$2)) -> #N/A | H19: =IF(OR($B19=0,C$2=0),NA(),INDEX('led2'!$K$85:$W$113,$A19,C$2)) -> #N/A | I19: =IF(OR($B19=0,D$2=0),NA(),INDEX('led2'!$K$85:$W$113,$A19,D$2)) -> #N/A | J19: =IF(OR($B19=0,E$2=0),NA(),INDEX('led2'!$K$85:$W$113,$A19,E$2)) -> #N/A | K19: =IF(OR($B19=0,F$2=0),NA(),INDEX('led2'!$K$85:$W$113,$A19,F$2)) -> #N/A | M19: =IF(OR($B19=0,C$2=0),NA(),INDEX('led3'!$K$85:$W$113,$A19,C$2)) -> #N/A | N19: =IF(OR($B19=0,D$2=0),NA(),INDEX('led3'!$K$85:$W$113,$A19,D$2)) -> #N/A | O19: =IF(OR($B19=0,E$2=0),NA(),INDEX('led3'!$K$85:$W$113,$A19,E$2)) -> #N/A | P19: =IF(OR($B19=0,F$2=0),NA(),INDEX('led3'!$K$85:$W$113,$A19,F$2)) -> #N/A
A20: 10 | B20: =IF(temp!$AO$7=-100,"",Lookups!AB11) | C20: =IF(OR($B20=0,C$2=0),NA(),INDEX('led1'!$K$85:$W$113,$A20,C$2)) -> #N/A | D20: =IF(OR($B20=0,D$2=0),NA(),INDEX('led1'!$K$85:$W$113,$A20,D$2)) -> #N/A | E20: =IF(OR($B20=0,E$2=0),NA(),INDEX('led1'!$K$85:$W$113,$A20,E$2)) -> #N/A | F20: =IF(OR($B20=0,F$2=0),NA(),INDEX('led1'!$K$85:$W$113,$A20,F$2)) -> #N/A | H20: =IF(OR($B20=0,C$2=0),NA(),INDEX('led2'!$K$85:$W$113,$A20,C$2)) -> #N/A | I20: =IF(OR($B20=0,D$2=0),NA(),INDEX('led2'!$K$85:$W$113,$A20,D$2)) -> #N/A | J20: =IF(OR($B20=0,E$2=0),NA(),INDEX('led2'!$K$85:$W$113,$A20,E$2)) -> #N/A | K20: =IF(OR($B20=0,F$2=0),NA(),INDEX('led2'!$K$85:$W$113,$A20,F$2)) -> #N/A | M20: =IF(OR($B20=0,C$2=0),NA(),INDEX('led3'!$K$85:$W$113,$A20,C$2)) -> #N/A | N20: =IF(OR($B20=0,D$2=0),NA(),INDEX('led3'!$K$85:$W$113,$A20,D$2)) -> #N/A | O20: =IF(OR($B20=0,E$2=0),NA(),INDEX('led3'!$K$85:$W$113,$A20,E$2)) -> #N/A | P20: =IF(OR($B20=0,F$2=0),NA(),INDEX('led3'!$K$85:$W$113,$A20,F$2)) -> #N/A
A21: 11 | B21: =IF(temp!$AO$7=-100,"",Lookups!AB12) | C21: =IF(OR($B21=0,C$2=0),NA(),INDEX('led1'!$K$85:$W$113,$A21,C$2)) -> #N/A | D21: =IF(OR($B21=0,D$2=0),NA(),INDEX('led1'!$K$85:$W$113,$A21,D$2)) -> #N/A | E21: =IF(OR($B21=0,E$2=0),NA(),INDEX('led1'!$K$85:$W$113,$A21,E$2)) -> #N/A | F21: =IF(OR($B21=0,F$2=0),NA(),INDEX('led1'!$K$85:$W$113,$A21,F$2)) -> #N/A | H21: =IF(OR($B21=0,C$2=0),NA(),INDEX('led2'!$K$85:$W$113,$A21,C$2)) -> #N/A | I21: =IF(OR($B21=0,D$2=0),NA(),INDEX('led2'!$K$85:$W$113,$A21,D$2)) -> #N/A | J21: =IF(OR($B21=0,E$2=0),NA(),INDEX('led2'!$K$85:$W$113,$A21,E$2)) -> #N/A | K21: =IF(OR($B21=0,F$2=0),NA(),INDEX('led2'!$K$85:$W$113,$A21,F$2)) -> #N/A | M21: =IF(OR($B21=0,C$2=0),NA(),INDEX('led3'!$K$85:$W$113,$A21,C$2)) -> #N/A | N21: =IF(OR($B21=0,D$2=0),NA(),INDEX('led3'!$K$85:$W$113,$A21,D$2)) -> #N/A | O21: =IF(OR($B21=0,E$2=0),NA(),INDEX('led3'!$K$85:$W$113,$A21,E$2)) -> #N/A | P21: =IF(OR($B21=0,F$2=0),NA(),INDEX('led3'!$K$85:$W$113,$A21,F$2)) -> #N/A
A22: 12 | B22: =IF(temp!$AO$7=-100,"",Lookups!AB13) | C22: =IF(OR($B22=0,C$2=0),NA(),INDEX('led1'!$K$85:$W$113,$A22,C$2)) -> #N/A | D22: =IF(OR($B22=0,D$2=0),NA(),INDEX('led1'!$K$85:$W$113,$A22,D$2)) -> #N/A | E22: =IF(OR($B22=0,E$2=0),NA(),INDEX('led1'!$K$85:$W$113,$A22,E$2)) -> #N/A | F22: =IF(OR($B22=0,F$2=0),NA(),INDEX('led1'!$K$85:$W$113,$A22,F$2)) -> #N/A | H22: =IF(OR($B22=0,C$2=0),NA(),INDEX('led2'!$K$85:$W$113,$A22,C$2)) -> #N/A | I22: =IF(OR($B22=0,D$2=0),NA(),INDEX('led2'!$K$85:$W$113,$A22,D$2)) -> #N/A | J22: =IF(OR($B22=0,E$2=0),NA(),INDEX('led2'!$K$85:$W$113,$A22,E$2)) -> #N/A | K22: =IF(OR($B22=0,F$2=0),NA(),INDEX('led2'!$K$85:$W$113,$A22,F$2)) -> #N/A | M22: =IF(OR($B22=0,C$2=0),NA(),INDEX('led3'!$K$85:$W$113,$A22,C$2)) -> #N/A | N22: =IF(OR($B22=0,D$2=0),NA(),INDEX('led3'!$K$85:$W$113,$A22,D$2)) -> #N/A | O22: =IF(OR($B22=0,E$2=0),NA(),INDEX('led3'!$K$85:$W$113,$A22,E$2)) -> #N/A | P22: =IF(OR($B22=0,F$2=0),NA(),INDEX('led3'!$K$85:$W$113,$A22,F$2)) -> #N/A
... A39: 29 | B39: =IF(temp!$AO$7=-100,"",Lookups!AB30) | C39: =IF(OR($B39=0,C$2=0),NA(),INDEX('led1'!$K$85:$W$113,$A39,C$2)) -> #N/A | D39: =IF(OR($B39=0,D$2=0),NA(),INDEX('led1'!$K$85:$W$113,$A39,D$2)) -> #N/A | E39: =IF(OR($B39=0,E$2=0),NA(),INDEX('led1'!$K$85:$W$113,$A39,E$2)) -> #N/A | F39: =IF(OR($B39=0,F$2=0),NA(),INDEX('led1'!$K$85:$W$113,$A39,F$2)) -> #N/A | H39: =IF(OR($B39=0,C$2=0),NA(),INDEX('led2'!$K$85:$W$113,$A39,C$2)) -> #N/A | I39: =IF(OR($B39=0,D$2=0),NA(),INDEX('led2'!$K$85:$W$113,$A39,D$2)) -> #N/A | J39: =IF(OR($B39=0,E$2=0),NA(),INDEX('led2'!$K$85:$W$113,$A39,E$2)) -> #N/A | K39: =IF(OR($B39=0,F$2=0),NA(),INDEX('led2'!$K$85:$W$113,$A39,F$2)) -> #N/A | M39: =IF(OR($B39=0,C$2=0),NA(),INDEX('led3'!$K$85:$W$113,$A39,C$2)) -> #N/A | N39: =IF(OR($B39=0,D$2=0),NA(),INDEX('led3'!$K$85:$W$113,$A39,D$2)) -> #N/A | O39: =IF(OR($B39=0,E$2=0),NA(),INDEX('led3'!$K$85:$W$113,$A39,E$2)) -> #N/A | P39: =IF(OR($B39=0,F$2=0),NA(),INDEX('led3'!$K$85:$W$113,$A39,F$2)) -> #N/A

Sheet EXPORT Graph
C1: Product Characterization Tool
E3: Model | F3: Flux | G3: Temperature | I3: System Parameters
E4: =temp!P3 | F4: =temp!Q3 | G4: =temp!R3 | I4: Target Flux | J4: =CHARACTERIZE!E3 -> 1200
E5: =temp!P4 | F5: =temp!Q4 | G5: =temp!R4 | I5: Optical Efficiency | J5: =CHARACTERIZE!I3 -> 0.9
E6: =temp!P5 | F6: =temp!Q5 | G6: =temp!R5 | I6: Electrical Efficiency | J6: =CHARACTERIZE!M3 -> 0.9
A9: y axis: | B9: 5 | I9: Notes:
A10: LED Efficacy
A12: x axis:
A13: LED Power (W)

Sheet EXPORT Table
A1: Product Characterization Tool
B3: Current (A) | C3: Model | D3: =temp!P3 | H3: Model | I3: =temp!P4 | M3: Model | N3: =temp!P5
C4: Flux | D4: =temp!Q3 | H4: Flux | I4: =temp!Q4 | M4: Flux | N4: =temp!Q5
C5: Temp. | D5: =temp!R3 | H5: Temp. | I5: =temp!R4 | M5: Temp. | N5: =temp!R5
C6: =CHARACTERIZE!C10 | D6: =CHARACTERIZE!D10 | E6: =CHARACTERIZE!E10 | F6: =CHARACTERIZE!F10 | H6: =CHARACTERIZE!H10 | I6: =CHARACTERIZE!I10 | J6: =CHARACTERIZE!J10 | K6: =CHARACTERIZE!K10 | M6: =CHARACTERIZE!M10 | N6: =CHARACTERIZE!N10 | O6: =CHARACTERIZE!O10 | P6: =CHARACTERIZE!P10
B7: =CHARACTERIZE!B11 | C7: =CHARACTERIZE!C11 -> #N/A | D7: =CHARACTERIZE!D11 -> #N/A | E7: =CHARACTERIZE!E11 -> #N/A | F7: =CHARACTERIZE!F11 -> #N/A | H7: =CHARACTERIZE!H11 -> #N/A | I7: =CHARACTERIZE!I11 -> #N/A | J7: =CHARACTERIZE!J11 -> #N/A | K7: =CHARACTERIZE!K11 -> #N/A | M7: =CHARACTERIZE!M11 -> #N/A | N7: =CHARACTERIZE!N11 -> #N/A | O7: =CHARACTERIZE!O11 -> #N/A | P7: =CHARACTERIZE!P11 -> #N/A
B8: =CHARACTERIZE!B12 | C8: =CHARACTERIZE!C12 -> #N/A | D8: =CHARACTERIZE!D12 -> #N/A | E8: =CHARACTERIZE!E12 -> #N/A | F8: =CHARACTERIZE!F12 -> #N/A | H8: =CHARACTERIZE!H12 -> #N/A | I8: =CHARACTERIZE!I12 -> #N/A | J8: =CHARACTERIZE!J12 -> #N/A | K8: =CHARACTERIZE!K12 -> #N/A | M8: =CHARACTERIZE!M12 -> #N/A | N8: =CHARACTERIZE!N12 -> #N/A | O8: =CHARACTERIZE!O12 -> #N/A | P8: =CHARACTERIZE!P12 -> #N/A
B9: =CHARACTERIZE!B13 | C9: =CHARACTERIZE!C13 -> #N/A | D9: =CHARACTERIZE!D13 -> #N/A | E9: =CHARACTERIZE!E13 -> #N/A | F9: =CHARACTERIZE!F13 -> #N/A | H9: =CHARACTERIZE!H13 -> #N/A | I9: =CHARACTERIZE!I13 -> #N/A | J9: =CHARACTERIZE!J13 -> #N/A | K9: =CHARACTERIZE!K13 -> #N/A | M9: =CHARACTERIZE!M13 -> #N/A | N9: =CHARACTERIZE!N13 -> #N/A | O9: =CHARACTERIZE!O13 -> #N/A | P9: =CHARACTERIZE!P13 -> #N/A
B10: =CHARACTERIZE!B14 | C10: =CHARACTERIZE!C14 -> #N/A | D10: =CHARACTERIZE!D14 -> #N/A | E10: =CHARACTERIZE!E14 -> #N/A | F10: =CHARACTERIZE!F14 -> #N/A | H10: =CHARACTERIZE!H14 -> #N/A | I10: =CHARACTERIZE!I14 -> #N/A | J10: =CHARACTERIZE!J14 -> #N/A | K10: =CHARACTERIZE!K14 -> #N/A | M10: =CHARACTERIZE!M14 -> #N/A | N10: =CHARACTERIZE!N14 -> #N/A | O10: =CHARACTERIZE!O14 -> #N/A | P10: =CHARACTERIZE!P14 -> #N/A
B11: =CHARACTERIZE!B15 | C11: =CHARACTERIZE!C15 -> #N/A | D11: =CHARACTERIZE!D15 -> #N/A | E11: =CHARACTERIZE!E15 -> #N/A | F11: =CHARACTERIZE!F15 -> #N/A | H11: =CHARACTERIZE!H15 -> #N/A | I11: =CHARACTERIZE!I15 -> #N/A | J11: =CHARACTERIZE!J15 -> #N/A | K11: =CHARACTERIZE!K15 -> #N/A | M11: =CHARACTERIZE!M15 -> #N/A | N11: =CHARACTERIZE!N15 -> #N/A | O11: =CHARACTERIZE!O15 -> #N/A | P11: =CHARACTERIZE!P15 -> #N/A
B12: =CHARACTERIZE!B16 | C12: =CHARACTERIZE!C16 -> #N/A | D12: =CHARACTERIZE!D16 -> #N/A | E12: =CHARACTERIZE!E16 -> #N/A | F12: =CHARACTERIZE!F16 -> #N/A | H12: =CHARACTERIZE!H16 -> #N/A | I12: =CHARACTERIZE!I16 -> #N/A | J12: =CHARACTERIZE!J16 -> #N/A | K12: =CHARACTERIZE!K16 -> #N/A | M12: =CHARACTERIZE!M16 -> #N/A | N12: =CHARACTERIZE!N16 -> #N/A | O12: =CHARACTERIZE!O16 -> #N/A | P12: =CHARACTERIZE!P16 -> #N/A
B13: =CHARACTERIZE!B17 | C13: =CHARACTERIZE!C17 -> #N/A | D13: =CHARACTERIZE!D17 -> #N/A | E13: =CHARACTERIZE!E17 -> #N/A | F13: =CHARACTERIZE!F17 -> #N/A | H13: =CHARACTERIZE!H17 -> #N/A | I13: =CHARACTERIZE!I17 -> #N/A | J13: =CHARACTERIZE!J17 -> #N/A | K13: =CHARACTERIZE!K17 -> #N/A | M13: =CHARACTERIZE!M17 -> #N/A | N13: =CHARACTERIZE!N17 -> #N/A | O13: =CHARACTERIZE!O17 -> #N/A | P13: =CHARACTERIZE!P17 -> #N/A
B14: =CHARACTERIZE!B18 | C14: =CHARACTERIZE!C18 -> #N/A | D14: =CHARACTERIZE!D18 -> #N/A | E14: =CHARACTERIZE!E18 -> #N/A | F14: =CHARACTERIZE!F18 -> #N/A | H14: =CHARACTERIZE!H18 -> #N/A | I14: =CHARACTERIZE!I18 -> #N/A | J14: =CHARACTERIZE!J18 -> #N/A | K14: =CHARACTERIZE!K18 -> #N/A | M14: =CHARACTERIZE!M18 -> #N/A | N14: =CHARACTERIZE!N18 -> #N/A | O14: =CHARACTERIZE!O18 -> #N/A | P14: =CHARACTERIZE!P18 -> #N/A
B15: =CHARACTERIZE!B19 | C15: =CHARACTERIZE!C19 -> #N/A | D15: =CHARACTERIZE!D19 -> #N/A | E15: =CHARACTERIZE!E19 -> #N/A | F15: =CHARACTERIZE!F19 -> #N/A | H15: =CHARACTERIZE!H19 -> #N/A | I15: =CHARACTERIZE!I19 -> #N/A | J15: =CHARACTERIZE!J19 -> #N/A | K15: =CHARACTERIZE!K19 -> #N/A | M15: =CHARACTERIZE!M19 -> #N/A | N15: =CHARACTERIZE!N19 -> #N/A | O15: =CHARACTERIZE!O19 -> #N/A | P15: =CHARACTERIZE!P19 -> #N/A
B16: =CHARACTERIZE!B20 | C16: =CHARACTERIZE!C20 -> #N/A | D16: =CHARACTERIZE!D20 -> #N/A | E16: =CHARACTERIZE!E20 -> #N/A | F16: =CHARACTERIZE!F20 -> #N/A | H16: =CHARACTERIZE!H20 -> #N/A | I16: =CHARACTERIZE!I20 -> #N/A | J16: =CHARACTERIZE!J20 -> #N/A | K16: =CHARACTERIZE!K20 -> #N/A | M16: =CHARACTERIZE!M20 -> #N/A | N16: =CHARACTERIZE!N20 -> #N/A | O16: =CHARACTERIZE!O20 -> #N/A | P16: =CHARACTERIZE!P20 -> #N/A
B17: =CHARACTERIZE!B21 | C17: =CHARACTERIZE!C21 -> #N/A | D17: =CHARACTERIZE!D21 -> #N/A | E17: =CHARACTERIZE!E21 -> #N/A | F17: =CHARACTERIZE!F21 -> #N/A | H17: =CHARACTERIZE!H21 -> #N/A | I17: =CHARACTERIZE!I21 -> #N/A | J17: =CHARACTERIZE!J21 -> #N/A | K17: =CHARACTERIZE!K21 -> #N/A | M17: =CHARACTERIZE!M21 -> #N/A | N17: =CHARACTERIZE!N21 -> #N/A | O17: =CHARACTERIZE!O21 -> #N/A | P17: =CHARACTERIZE!P21 -> #N/A
B18: =CHARACTERIZE!B22 | C18: =CHARACTERIZE!C22 -> #N/A | D18: =CHARACTERIZE!D22 -> #N/A | E18: =CHARACTERIZE!E22 -> #N/A | F18: =CHARACTERIZE!F22 -> #N/A | H18: =CHARACTERIZE!H22 -> #N/A | I18: =CHARACTERIZE!I22 -> #N/A | J18: =CHARACTERIZE!J22 -> #N/A | K18: =CHARACTERIZE!K22 -> #N/A | M18: =CHARACTERIZE!M22 -> #N/A | N18: =CHARACTERIZE!N22 -> #N/A | O18: =CHARACTERIZE!O22 -> #N/A | P18: =CHARACTERIZE!P22 -> #N/A
... B35: =CHARACTERIZE!B39 | C35: =CHARACTERIZE!C39 -> #N/A | D35: =CHARACTERIZE!D39 -> #N/A | E35: =CHARACTERIZE!E39 -> #N/A | F35: =CHARACTERIZE!F39 -> #N/A | H35: =CHARACTERIZE!H39 -> #N/A | I35: =CHARACTERIZE!I39 -> #N/A | J35: =CHARACTERIZE!J39 -> #N/A | K35: =CHARACTERIZE!K39 -> #N/A | M35: =CHARACTERIZE!M39 -> #N/A | N35: =CHARACTERIZE!N39 -> #N/A | O35: =CHARACTERIZE!O39 -> #N/A | P35: =CHARACTERIZE!P39 -> #N/A

Sheet Advanced
C2: Number of Significant Digits to Use in Displayed Values | G2: Flux Display Options | L2: LED 1 | P2: LED 2 | T2: LED 3
L3: =CHARACTERIZE!D6 -> (none) | P3: =CHARACTERIZE!I6 -> (none) | T3: =CHARACTERIZE!N6 -> (none)
L4: ='EXPORT Graph'!F4 | P4: ='EXPORT Graph'!F5 | T4: ='EXPORT Graph'!F6
I5: Flux Display Mode | L5: Default | P5: Default | T5: Default
C7: Voltage | D7: 3 | I7: How to Perform Flux Conversion? | L7: Use an LED Preset | P7: Use an LED Preset | T7: Use an LED Preset
C8: Power | D8: 3
C9: Efficacy | D9: 3 | I9: Conversion Factors Being Used:
I10: LER (mW/lm) | L10: =Lookups!AH2 -> 318.9 | P10: =Lookups!AH3 -> 318.9 | T10: =Lookups!AH4 -> 318.9
I11: PPF/flux | L11: =Lookups!AI2 -> 0.013917 | P11: =Lookups!AI3 -> 0.013917 | T11: =Lookups!AI4 -> 0.013917
I14: LED Preset: | L14: White: 6500K 70 CRI | P14: White: 6500K 70 CRI | T14: White: 6500K 70 CRI
I16: White LED Model:
I17: CCT (7000K-2100K) | L17: 5000 | P17: 5000 | T17: 5000
I18: Duv (-0.1-+0.1) | L18: 0.002 | P18: 0.002 | T18: 0.002
I19: CRI Ra (65-95) | L19: 70 | P19: 70 | T19: 70
I20: CRI R9 (-50-+90) | L20: 10 | P20: 10 | T20: 10
I22: Provide Conversion Factors Directly:
I23: LER (mW/lm) | L23: 337 | P23: 337 | T23: 337
I24: PPF/flux | L24: 0.013971 | P24: 0.013971 | T24: =155/28029 -> 0.0055299868

Sheet Bulk Table
A2: Product Characterization Tool
A4: LED Inputs | H4: LED Outputs | P4: System Inputs | U4: System Outputs
A5: Model | B5: Flux Value | C5: Manual Flux | D5: ΔVf | E5: If (A) | F5: Tsp (ºC) | H5: Imin (A) | I5: Imax (A) | J5: Vf | K5: Power (W) | L5: Flux | M5: LPW | N5: =CHOOSE(BTCalc!$D$1, "Tsp (ºC)","Tj (ºC)") -> Tj (ºC) | P5: # Series | Q5: # Parallel | R5: Optical Efficiency | S5: Electrical Efficiency | U5: # LEDs | V5: Vload | W5: Iload (A) | X5: Ptotal (W) | Y5: Flux Total | Z5: LPW
A6: (none) | D6: 0 | F6: 25 | H6: =IF(NOT(ISERROR(BTCalc!$A4)),BTCalc!R4,"") | I6: =IF(NOT(ISERROR(BTCalc!$A4)),BTCalc!S4,"") | J6: =IF(BTCalc!G4,ROUND(BTCalc!N4,3-(1+INT(LOG10(ABS(BTCalc!N4))))),"") | K6: =IF(BTCalc!G4,ROUND(BTCalc!O4,2-(1+INT(LOG10(ABS(BTCalc!O4))))),"") | L6: =IF(BTCalc!G4,ROUND(BTCalc!P4,IF(BTCalc!P4<100,IF(BTCalc!P4<10,IF(BTCalc!P4<1,3,2),1),0)),"") | M6: =IF(BTCalc!G4,ROUND(BTCalc!Q4,3-(1+INT(LOG10(ABS(BTCalc!Q4))))),"") | N6: =IF(BTCalc!G4,CHOOSE(BTCalc!$D$1,BTCalc!F4,BTCalc!E4),"") | P6: 1 | Q6: 1 | R6: 0.9 | S6: 0.9 | U6: =P6*Q6 -> 1 | V6: =IF(BTCalc!G4,P6*J6,"") | W6: =IF(BTCalc!G4,E6*Q6,"") | X6: =IF(BTCalc!G4,V6*W6/S6,"") | Y6: =IF(BTCalc!G4,L6*U6*R6,"") | Z6: =IF(BTCalc!G4,Y6/X6,"")
A7: (none) | D7: 0 | F7: 25 | H7: =IF(NOT(ISERROR(BTCalc!$A5)),BTCalc!R5,"") | I7: =IF(NOT(ISERROR(BTCalc!$A5)),BTCalc!S5,"") | J7: =IF(BTCalc!G5,ROUND(BTCalc!N5,3-(1+INT(LOG10(ABS(BTCalc!N5))))),"") | K7: =IF(BTCalc!G5,ROUND(BTCalc!O5,2-(1+INT(LOG10(ABS(BTCalc!O5))))),"") | L7: =IF(BTCalc!G5,ROUND(BTCalc!P5,IF(BTCalc!P5<100,IF(BTCalc!P5<10,IF(BTCalc!P5<1,3,2),1),0)),"") | M7: =IF(BTCalc!G5,ROUND(BTCalc!Q5,3-(1+INT(LOG10(ABS(BTCalc!Q5))))),"") | N7: =IF(BTCalc!G5,CHOOSE(BTCalc!$D$1,BTCalc!F5,BTCalc!E5),"") | P7: 1 | Q7: 1 | R7: 0.9 | S7: 0.9 | U7: =P7*Q7 -> 1 | V7: =IF(BTCalc!G5,P7*J7,"") | W7: =IF(BTCalc!G5,E7*Q7,"") | X7: =IF(BTCalc!G5,V7*W7/S7,"") | Y7: =IF(BTCalc!G5,L7*U7*R7,"") | Z7: =IF(BTCalc!G5,Y7/X7,"")
A8: (none) | D8: 0 | F8: 25 | H8: =IF(NOT(ISERROR(BTCalc!$A6)),BTCalc!R6,"") | I8: =IF(NOT(ISERROR(BTCalc!$A6)),BTCalc!S6,"") | J8: =IF(BTCalc!G6,ROUND(BTCalc!N6,3-(1+INT(LOG10(ABS(BTCalc!N6))))),"") | K8: =IF(BTCalc!G6,ROUND(BTCalc!O6,2-(1+INT(LOG10(ABS(BTCalc!O6))))),"") | L8: =IF(BTCalc!G6,ROUND(BTCalc!P6,IF(BTCalc!P6<100,IF(BTCalc!P6<10,IF(BTCalc!P6<1,3,2),1),0)),"") | M8: =IF(BTCalc!G6,ROUND(BTCalc!Q6,3-(1+INT(LOG10(ABS(BTCalc!Q6))))),"") | N8: =IF(BTCalc!G6,CHOOSE(BTCalc!$D$1,BTCalc!F6,BTCalc!E6),"") | P8: 1 | Q8: 1 | R8: 0.9 | S8: 0.9 | U8: =P8*Q8 -> 1 | V8: =IF(BTCalc!G6,P8*J8,"") | W8: =IF(BTCalc!G6,E8*Q8,"") | X8: =IF(BTCalc!G6,V8*W8/S8,"") | Y8: =IF(BTCalc!G6,L8*U8*R8,"") | Z8: =IF(BTCalc!G6,Y8/X8,"")
A9: (none) | D9: 0 | F9: 25 | H9: =IF(NOT(ISERROR(BTCalc!$A7)),BTCalc!R7,"") | I9: =IF(NOT(ISERROR(BTCalc!$A7)),BTCalc!S7,"") | J9: =IF(BTCalc!G7,ROUND(BTCalc!N7,3-(1+INT(LOG10(ABS(BTCalc!N7))))),"") | K9: =IF(BTCalc!G7,ROUND(BTCalc!O7,2-(1+INT(LOG10(ABS(BTCalc!O7))))),"") | L9: =IF(BTCalc!G7,ROUND(BTCalc!P7,IF(BTCalc!P7<100,IF(BTCalc!P7<10,IF(BTCalc!P7<1,3,2),1),0)),"") | M9: =IF(BTCalc!G7,ROUND(BTCalc!Q7,3-(1+INT(LOG10(ABS(BTCalc!Q7))))),"") | N9: =IF(BTCalc!G7,CHOOSE(BTCalc!$D$1,BTCalc!F7,BTCalc!E7),"") | P9: 1 | Q9: 1 | R9: 0.9 | S9: 0.9 | U9: =P9*Q9 -> 1 | V9: =IF(BTCalc!G7,P9*J9,"") | W9: =IF(BTCalc!G7,E9*Q9,"") | X9: =IF(BTCalc!G7,V9*W9/S9,"") | Y9: =IF(BTCalc!G7,L9*U9*R9,"") | Z9: =IF(BTCalc!G7,Y9/X9,"")
A10: (none) | D10: 0 | F10: 25 | H10: =IF(NOT(ISERROR(BTCalc!$A8)),BTCalc!R8,"") | I10: =IF(NOT(ISERROR(BTCalc!$A8)),BTCalc!S8,"") | J10: =IF(BTCalc!G8,ROUND(BTCalc!N8,3-(1+INT(LOG10(ABS(BTCalc!N8))))),"") | K10: =IF(BTCalc!G8,ROUND(BTCalc!O8,2-(1+INT(LOG10(ABS(BTCalc!O8))))),"") | L10: =IF(BTCalc!G8,ROUND(BTCalc!P8,IF(BTCalc!P8<100,IF(BTCalc!P8<10,IF(BTCalc!P8<1,3,2),1),0)),"") | M10: =IF(BTCalc!G8,ROUND(BTCalc!Q8,3-(1+INT(LOG10(ABS(BTCalc!Q8))))),"") | N10: =IF(BTCalc!G8,CHOOSE(BTCalc!$D$1,BTCalc!F8,BTCalc!E8),"") | P10: 1 | Q10: 1 | R10: 0.9 | S10: 0.9 | U10: =P10*Q10 -> 1 | V10: =IF(BTCalc!G8,P10*J10,"") | W10: =IF(BTCalc!G8,E10*Q10,"") | X10: =IF(BTCalc!G8,V10*W10/S10,"") | Y10: =IF(BTCalc!G8,L10*U10*R10,"") | Z10: =IF(BTCalc!G8,Y10/X10,"")
A11: (none) | D11: 0 | F11: 25 | H11: =IF(NOT(ISERROR(BTCalc!$A9)),BTCalc!R9,"") | I11: =IF(NOT(ISERROR(BTCalc!$A9)),BTCalc!S9,"") | J11: =IF(BTCalc!G9,ROUND(BTCalc!N9,3-(1+INT(LOG10(ABS(BTCalc!N9))))),"") | K11: =IF(BTCalc!G9,ROUND(BTCalc!O9,2-(1+INT(LOG10(ABS(BTCalc!O9))))),"") | L11: =IF(BTCalc!G9,ROUND(BTCalc!P9,IF(BTCalc!P9<100,IF(BTCalc!P9<10,IF(BTCalc!P9<1,3,2),1),0)),"") | M11: =IF(BTCalc!G9,ROUND(BTCalc!Q9,3-(1+INT(LOG10(ABS(BTCalc!Q9))))),"") | N11: =IF(BTCalc!G9,CHOOSE(BTCalc!$D$1,BTCalc!F9,BTCalc!E9),"") | P11: 1 | Q11: 1 | R11: 0.9 | S11: 0.9 | U11: =P11*Q11 -> 1 | V11: =IF(BTCalc!G9,P11*J11,"") | W11: =IF(BTCalc!G9,E11*Q11,"") | X11: =IF(BTCalc!G9,V11*W11/S11,"") | Y11: =IF(BTCalc!G9,L11*U11*R11,"") | Z11: =IF(BTCalc!G9,Y11/X11,"")
A12: (none) | D12: 0 | F12: 25 | H12: =IF(NOT(ISERROR(BTCalc!$A10)),BTCalc!R10,"") | I12: =IF(NOT(ISERROR(BTCalc!$A10)),BTCalc!S10,"") | J12: =IF(BTCalc!G10,ROUND(BTCalc!N10,3-(1+INT(LOG10(ABS(BTCalc!N10))))),"") | K12: =IF(BTCalc!G10,ROUND(BTCalc!O10,2-(1+INT(LOG10(ABS(BTCalc!O10))))),"") | L12: =IF(BTCalc!G10,ROUND(BTCalc!P10,IF(BTCalc!P10<100,IF(BTCalc!P10<10,IF(BTCalc!P10<1,3,2),1),0)),"") | M12: =IF(BTCalc!G10,ROUND(BTCalc!Q10,3-(1+INT(LOG10(ABS(BTCalc!Q10))))),"") | N12: =IF(BTCalc!G10,CHOOSE(BTCalc!$D$1,BTCalc!F10,BTCalc!E10),"") | P12: 1 | Q12: 1 | R12: 0.9 | S12: 0.9 | U12: =P12*Q12 -> 1 | V12: =IF(BTCalc!G10,P12*J12,"") | W12: =IF(BTCalc!G10,E12*Q12,"") | X12: =IF(BTCalc!G10,V12*W12/S12,"") | Y12: =IF(BTCalc!G10,L12*U12*R12,"") | Z12: =IF(BTCalc!G10,Y12/X12,"")
A13: (none) | D13: 0 | F13: 25 | H13: =IF(NOT(ISERROR(BTCalc!$A11)),BTCalc!R11,"") | I13: =IF(NOT(ISERROR(BTCalc!$A11)),BTCalc!S11,"") | J13: =IF(BTCalc!G11,ROUND(BTCalc!N11,3-(1+INT(LOG10(ABS(BTCalc!N11))))),"") | K13: =IF(BTCalc!G11,ROUND(BTCalc!O11,2-(1+INT(LOG10(ABS(BTCalc!O11))))),"") | L13: =IF(BTCalc!G11,ROUND(BTCalc!P11,IF(BTCalc!P11<100,IF(BTCalc!P11<10,IF(BTCalc!P11<1,3,2),1),0)),"") | M13: =IF(BTCalc!G11,ROUND(BTCalc!Q11,3-(1+INT(LOG10(ABS(BTCalc!Q11))))),"") | N13: =IF(BTCalc!G11,CHOOSE(BTCalc!$D$1,BTCalc!F11,BTCalc!E11),"") | P13: 1 | Q13: 1 | R13: 0.9 | S13: 0.9 | U13: =P13*Q13 -> 1 | V13: =IF(BTCalc!G11,P13*J13,"") | W13: =IF(BTCalc!G11,E13*Q13,"") | X13: =IF(BTCalc!G11,V13*W13/S13,"") | Y13: =IF(BTCalc!G11,L13*U13*R13,"") | Z13: =IF(BTCalc!G11,Y13/X13,"")
A14: (none) | D14: 0 | F14: 25 | H14: =IF(NOT(ISERROR(BTCalc!$A12)),BTCalc!R12,"") | I14: =IF(NOT(ISERROR(BTCalc!$A12)),BTCalc!S12,"") | J14: =IF(BTCalc!G12,ROUND(BTCalc!N12,3-(1+INT(LOG10(ABS(BTCalc!N12))))),"") | K14: =IF(BTCalc!G12,ROUND(BTCalc!O12,2-(1+INT(LOG10(ABS(BTCalc!O12))))),"") | L14: =IF(BTCalc!G12,ROUND(BTCalc!P12,IF(BTCalc!P12<100,IF(BTCalc!P12<10,IF(BTCalc!P12<1,3,2),1),0)),"") | M14: =IF(BTCalc!G12,ROUND(BTCalc!Q12,3-(1+INT(LOG10(ABS(BTCalc!Q12))))),"") | N14: =IF(BTCalc!G12,CHOOSE(BTCalc!$D$1,BTCalc!F12,BTCalc!E12),"") | P14: 1 | Q14: 1 | R14: 0.9 | S14: 0.9 | U14: =P14*Q14 -> 1 | V14: =IF(BTCalc!G12,P14*J14,"") | W14: =IF(BTCalc!G12,E14*Q14,"") | X14: =IF(BTCalc!G12,V14*W14/S14,"") | Y14: =IF(BTCalc!G12,L14*U14*R14,"") | Z14: =IF(BTCalc!G12,Y14/X14,"")
A15: (none) | D15: 0 | F15: 25 | H15: =IF(NOT(ISERROR(BTCalc!$A13)),BTCalc!R13,"") | I15: =IF(NOT(ISERROR(BTCalc!$A13)),BTCalc!S13,"") | J15: =IF(BTCalc!G13,ROUND(BTCalc!N13,3-(1+INT(LOG10(ABS(BTCalc!N13))))),"") | K15: =IF(BTCalc!G13,ROUND(BTCalc!O13,2-(1+INT(LOG10(ABS(BTCalc!O13))))),"") | L15: =IF(BTCalc!G13,ROUND(BTCalc!P13,IF(BTCalc!P13<100,IF(BTCalc!P13<10,IF(BTCalc!P13<1,3,2),1),0)),"") | M15: =IF(BTCalc!G13,ROUND(BTCalc!Q13,3-(1+INT(LOG10(ABS(BTCalc!Q13))))),"") | N15: =IF(BTCalc!G13,CHOOSE(BTCalc!$D$1,BTCalc!F13,BTCalc!E13),"") | P15: 1 | Q15: 1 | R15: 0.9 | S15: 0.9 | U15: =P15*Q15 -> 1 | V15: =IF(BTCalc!G13,P15*J15,"") | W15: =IF(BTCalc!G13,E15*Q15,"") | X15: =IF(BTCalc!G13,V15*W15/S15,"") | Y15: =IF(BTCalc!G13,L15*U15*R15,"") | Z15: =IF(BTCalc!G13,Y15/X15,"")
A16: (none) | D16: 0 | F16: 25 | H16: =IF(NOT(ISERROR(BTCalc!$A14)),BTCalc!R14,"") | I16: =IF(NOT(ISERROR(BTCalc!$A14)),BTCalc!S14,"") | J16: =IF(BTCalc!G14,ROUND(BTCalc!N14,3-(1+INT(LOG10(ABS(BTCalc!N14))))),"") | K16: =IF(BTCalc!G14,ROUND(BTCalc!O14,2-(1+INT(LOG10(ABS(BTCalc!O14))))),"") | L16: =IF(BTCalc!G14,ROUND(BTCalc!P14,IF(BTCalc!P14<100,IF(BTCalc!P14<10,IF(BTCalc!P14<1,3,2),1),0)),"") | M16: =IF(BTCalc!G14,ROUND(BTCalc!Q14,3-(1+INT(LOG10(ABS(BTCalc!Q14))))),"") | N16: =IF(BTCalc!G14,CHOOSE(BTCalc!$D$1,BTCalc!F14,BTCalc!E14),"") | P16: 1 | Q16: 1 | R16: 0.9 | S16: 0.9 | U16: =P16*Q16 -> 1 | V16: =IF(BTCalc!G14,P16*J16,"") | W16: =IF(BTCalc!G14,E16*Q16,"") | X16: =IF(BTCalc!G14,V16*W16/S16,"") | Y16: =IF(BTCalc!G14,L16*U16*R16,"") | Z16: =IF(BTCalc!G14,Y16/X16,"")
A17: (none) | D17: 0 | F17: 25 | H17: =IF(NOT(ISERROR(BTCalc!$A15)),BTCalc!R15,"") | I17: =IF(NOT(ISERROR(BTCalc!$A15)),BTCalc!S15,"") | J17: =IF(BTCalc!G15,ROUND(BTCalc!N15,3-(1+INT(LOG10(ABS(BTCalc!N15))))),"") | K17: =IF(BTCalc!G15,ROUND(BTCalc!O15,2-(1+INT(LOG10(ABS(BTCalc!O15))))),"") | L17: =IF(BTCalc!G15,ROUND(BTCalc!P15,IF(BTCalc!P15<100,IF(BTCalc!P15<10,IF(BTCalc!P15<1,3,2),1),0)),"") | M17: =IF(BTCalc!G15,ROUND(BTCalc!Q15,3-(1+INT(LOG10(ABS(BTCalc!Q15))))),"") | N17: =IF(BTCalc!G15,CHOOSE(BTCalc!$D$1,BTCalc!F15,BTCalc!E15),"") | P17: 1 | Q17: 1 | R17: 0.9 | S17: 0.9 | U17: =P17*Q17 -> 1 | V17: =IF(BTCalc!G15,P17*J17,"") | W17: =IF(BTCalc!G15,E17*Q17,"") | X17: =IF(BTCalc!G15,V17*W17/S17,"") | Y17: =IF(BTCalc!G15,L17*U17*R17,"") | Z17: =IF(BTCalc!G15,Y17/X17,"")
... A35: (none) | D35: 0 | F35: 25 | H35: =IF(NOT(ISERROR(BTCalc!$A33)),BTCalc!R33,"") | I35: =IF(NOT(ISERROR(BTCalc!$A33)),BTCalc!S33,"") | J35: =IF(BTCalc!G33,ROUND(BTCalc!N33,3-(1+INT(LOG10(ABS(BTCalc!N33))))),"") | K35: =IF(BTCalc!G33,ROUND(BTCalc!O33,2-(1+INT(LOG10(ABS(BTCalc!O33))))),"") | L35: =IF(BTCalc!G33,ROUND(BTCalc!P33,IF(BTCalc!P33<100,IF(BTCalc!P33<10,IF(BTCalc!P33<1,3,2),1),0)),"") | M35: =IF(BTCalc!G33,ROUND(BTCalc!Q33,3-(1+INT(LOG10(ABS(BTCalc!Q33))))),"") | N35: =IF(BTCalc!G33,CHOOSE(BTCalc!$D$1,BTCalc!F33,BTCalc!E33),"") | P35: 1 | Q35: 1 | R35: 0.9 | S35: 0.9 | U35: =P35*Q35 -> 1 | V35: =IF(BTCalc!G33,P35*J35,"") | W35: =IF(BTCalc!G33,E35*Q35,"") | X35: =IF(BTCalc!G33,V35*W35/S35,"") | Y35: =IF(BTCalc!G33,L35*U35*R35,"") | Z35: =IF(BTCalc!G33,Y35/X35,"")

Sheet BTCalc
D1: =IF('Bulk Table'!F5="Tj (ºC)",1,2) -> 2 | R1: 5 | S1: 6 | T1: 7 | U1: 8 | V1: 9 | W1: 10 | X1: 11 | Y1: 12 | Z1: 13 | AA1: 14 | AB1: 15 | AC1: 16 | AD1: 17 | AE1: 18 | AF1: 1 | AG1: 2 | AH1: 3 | AI1: 4 | AJ1: 5 | AK1: 6 | AL1: 7 | AM1: 8 | AN1: 9 | AO1: 10 | AP1: 11 | AQ1: 12 | AR1: 13 | AS1: 14 | AT1: 15 | AU1: 16 | AV1: 17 | AW1: 18 | AX1: 19 | AY1: 20 | AZ1: 21 | BA1: 22 | BB1: 23 | BC1: 24 | BD1: 25 | BE1: 26 | BF1: 27 | BG1: 28 | BH1: 29 | BI1: 30 | BJ1: 31 | BK1: 32 | BL1: 33 | BM1: 34 | BN1: 35 | BO1: 36 | BP1: 37 | BQ1: 38 | BR1: 39 | BS1: 40 | BT1: 41 | BU1: 42 | BV1: 43 | BW1: 44 | BX1: 45 | BY1: 46 | BZ1: 47 | CA1: 48 | CB1: 49 | CC1: 50 | CD1: 51 | CE1: 52 | CF1: 53 | CG1: 54 | CH1: 55
R2: Currents | T2: %LF Polynomial Fit | X2: Vf Polynomial Fit | AB2: Thermal Parameters
A3: Model Index | B3: Flux Value | C3: Current (A) | D3: Temp Input | E3: Tj (ºC) | F3: Tsp (ºC) | G3: Valid Current? | H3: Invalid Flux? | I3: Flux Override? | J3: Calc %LF | K3: Calc Vf | L3: Power for Temp Calc | M3: LF Factor for Temp | N3: LED Vf | O3: LED Power | P3: LED Flux | Q3: LED LPW | R3: Min | S3: Max | T3: x^3 | U3: x^2 | V3: x | W3: a | X3: x^3 | Y3: x^2 | Z3: x | AA3: a | AB3: %LF vs Tj Slope | AC3: Tj @ 100% LF | AD3: Temp Coeff of V | AE3: Thermal Resistance | AF3: Flux Bins
A4: =VLOOKUP('Bulk Table'!$A6,NameIndexArray,2,FALSE)-2 -> #N/A | B4: =IF(I4,'Bulk Table'!$C6,MID('Bulk Table'!$B6,FIND("(",'Bulk Table'!$B6)+1,FIND(")",'Bulk Table'!$B6)-FIND("(",'Bulk Table'!$B6)-1)) -> #VALUE! | C4: ='Bulk Table'!$E6 -> 0 | D4: ='Bulk Table'!$F6 -> 25 | E4: =CHOOSE($D$1,D4,D4+L4*AE4) -> #N/A | F4: =CHOOSE($D$1,D4-L4*AE4,D4) -> 25 | G4: =AND(IF(ISERROR($R4),FALSE,NOT(OR($C4<$R4,$C4>$S4))),NOT(H4)) -> FALSE | H4: =IF(I4,FALSE,ISERROR(HLOOKUP('Bulk Table'!B6,$AF4:$CH4,1,FALSE))) -> TRUE | I4: =NOT('Bulk Table'!$C6=0) -> FALSE | J4: =T4*$C4^3+U4*$C4^2+V4*$C4+W4 -> #N/A | K4: =X4*$C4^3+Y4*$C4^2+Z4*$C4+AA4+'Bulk Table'!$D6 -> #N/A | L4: =C4*(K4+(D4-AC4)*AD4) -> #N/A | M4: =1+(E4-AC4)*AB4 -> #N/A | N4: =K4+(E4-AC4)*AD4 -> #N/A | O4: =N4*C4 -> #N/A | P4: =J4*M4*B4 -> #N/A | Q4: =P4/(N4*C4) -> #N/A | R4: {=INDEX(ModelsData,$A4*2+1,R$1)} -> #N/A | S4: {=INDEX(ModelsData,$A4*2+1,S$1)} -> #N/A | T4: {=INDEX(ModelsData,$A4*2+1,T$1)} -> #N/A | U4: {=INDEX(ModelsData,$A4*2+1,U$1)} -> #N/A | V4: {=INDEX(ModelsData,$A4*2+1,V$1)} -> #N/A | W4: {=INDEX(ModelsData,$A4*2+1,W$1)} -> #N/A | X4: {=INDEX(ModelsData,$A4*2+1,X$1)} -> #N/A | Y4: {=INDEX(ModelsData,$A4*2+1,Y$1)} -> #N/A | ... AE4: {=INDEX(ModelsData,$A4*2+1,AE$1)} -> #N/A | AF4: {=IF(INDEX(FluxBins,$A4*2+1,AF$1)="","",INDEX(FluxBins,$A4*2+1,AF$1)&" ("&INDEX(FluxBins,$A4*2+2,AF$1)&")")} -> #N/A | AG4: {=IF(INDEX(FluxBins,$A4*2+1,AG$1)="","",INDEX(FluxBins,$A4*2+1,AG$1)&" ("&INDEX(FluxBins,$A4*2+2,AG$1)&")")} -> #N/A | AH4: {=IF(INDEX(FluxBins,$A4*2+1,AH$1)="","",INDEX(FluxBins,$A4*2+1,AH$1)&" ("&INDEX(FluxBins,$A4*2+2,AH$1)&")")} -> #N/A | AI4: {=IF(INDEX(FluxBins,$A4*2+1,AI$1)="","",INDEX(FluxBins,$A4*2+1,AI$1)&" ("&INDEX(FluxBins,$A4*2+2,AI$1)&")")} -> #N/A | AJ4: {=IF(INDEX(FluxBins,$A4*2+1,AJ$1)="","",INDEX(FluxBins,$A4*2+1,AJ$1)&" ("&INDEX(FluxBins,$A4*2+2,AJ$1)&")")} -> #N/A | AK4: {=IF(INDEX(FluxBins,$A4*2+1,AK$1)="","",INDEX(FluxBins,$A4*2+1,AK$1)&" ("&INDEX(FluxBins,$A4*2+2,AK$1)&")")} -> #N/A | AL4: {=IF(INDEX(FluxBins,$A4*2+1,AL$1)="","",INDEX(FluxBins,$A4*2+1,AL$1)&" ("&INDEX(FluxBins,$A4*2+2,AL$1)&")")} -> #N/A | AM4: {=IF(INDEX(FluxBins,$A4*2+1,AM$1)="","",INDEX(FluxBins,$A4*2+1,AM$1)&" ("&INDEX(FluxBins,$A4*2+2,AM$1)&")")} -> #N/A | ... CH4: {=IF(INDEX(FluxBins,$A4*2+1,CH$1)="","",INDEX(FluxBins,$A4*2+1,CH$1)&" ("&INDEX(FluxBins,$A4*2+2,CH$1)&")")} -> #N/A
A5: =VLOOKUP('Bulk Table'!$A7,NameIndexArray,2,FALSE)-2 -> #N/A | B5: =IF(I5,'Bulk Table'!$C7,MID('Bulk Table'!$B7,FIND("(",'Bulk Table'!$B7)+1,FIND(")",'Bulk Table'!$B7)-FIND("(",'Bulk Table'!$B7)-1)) -> #VALUE! | C5: ='Bulk Table'!$E7 -> 0 | D5: ='Bulk Table'!$F7 -> 25 | E5: =CHOOSE($D$1,D5,D5+L5*AE5) -> #N/A | F5: =CHOOSE($D$1,D5-L5*AE5,D5) -> 25 | G5: =AND(IF(ISERROR($R5),FALSE,NOT(OR($C5<$R5,$C5>$S5))),NOT(H5)) -> FALSE | H5: =IF(I5,FALSE,ISERROR(HLOOKUP('Bulk Table'!B7,$AF5:$CH5,1,FALSE))) -> TRUE | I5: =NOT('Bulk Table'!$C7=0) -> FALSE | J5: =T5*$C5^3+U5*$C5^2+V5*$C5+W5 -> #N/A | K5: =X5*$C5^3+Y5*$C5^2+Z5*$C5+AA5+'Bulk Table'!$D7 -> #N/A | L5: =C5*(K5+(D5-AC5)*AD5) -> #N/A | M5: =1+(E5-AC5)*AB5 -> #N/A | N5: =K5+(E5-AC5)*AD5 -> #N/A | O5: =N5*C5 -> #N/A | P5: =J5*M5*B5 -> #N/A | Q5: =P5/(N5*C5) -> #N/A | R5: {=INDEX(ModelsData,$A5*2+1,R$1)} -> #N/A | S5: {=INDEX(ModelsData,$A5*2+1,S$1)} -> #N/A | T5: {=INDEX(ModelsData,$A5*2+1,T$1)} -> #N/A | U5: {=INDEX(ModelsData,$A5*2+1,U$1)} -> #N/A | V5: {=INDEX(ModelsData,$A5*2+1,V$1)} -> #N/A | W5: {=INDEX(ModelsData,$A5*2+1,W$1)} -> #N/A | X5: {=INDEX(ModelsData,$A5*2+1,X$1)} -> #N/A | Y5: {=INDEX(ModelsData,$A5*2+1,Y$1)} -> #N/A | ... AE5: {=INDEX(ModelsData,$A5*2+1,AE$1)} -> #N/A | AF5: {=IF(INDEX(FluxBins,$A5*2+1,AF$1)="","",INDEX(FluxBins,$A5*2+1,AF$1)&" ("&INDEX(FluxBins,$A5*2+2,AF$1)&")")} -> #N/A | AG5: {=IF(INDEX(FluxBins,$A5*2+1,AG$1)="","",INDEX(FluxBins,$A5*2+1,AG$1)&" ("&INDEX(FluxBins,$A5*2+2,AG$1)&")")} -> #N/A | AH5: {=IF(INDEX(FluxBins,$A5*2+1,AH$1)="","",INDEX(FluxBins,$A5*2+1,AH$1)&" ("&INDEX(FluxBins,$A5*2+2,AH$1)&")")} -> #N/A | AI5: {=IF(INDEX(FluxBins,$A5*2+1,AI$1)="","",INDEX(FluxBins,$A5*2+1,AI$1)&" ("&INDEX(FluxBins,$A5*2+2,AI$1)&")")} -> #N/A | AJ5: {=IF(INDEX(FluxBins,$A5*2+1,AJ$1)="","",INDEX(FluxBins,$A5*2+1,AJ$1)&" ("&INDEX(FluxBins,$A5*2+2,AJ$1)&")")} -> #N/A | AK5: {=IF(INDEX(FluxBins,$A5*2+1,AK$1)="","",INDEX(FluxBins,$A5*2+1,AK$1)&" ("&INDEX(FluxBins,$A5*2+2,AK$1)&")")} -> #N/A | AL5: {=IF(INDEX(FluxBins,$A5*2+1,AL$1)="","",INDEX(FluxBins,$A5*2+1,AL$1)&" ("&INDEX(FluxBins,$A5*2+2,AL$1)&")")} -> #N/A | AM5: {=IF(INDEX(FluxBins,$A5*2+1,AM$1)="","",INDEX(FluxBins,$A5*2+1,AM$1)&" ("&INDEX(FluxBins,$A5*2+2,AM$1)&")")} -> #N/A | ... CH5: {=IF(INDEX(FluxBins,$A5*2+1,CH$1)="","",INDEX(FluxBins,$A5*2+1,CH$1)&" ("&INDEX(FluxBins,$A5*2+2,CH$1)&")")} -> #N/A
A6: =VLOOKUP('Bulk Table'!$A8,NameIndexArray,2,FALSE)-2 -> #N/A | B6: =IF(I6,'Bulk Table'!$C8,MID('Bulk Table'!$B8,FIND("(",'Bulk Table'!$B8)+1,FIND(")",'Bulk Table'!$B8)-FIND("(",'Bulk Table'!$B8)-1)) -> #VALUE! | C6: ='Bulk Table'!$E8 -> 0 | D6: ='Bulk Table'!$F8 -> 25 | E6: =CHOOSE($D$1,D6,D6+L6*AE6) -> #N/A | F6: =CHOOSE($D$1,D6-L6*AE6,D6) -> 25 | G6: =AND(IF(ISERROR($R6),FALSE,NOT(OR($C6<$R6,$C6>$S6))),NOT(H6)) -> FALSE | H6: =IF(I6,FALSE,ISERROR(HLOOKUP('Bulk Table'!B8,$AF6:$CH6,1,FALSE))) -> TRUE | I6: =NOT('Bulk Table'!$C8=0) -> FALSE | J6: =T6*$C6^3+U6*$C6^2+V6*$C6+W6 -> #N/A | K6: =X6*$C6^3+Y6*$C6^2+Z6*$C6+AA6+'Bulk Table'!$D8 -> #N/A | L6: =C6*(K6+(D6-AC6)*AD6) -> #N/A | M6: =1+(E6-AC6)*AB6 -> #N/A | N6: =K6+(E6-AC6)*AD6 -> #N/A | O6: =N6*C6 -> #N/A | P6: =J6*M6*B6 -> #N/A | Q6: =P6/(N6*C6) -> #N/A | R6: {=INDEX(ModelsData,$A6*2+1,R$1)} -> #N/A | S6: {=INDEX(ModelsData,$A6*2+1,S$1)} -> #N/A | T6: {=INDEX(ModelsData,$A6*2+1,T$1)} -> #N/A | U6: {=INDEX(ModelsData,$A6*2+1,U$1)} -> #N/A | V6: {=INDEX(ModelsData,$A6*2+1,V$1)} -> #N/A | W6: {=INDEX(ModelsData,$A6*2+1,W$1)} -> #N/A | X6: {=INDEX(ModelsData,$A6*2+1,X$1)} -> #N/A | Y6: {=INDEX(ModelsData,$A6*2+1,Y$1)} -> #N/A | ... AE6: {=INDEX(ModelsData,$A6*2+1,AE$1)} -> #N/A | AF6: {=IF(INDEX(FluxBins,$A6*2+1,AF$1)="","",INDEX(FluxBins,$A6*2+1,AF$1)&" ("&INDEX(FluxBins,$A6*2+2,AF$1)&")")} -> #N/A | AG6: {=IF(INDEX(FluxBins,$A6*2+1,AG$1)="","",INDEX(FluxBins,$A6*2+1,AG$1)&" ("&INDEX(FluxBins,$A6*2+2,AG$1)&")")} -> #N/A | AH6: {=IF(INDEX(FluxBins,$A6*2+1,AH$1)="","",INDEX(FluxBins,$A6*2+1,AH$1)&" ("&INDEX(FluxBins,$A6*2+2,AH$1)&")")} -> #N/A | AI6: {=IF(INDEX(FluxBins,$A6*2+1,AI$1)="","",INDEX(FluxBins,$A6*2+1,AI$1)&" ("&INDEX(FluxBins,$A6*2+2,AI$1)&")")} -> #N/A | AJ6: {=IF(INDEX(FluxBins,$A6*2+1,AJ$1)="","",INDEX(FluxBins,$A6*2+1,AJ$1)&" ("&INDEX(FluxBins,$A6*2+2,AJ$1)&")")} -> #N/A | AK6: {=IF(INDEX(FluxBins,$A6*2+1,AK$1)="","",INDEX(FluxBins,$A6*2+1,AK$1)&" ("&INDEX(FluxBins,$A6*2+2,AK$1)&")")} -> #N/A | AL6: {=IF(INDEX(FluxBins,$A6*2+1,AL$1)="","",INDEX(FluxBins,$A6*2+1,AL$1)&" ("&INDEX(FluxBins,$A6*2+2,AL$1)&")")} -> #N/A | AM6: {=IF(INDEX(FluxBins,$A6*2+1,AM$1)="","",INDEX(FluxBins,$A6*2+1,AM$1)&" ("&INDEX(FluxBins,$A6*2+2,AM$1)&")")} -> #N/A | ... CH6: {=IF(INDEX(FluxBins,$A6*2+1,CH$1)="","",INDEX(FluxBins,$A6*2+1,CH$1)&" ("&INDEX(FluxBins,$A6*2+2,CH$1)&")")} -> #N/A
A7: =VLOOKUP('Bulk Table'!$A9,NameIndexArray,2,FALSE)-2 -> #N/A | B7: =IF(I7,'Bulk Table'!$C9,MID('Bulk Table'!$B9,FIND("(",'Bulk Table'!$B9)+1,FIND(")",'Bulk Table'!$B9)-FIND("(",'Bulk Table'!$B9)-1)) -> #VALUE! | C7: ='Bulk Table'!$E9 -> 0 | D7: ='Bulk Table'!$F9 -> 25 | E7: =CHOOSE($D$1,D7,D7+L7*AE7) -> #N/A | F7: =CHOOSE($D$1,D7-L7*AE7,D7) -> 25 | G7: =AND(IF(ISERROR($R7),FALSE,NOT(OR($C7<$R7,$C7>$S7))),NOT(H7)) -> FALSE | H7: =IF(I7,FALSE,ISERROR(HLOOKUP('Bulk Table'!B9,$AF7:$CH7,1,FALSE))) -> TRUE | I7: =NOT('Bulk Table'!$C9=0) -> FALSE | J7: =T7*$C7^3+U7*$C7^2+V7*$C7+W7 -> #N/A | K7: =X7*$C7^3+Y7*$C7^2+Z7*$C7+AA7+'Bulk Table'!$D9 -> #N/A | L7: =C7*(K7+(D7-AC7)*AD7) -> #N/A | M7: =1+(E7-AC7)*AB7 -> #N/A | N7: =K7+(E7-AC7)*AD7 -> #N/A | O7: =N7*C7 -> #N/A | P7: =J7*M7*B7 -> #N/A | Q7: =P7/(N7*C7) -> #N/A | R7: {=INDEX(ModelsData,$A7*2+1,R$1)} -> #N/A | S7: {=INDEX(ModelsData,$A7*2+1,S$1)} -> #N/A | T7: {=INDEX(ModelsData,$A7*2+1,T$1)} -> #N/A | U7: {=INDEX(ModelsData,$A7*2+1,U$1)} -> #N/A | V7: {=INDEX(ModelsData,$A7*2+1,V$1)} -> #N/A | W7: {=INDEX(ModelsData,$A7*2+1,W$1)} -> #N/A | X7: {=INDEX(ModelsData,$A7*2+1,X$1)} -> #N/A | Y7: {=INDEX(ModelsData,$A7*2+1,Y$1)} -> #N/A | ... AE7: {=INDEX(ModelsData,$A7*2+1,AE$1)} -> #N/A | AF7: {=IF(INDEX(FluxBins,$A7*2+1,AF$1)="","",INDEX(FluxBins,$A7*2+1,AF$1)&" ("&INDEX(FluxBins,$A7*2+2,AF$1)&")")} -> #N/A | AG7: {=IF(INDEX(FluxBins,$A7*2+1,AG$1)="","",INDEX(FluxBins,$A7*2+1,AG$1)&" ("&INDEX(FluxBins,$A7*2+2,AG$1)&")")} -> #N/A | AH7: {=IF(INDEX(FluxBins,$A7*2+1,AH$1)="","",INDEX(FluxBins,$A7*2+1,AH$1)&" ("&INDEX(FluxBins,$A7*2+2,AH$1)&")")} -> #N/A | AI7: {=IF(INDEX(FluxBins,$A7*2+1,AI$1)="","",INDEX(FluxBins,$A7*2+1,AI$1)&" ("&INDEX(FluxBins,$A7*2+2,AI$1)&")")} -> #N/A | AJ7: {=IF(INDEX(FluxBins,$A7*2+1,AJ$1)="","",INDEX(FluxBins,$A7*2+1,AJ$1)&" ("&INDEX(FluxBins,$A7*2+2,AJ$1)&")")} -> #N/A | AK7: {=IF(INDEX(FluxBins,$A7*2+1,AK$1)="","",INDEX(FluxBins,$A7*2+1,AK$1)&" ("&INDEX(FluxBins,$A7*2+2,AK$1)&")")} -> #N/A | AL7: {=IF(INDEX(FluxBins,$A7*2+1,AL$1)="","",INDEX(FluxBins,$A7*2+1,AL$1)&" ("&INDEX(FluxBins,$A7*2+2,AL$1)&")")} -> #N/A | AM7: {=IF(INDEX(FluxBins,$A7*2+1,AM$1)="","",INDEX(FluxBins,$A7*2+1,AM$1)&" ("&INDEX(FluxBins,$A7*2+2,AM$1)&")")} -> #N/A | ... CH7: {=IF(INDEX(FluxBins,$A7*2+1,CH$1)="","",INDEX(FluxBins,$A7*2+1,CH$1)&" ("&INDEX(FluxBins,$A7*2+2,CH$1)&")")} -> #N/A
A8: =VLOOKUP('Bulk Table'!$A10,NameIndexArray,2,FALSE)-2 -> #N/A | B8: =IF(I8,'Bulk Table'!$C10,MID('Bulk Table'!$B10,FIND("(",'Bulk Table'!$B10)+1,FIND(")",'Bulk Table'!$B10)-FIND("(",'Bulk Table'!$B10)-1)) -> #VALUE! | C8: ='Bulk Table'!$E10 -> 0 | D8: ='Bulk Table'!$F10 -> 25 | E8: =CHOOSE($D$1,D8,D8+L8*AE8) -> #N/A | F8: =CHOOSE($D$1,D8-L8*AE8,D8) -> 25 | G8: =AND(IF(ISERROR($R8),FALSE,NOT(OR($C8<$R8,$C8>$S8))),NOT(H8)) -> FALSE | H8: =IF(I8,FALSE,ISERROR(HLOOKUP('Bulk Table'!B10,$AF8:$CH8,1,FALSE))) -> TRUE | I8: =NOT('Bulk Table'!$C10=0) -> FALSE | J8: =T8*$C8^3+U8*$C8^2+V8*$C8+W8 -> #N/A | K8: =X8*$C8^3+Y8*$C8^2+Z8*$C8+AA8+'Bulk Table'!$D10 -> #N/A | L8: =C8*(K8+(D8-AC8)*AD8) -> #N/A | M8: =1+(E8-AC8)*AB8 -> #N/A | N8: =K8+(E8-AC8)*AD8 -> #N/A | O8: =N8*C8 -> #N/A | P8: =J8*M8*B8 -> #N/A | Q8: =P8/(N8*C8) -> #N/A | R8: {=INDEX(ModelsData,$A8*2+1,R$1)} -> #N/A | S8: {=INDEX(ModelsData,$A8*2+1,S$1)} -> #N/A | T8: {=INDEX(ModelsData,$A8*2+1,T$1)} -> #N/A | U8: {=INDEX(ModelsData,$A8*2+1,U$1)} -> #N/A | V8: {=INDEX(ModelsData,$A8*2+1,V$1)} -> #N/A | W8: {=INDEX(ModelsData,$A8*2+1,W$1)} -> #N/A | X8: {=INDEX(ModelsData,$A8*2+1,X$1)} -> #N/A | Y8: {=INDEX(ModelsData,$A8*2+1,Y$1)} -> #N/A | ... AE8: {=INDEX(ModelsData,$A8*2+1,AE$1)} -> #N/A | AF8: {=IF(INDEX(FluxBins,$A8*2+1,AF$1)="","",INDEX(FluxBins,$A8*2+1,AF$1)&" ("&INDEX(FluxBins,$A8*2+2,AF$1)&")")} -> #N/A | AG8: {=IF(INDEX(FluxBins,$A8*2+1,AG$1)="","",INDEX(FluxBins,$A8*2+1,AG$1)&" ("&INDEX(FluxBins,$A8*2+2,AG$1)&")")} -> #N/A | AH8: {=IF(INDEX(FluxBins,$A8*2+1,AH$1)="","",INDEX(FluxBins,$A8*2+1,AH$1)&" ("&INDEX(FluxBins,$A8*2+2,AH$1)&")")} -> #N/A | AI8: {=IF(INDEX(FluxBins,$A8*2+1,AI$1)="","",INDEX(FluxBins,$A8*2+1,AI$1)&" ("&INDEX(FluxBins,$A8*2+2,AI$1)&")")} -> #N/A | AJ8: {=IF(INDEX(FluxBins,$A8*2+1,AJ$1)="","",INDEX(FluxBins,$A8*2+1,AJ$1)&" ("&INDEX(FluxBins,$A8*2+2,AJ$1)&")")} -> #N/A | AK8: {=IF(INDEX(FluxBins,$A8*2+1,AK$1)="","",INDEX(FluxBins,$A8*2+1,AK$1)&" ("&INDEX(FluxBins,$A8*2+2,AK$1)&")")} -> #N/A | AL8: {=IF(INDEX(FluxBins,$A8*2+1,AL$1)="","",INDEX(FluxBins,$A8*2+1,AL$1)&" ("&INDEX(FluxBins,$A8*2+2,AL$1)&")")} -> #N/A | AM8: {=IF(INDEX(FluxBins,$A8*2+1,AM$1)="","",INDEX(FluxBins,$A8*2+1,AM$1)&" ("&INDEX(FluxBins,$A8*2+2,AM$1)&")")} -> #N/A | ... CH8: {=IF(INDEX(FluxBins,$A8*2+1,CH$1)="","",INDEX(FluxBins,$A8*2+1,CH$1)&" ("&INDEX(FluxBins,$A8*2+2,CH$1)&")")} -> #N/A
A9: =VLOOKUP('Bulk Table'!$A11,NameIndexArray,2,FALSE)-2 -> #N/A | B9: =IF(I9,'Bulk Table'!$C11,MID('Bulk Table'!$B11,FIND("(",'Bulk Table'!$B11)+1,FIND(")",'Bulk Table'!$B11)-FIND("(",'Bulk Table'!$B11)-1)) -> #VALUE! | C9: ='Bulk Table'!$E11 -> 0 | D9: ='Bulk Table'!$F11 -> 25 | E9: =CHOOSE($D$1,D9,D9+L9*AE9) -> #N/A | F9: =CHOOSE($D$1,D9-L9*AE9,D9) -> 25 | G9: =AND(IF(ISERROR($R9),FALSE,NOT(OR($C9<$R9,$C9>$S9))),NOT(H9)) -> FALSE | H9: =IF(I9,FALSE,ISERROR(HLOOKUP('Bulk Table'!B11,$AF9:$CH9,1,FALSE))) -> TRUE | I9: =NOT('Bulk Table'!$C11=0) -> FALSE | J9: =T9*$C9^3+U9*$C9^2+V9*$C9+W9 -> #N/A | K9: =X9*$C9^3+Y9*$C9^2+Z9*$C9+AA9+'Bulk Table'!$D11 -> #N/A | L9: =C9*(K9+(D9-AC9)*AD9) -> #N/A | M9: =1+(E9-AC9)*AB9 -> #N/A | N9: =K9+(E9-AC9)*AD9 -> #N/A | O9: =N9*C9 -> #N/A | P9: =J9*M9*B9 -> #N/A | Q9: =P9/(N9*C9) -> #N/A | R9: {=INDEX(ModelsData,$A9*2+1,R$1)} -> #N/A | S9: {=INDEX(ModelsData,$A9*2+1,S$1)} -> #N/A | T9: {=INDEX(ModelsData,$A9*2+1,T$1)} -> #N/A | U9: {=INDEX(ModelsData,$A9*2+1,U$1)} -> #N/A | V9: {=INDEX(ModelsData,$A9*2+1,V$1)} -> #N/A | W9: {=INDEX(ModelsData,$A9*2+1,W$1)} -> #N/A | X9: {=INDEX(ModelsData,$A9*2+1,X$1)} -> #N/A | Y9: {=INDEX(ModelsData,$A9*2+1,Y$1)} -> #N/A | ... AE9: {=INDEX(ModelsData,$A9*2+1,AE$1)} -> #N/A | AF9: {=IF(INDEX(FluxBins,$A9*2+1,AF$1)="","",INDEX(FluxBins,$A9*2+1,AF$1)&" ("&INDEX(FluxBins,$A9*2+2,AF$1)&")")} -> #N/A | AG9: {=IF(INDEX(FluxBins,$A9*2+1,AG$1)="","",INDEX(FluxBins,$A9*2+1,AG$1)&" ("&INDEX(FluxBins,$A9*2+2,AG$1)&")")} -> #N/A | AH9: {=IF(INDEX(FluxBins,$A9*2+1,AH$1)="","",INDEX(FluxBins,$A9*2+1,AH$1)&" ("&INDEX(FluxBins,$A9*2+2,AH$1)&")")} -> #N/A | AI9: {=IF(INDEX(FluxBins,$A9*2+1,AI$1)="","",INDEX(FluxBins,$A9*2+1,AI$1)&" ("&INDEX(FluxBins,$A9*2+2,AI$1)&")")} -> #N/A | AJ9: {=IF(INDEX(FluxBins,$A9*2+1,AJ$1)="","",INDEX(FluxBins,$A9*2+1,AJ$1)&" ("&INDEX(FluxBins,$A9*2+2,AJ$1)&")")} -> #N/A | AK9: {=IF(INDEX(FluxBins,$A9*2+1,AK$1)="","",INDEX(FluxBins,$A9*2+1,AK$1)&" ("&INDEX(FluxBins,$A9*2+2,AK$1)&")")} -> #N/A | AL9: {=IF(INDEX(FluxBins,$A9*2+1,AL$1)="","",INDEX(FluxBins,$A9*2+1,AL$1)&" ("&INDEX(FluxBins,$A9*2+2,AL$1)&")")} -> #N/A | AM9: {=IF(INDEX(FluxBins,$A9*2+1,AM$1)="","",INDEX(FluxBins,$A9*2+1,AM$1)&" ("&INDEX(FluxBins,$A9*2+2,AM$1)&")")} -> #N/A | ... CH9: {=IF(INDEX(FluxBins,$A9*2+1,CH$1)="","",INDEX(FluxBins,$A9*2+1,CH$1)&" ("&INDEX(FluxBins,$A9*2+2,CH$1)&")")} -> #N/A
A10: =VLOOKUP('Bulk Table'!$A12,NameIndexArray,2,FALSE)-2 -> #N/A | B10: =IF(I10,'Bulk Table'!$C12,MID('Bulk Table'!$B12,FIND("(",'Bulk Table'!$B12)+1,FIND(")",'Bulk Table'!$B12)-FIND("(",'Bulk Table'!$B12)-1)) -> #VALUE! | C10: ='Bulk Table'!$E12 -> 0 | D10: ='Bulk Table'!$F12 -> 25 | E10: =CHOOSE($D$1,D10,D10+L10*AE10) -> #N/A | F10: =CHOOSE($D$1,D10-L10*AE10,D10) -> 25 | G10: =AND(IF(ISERROR($R10),FALSE,NOT(OR($C10<$R10,$C10>$S10))),NOT(H10)) -> FALSE | H10: =IF(I10,FALSE,ISERROR(HLOOKUP('Bulk Table'!B12,$AF10:$CH10,1,FALSE))) -> TRUE | I10: =NOT('Bulk Table'!$C12=0) -> FALSE | J10: =T10*$C10^3+U10*$C10^2+V10*$C10+W10 -> #N/A | K10: =X10*$C10^3+Y10*$C10^2+Z10*$C10+AA10+'Bulk Table'!$D12 -> #N/A | L10: =C10*(K10+(D10-AC10)*AD10) -> #N/A | M10: =1+(E10-AC10)*AB10 -> #N/A | N10: =K10+(E10-AC10)*AD10 -> #N/A | O10: =N10*C10 -> #N/A | P10: =J10*M10*B10 -> #N/A | Q10: =P10/(N10*C10) -> #N/A | R10: {=INDEX(ModelsData,$A10*2+1,R$1)} -> #N/A | S10: {=INDEX(ModelsData,$A10*2+1,S$1)} -> #N/A | T10: {=INDEX(ModelsData,$A10*2+1,T$1)} -> #N/A | U10: {=INDEX(ModelsData,$A10*2+1,U$1)} -> #N/A | V10: {=INDEX(ModelsData,$A10*2+1,V$1)} -> #N/A | W10: {=INDEX(ModelsData,$A10*2+1,W$1)} -> #N/A | X10: {=INDEX(ModelsData,$A10*2+1,X$1)} -> #N/A | Y10: {=INDEX(ModelsData,$A10*2+1,Y$1)} -> #N/A | ... AE10: {=INDEX(ModelsData,$A10*2+1,AE$1)} -> #N/A | AF10: {=IF(INDEX(FluxBins,$A10*2+1,AF$1)="","",INDEX(FluxBins,$A10*2+1,AF$1)&" ("&INDEX(FluxBins,$A10*2+2,AF$1)&")")} -> #N/A | AG10: {=IF(INDEX(FluxBins,$A10*2+1,AG$1)="","",INDEX(FluxBins,$A10*2+1,AG$1)&" ("&INDEX(FluxBins,$A10*2+2,AG$1)&")")} -> #N/A | AH10: {=IF(INDEX(FluxBins,$A10*2+1,AH$1)="","",INDEX(FluxBins,$A10*2+1,AH$1)&" ("&INDEX(FluxBins,$A10*2+2,AH$1)&")")} -> #N/A | AI10: {=IF(INDEX(FluxBins,$A10*2+1,AI$1)="","",INDEX(FluxBins,$A10*2+1,AI$1)&" ("&INDEX(FluxBins,$A10*2+2,AI$1)&")")} -> #N/A | AJ10: {=IF(INDEX(FluxBins,$A10*2+1,AJ$1)="","",INDEX(FluxBins,$A10*2+1,AJ$1)&" ("&INDEX(FluxBins,$A10*2+2,AJ$1)&")")} -> #N/A | AK10: {=IF(INDEX(FluxBins,$A10*2+1,AK$1)="","",INDEX(FluxBins,$A10*2+1,AK$1)&" ("&INDEX(FluxBins,$A10*2+2,AK$1)&")")} -> #N/A | AL10: {=IF(INDEX(FluxBins,$A10*2+1,AL$1)="","",INDEX(FluxBins,$A10*2+1,AL$1)&" ("&INDEX(FluxBins,$A10*2+2,AL$1)&")")} -> #N/A | AM10: {=IF(INDEX(FluxBins,$A10*2+1,AM$1)="","",INDEX(FluxBins,$A10*2+1,AM$1)&" ("&INDEX(FluxBins,$A10*2+2,AM$1)&")")} -> #N/A | ... CH10: {=IF(INDEX(FluxBins,$A10*2+1,CH$1)="","",INDEX(FluxBins,$A10*2+1,CH$1)&" ("&INDEX(FluxBins,$A10*2+2,CH$1)&")")} -> #N/A
A11: =VLOOKUP('Bulk Table'!$A13,NameIndexArray,2,FALSE)-2 -> #N/A | B11: =IF(I11,'Bulk Table'!$C13,MID('Bulk Table'!$B13,FIND("(",'Bulk Table'!$B13)+1,FIND(")",'Bulk Table'!$B13)-FIND("(",'Bulk Table'!$B13)-1)) -> #VALUE! | C11: ='Bulk Table'!$E13 -> 0 | D11: ='Bulk Table'!$F13 -> 25 | E11: =CHOOSE($D$1,D11,D11+L11*AE11) -> #N/A | F11: =CHOOSE($D$1,D11-L11*AE11,D11) -> 25 | G11: =AND(IF(ISERROR($R11),FALSE,NOT(OR($C11<$R11,$C11>$S11))),NOT(H11)) -> FALSE | H11: =IF(I11,FALSE,ISERROR(HLOOKUP('Bulk Table'!B13,$AF11:$CH11,1,FALSE))) -> TRUE | I11: =NOT('Bulk Table'!$C13=0) -> FALSE | J11: =T11*$C11^3+U11*$C11^2+V11*$C11+W11 -> #N/A | K11: =X11*$C11^3+Y11*$C11^2+Z11*$C11+AA11+'Bulk Table'!$D13 -> #N/A | L11: =C11*(K11+(D11-AC11)*AD11) -> #N/A | M11: =1+(E11-AC11)*AB11 -> #N/A | N11: =K11+(E11-AC11)*AD11 -> #N/A | O11: =N11*C11 -> #N/A | P11: =J11*M11*B11 -> #N/A | Q11: =P11/(N11*C11) -> #N/A | R11: {=INDEX(ModelsData,$A11*2+1,R$1)} -> #N/A | S11: {=INDEX(ModelsData,$A11*2+1,S$1)} -> #N/A | T11: {=INDEX(ModelsData,$A11*2+1,T$1)} -> #N/A | U11: {=INDEX(ModelsData,$A11*2+1,U$1)} -> #N/A | V11: {=INDEX(ModelsData,$A11*2+1,V$1)} -> #N/A | W11: {=INDEX(ModelsData,$A11*2+1,W$1)} -> #N/A | X11: {=INDEX(ModelsData,$A11*2+1,X$1)} -> #N/A | Y11: {=INDEX(ModelsData,$A11*2+1,Y$1)} -> #N/A | ... AE11: {=INDEX(ModelsData,$A11*2+1,AE$1)} -> #N/A | AF11: {=IF(INDEX(FluxBins,$A11*2+1,AF$1)="","",INDEX(FluxBins,$A11*2+1,AF$1)&" ("&INDEX(FluxBins,$A11*2+2,AF$1)&")")} -> #N/A | AG11: {=IF(INDEX(FluxBins,$A11*2+1,AG$1)="","",INDEX(FluxBins,$A11*2+1,AG$1)&" ("&INDEX(FluxBins,$A11*2+2,AG$1)&")")} -> #N/A | AH11: {=IF(INDEX(FluxBins,$A11*2+1,AH$1)="","",INDEX(FluxBins,$A11*2+1,AH$1)&" ("&INDEX(FluxBins,$A11*2+2,AH$1)&")")} -> #N/A | AI11: {=IF(INDEX(FluxBins,$A11*2+1,AI$1)="","",INDEX(FluxBins,$A11*2+1,AI$1)&" ("&INDEX(FluxBins,$A11*2+2,AI$1)&")")} -> #N/A | AJ11: {=IF(INDEX(FluxBins,$A11*2+1,AJ$1)="","",INDEX(FluxBins,$A11*2+1,AJ$1)&" ("&INDEX(FluxBins,$A11*2+2,AJ$1)&")")} -> #N/A | AK11: {=IF(INDEX(FluxBins,$A11*2+1,AK$1)="","",INDEX(FluxBins,$A11*2+1,AK$1)&" ("&INDEX(FluxBins,$A11*2+2,AK$1)&")")} -> #N/A | AL11: {=IF(INDEX(FluxBins,$A11*2+1,AL$1)="","",INDEX(FluxBins,$A11*2+1,AL$1)&" ("&INDEX(FluxBins,$A11*2+2,AL$1)&")")} -> #N/A | AM11: {=IF(INDEX(FluxBins,$A11*2+1,AM$1)="","",INDEX(FluxBins,$A11*2+1,AM$1)&" ("&INDEX(FluxBins,$A11*2+2,AM$1)&")")} -> #N/A | ... CH11: {=IF(INDEX(FluxBins,$A11*2+1,CH$1)="","",INDEX(FluxBins,$A11*2+1,CH$1)&" ("&INDEX(FluxBins,$A11*2+2,CH$1)&")")} -> #N/A
A12: =VLOOKUP('Bulk Table'!$A14,NameIndexArray,2,FALSE)-2 -> #N/A | B12: =IF(I12,'Bulk Table'!$C14,MID('Bulk Table'!$B14,FIND("(",'Bulk Table'!$B14)+1,FIND(")",'Bulk Table'!$B14)-FIND("(",'Bulk Table'!$B14)-1)) -> #VALUE! | C12: ='Bulk Table'!$E14 -> 0 | D12: ='Bulk Table'!$F14 -> 25 | E12: =CHOOSE($D$1,D12,D12+L12*AE12) -> #N/A | F12: =CHOOSE($D$1,D12-L12*AE12,D12) -> 25 | G12: =AND(IF(ISERROR($R12),FALSE,NOT(OR($C12<$R12,$C12>$S12))),NOT(H12)) -> FALSE | H12: =IF(I12,FALSE,ISERROR(HLOOKUP('Bulk Table'!B14,$AF12:$CH12,1,FALSE))) -> TRUE | I12: =NOT('Bulk Table'!$C14=0) -> FALSE | J12: =T12*$C12^3+U12*$C12^2+V12*$C12+W12 -> #N/A | K12: =X12*$C12^3+Y12*$C12^2+Z12*$C12+AA12+'Bulk Table'!$D14 -> #N/A | L12: =C12*(K12+(D12-AC12)*AD12) -> #N/A | M12: =1+(E12-AC12)*AB12 -> #N/A | N12: =K12+(E12-AC12)*AD12 -> #N/A | O12: =N12*C12 -> #N/A | P12: =J12*M12*B12 -> #N/A | Q12: =P12/(N12*C12) -> #N/A | R12: {=INDEX(ModelsData,$A12*2+1,R$1)} -> #N/A | S12: {=INDEX(ModelsData,$A12*2+1,S$1)} -> #N/A | T12: {=INDEX(ModelsData,$A12*2+1,T$1)} -> #N/A | U12: {=INDEX(ModelsData,$A12*2+1,U$1)} -> #N/A | V12: {=INDEX(ModelsData,$A12*2+1,V$1)} -> #N/A | W12: {=INDEX(ModelsData,$A12*2+1,W$1)} -> #N/A | X12: {=INDEX(ModelsData,$A12*2+1,X$1)} -> #N/A | Y12: {=INDEX(ModelsData,$A12*2+1,Y$1)} -> #N/A | ... AE12: {=INDEX(ModelsData,$A12*2+1,AE$1)} -> #N/A | AF12: {=IF(INDEX(FluxBins,$A12*2+1,AF$1)="","",INDEX(FluxBins,$A12*2+1,AF$1)&" ("&INDEX(FluxBins,$A12*2+2,AF$1)&")")} -> #N/A | AG12: {=IF(INDEX(FluxBins,$A12*2+1,AG$1)="","",INDEX(FluxBins,$A12*2+1,AG$1)&" ("&INDEX(FluxBins,$A12*2+2,AG$1)&")")} -> #N/A | AH12: {=IF(INDEX(FluxBins,$A12*2+1,AH$1)="","",INDEX(FluxBins,$A12*2+1,AH$1)&" ("&INDEX(FluxBins,$A12*2+2,AH$1)&")")} -> #N/A | AI12: {=IF(INDEX(FluxBins,$A12*2+1,AI$1)="","",INDEX(FluxBins,$A12*2+1,AI$1)&" ("&INDEX(FluxBins,$A12*2+2,AI$1)&")")} -> #N/A | AJ12: {=IF(INDEX(FluxBins,$A12*2+1,AJ$1)="","",INDEX(FluxBins,$A12*2+1,AJ$1)&" ("&INDEX(FluxBins,$A12*2+2,AJ$1)&")")} -> #N/A | AK12: {=IF(INDEX(FluxBins,$A12*2+1,AK$1)="","",INDEX(FluxBins,$A12*2+1,AK$1)&" ("&INDEX(FluxBins,$A12*2+2,AK$1)&")")} -> #N/A | AL12: {=IF(INDEX(FluxBins,$A12*2+1,AL$1)="","",INDEX(FluxBins,$A12*2+1,AL$1)&" ("&INDEX(FluxBins,$A12*2+2,AL$1)&")")} -> #N/A | AM12: {=IF(INDEX(FluxBins,$A12*2+1,AM$1)="","",INDEX(FluxBins,$A12*2+1,AM$1)&" ("&INDEX(FluxBins,$A12*2+2,AM$1)&")")} -> #N/A | ... CH12: {=IF(INDEX(FluxBins,$A12*2+1,CH$1)="","",INDEX(FluxBins,$A12*2+1,CH$1)&" ("&INDEX(FluxBins,$A12*2+2,CH$1)&")")} -> #N/A
A13: =VLOOKUP('Bulk Table'!$A15,NameIndexArray,2,FALSE)-2 -> #N/A | B13: =IF(I13,'Bulk Table'!$C15,MID('Bulk Table'!$B15,FIND("(",'Bulk Table'!$B15)+1,FIND(")",'Bulk Table'!$B15)-FIND("(",'Bulk Table'!$B15)-1)) -> #VALUE! | C13: ='Bulk Table'!$E15 -> 0 | D13: ='Bulk Table'!$F15 -> 25 | E13: =CHOOSE($D$1,D13,D13+L13*AE13) -> #N/A | F13: =CHOOSE($D$1,D13-L13*AE13,D13) -> 25 | G13: =AND(IF(ISERROR($R13),FALSE,NOT(OR($C13<$R13,$C13>$S13))),NOT(H13)) -> FALSE | H13: =IF(I13,FALSE,ISERROR(HLOOKUP('Bulk Table'!B15,$AF13:$CH13,1,FALSE))) -> TRUE | I13: =NOT('Bulk Table'!$C15=0) -> FALSE | J13: =T13*$C13^3+U13*$C13^2+V13*$C13+W13 -> #N/A | K13: =X13*$C13^3+Y13*$C13^2+Z13*$C13+AA13+'Bulk Table'!$D15 -> #N/A | L13: =C13*(K13+(D13-AC13)*AD13) -> #N/A | M13: =1+(E13-AC13)*AB13 -> #N/A | N13: =K13+(E13-AC13)*AD13 -> #N/A | O13: =N13*C13 -> #N/A | P13: =J13*M13*B13 -> #N/A | Q13: =P13/(N13*C13) -> #N/A | R13: {=INDEX(ModelsData,$A13*2+1,R$1)} -> #N/A | S13: {=INDEX(ModelsData,$A13*2+1,S$1)} -> #N/A | T13: {=INDEX(ModelsData,$A13*2+1,T$1)} -> #N/A | U13: {=INDEX(ModelsData,$A13*2+1,U$1)} -> #N/A | V13: {=INDEX(ModelsData,$A13*2+1,V$1)} -> #N/A | W13: {=INDEX(ModelsData,$A13*2+1,W$1)} -> #N/A | X13: {=INDEX(ModelsData,$A13*2+1,X$1)} -> #N/A | Y13: {=INDEX(ModelsData,$A13*2+1,Y$1)} -> #N/A | ... AE13: {=INDEX(ModelsData,$A13*2+1,AE$1)} -> #N/A | AF13: {=IF(INDEX(FluxBins,$A13*2+1,AF$1)="","",INDEX(FluxBins,$A13*2+1,AF$1)&" ("&INDEX(FluxBins,$A13*2+2,AF$1)&")")} -> #N/A | AG13: {=IF(INDEX(FluxBins,$A13*2+1,AG$1)="","",INDEX(FluxBins,$A13*2+1,AG$1)&" ("&INDEX(FluxBins,$A13*2+2,AG$1)&")")} -> #N/A | AH13: {=IF(INDEX(FluxBins,$A13*2+1,AH$1)="","",INDEX(FluxBins,$A13*2+1,AH$1)&" ("&INDEX(FluxBins,$A13*2+2,AH$1)&")")} -> #N/A | AI13: {=IF(INDEX(FluxBins,$A13*2+1,AI$1)="","",INDEX(FluxBins,$A13*2+1,AI$1)&" ("&INDEX(FluxBins,$A13*2+2,AI$1)&")")} -> #N/A | AJ13: {=IF(INDEX(FluxBins,$A13*2+1,AJ$1)="","",INDEX(FluxBins,$A13*2+1,AJ$1)&" ("&INDEX(FluxBins,$A13*2+2,AJ$1)&")")} -> #N/A | AK13: {=IF(INDEX(FluxBins,$A13*2+1,AK$1)="","",INDEX(FluxBins,$A13*2+1,AK$1)&" ("&INDEX(FluxBins,$A13*2+2,AK$1)&")")} -> #N/A | AL13: {=IF(INDEX(FluxBins,$A13*2+1,AL$1)="","",INDEX(FluxBins,$A13*2+1,AL$1)&" ("&INDEX(FluxBins,$A13*2+2,AL$1)&")")} -> #N/A | AM13: {=IF(INDEX(FluxBins,$A13*2+1,AM$1)="","",INDEX(FluxBins,$A13*2+1,AM$1)&" ("&INDEX(FluxBins,$A13*2+2,AM$1)&")")} -> #N/A | ... CH13: {=IF(INDEX(FluxBins,$A13*2+1,CH$1)="","",INDEX(FluxBins,$A13*2+1,CH$1)&" ("&INDEX(FluxBins,$A13*2+2,CH$1)&")")} -> #N/A
A14: =VLOOKUP('Bulk Table'!$A16,NameIndexArray,2,FALSE)-2 -> #N/A | B14: =IF(I14,'Bulk Table'!$C16,MID('Bulk Table'!$B16,FIND("(",'Bulk Table'!$B16)+1,FIND(")",'Bulk Table'!$B16)-FIND("(",'Bulk Table'!$B16)-1)) -> #VALUE! | C14: ='Bulk Table'!$E16 -> 0 | D14: ='Bulk Table'!$F16 -> 25 | E14: =CHOOSE($D$1,D14,D14+L14*AE14) -> #N/A | F14: =CHOOSE($D$1,D14-L14*AE14,D14) -> 25 | G14: =AND(IF(ISERROR($R14),FALSE,NOT(OR($C14<$R14,$C14>$S14))),NOT(H14)) -> FALSE | H14: =IF(I14,FALSE,ISERROR(HLOOKUP('Bulk Table'!B16,$AF14:$CH14,1,FALSE))) -> TRUE | I14: =NOT('Bulk Table'!$C16=0) -> FALSE | J14: =T14*$C14^3+U14*$C14^2+V14*$C14+W14 -> #N/A | K14: =X14*$C14^3+Y14*$C14^2+Z14*$C14+AA14+'Bulk Table'!$D16 -> #N/A | L14: =C14*(K14+(D14-AC14)*AD14) -> #N/A | M14: =1+(E14-AC14)*AB14 -> #N/A | N14: =K14+(E14-AC14)*AD14 -> #N/A | O14: =N14*C14 -> #N/A | P14: =J14*M14*B14 -> #N/A | Q14: =P14/(N14*C14) -> #N/A | R14: {=INDEX(ModelsData,$A14*2+1,R$1)} -> #N/A | S14: {=INDEX(ModelsData,$A14*2+1,S$1)} -> #N/A | T14: {=INDEX(ModelsData,$A14*2+1,T$1)} -> #N/A | U14: {=INDEX(ModelsData,$A14*2+1,U$1)} -> #N/A | V14: {=INDEX(ModelsData,$A14*2+1,V$1)} -> #N/A | W14: {=INDEX(ModelsData,$A14*2+1,W$1)} -> #N/A | X14: {=INDEX(ModelsData,$A14*2+1,X$1)} -> #N/A | Y14: {=INDEX(ModelsData,$A14*2+1,Y$1)} -> #N/A | ... AE14: {=INDEX(ModelsData,$A14*2+1,AE$1)} -> #N/A | AF14: {=IF(INDEX(FluxBins,$A14*2+1,AF$1)="","",INDEX(FluxBins,$A14*2+1,AF$1)&" ("&INDEX(FluxBins,$A14*2+2,AF$1)&")")} -> #N/A | AG14: {=IF(INDEX(FluxBins,$A14*2+1,AG$1)="","",INDEX(FluxBins,$A14*2+1,AG$1)&" ("&INDEX(FluxBins,$A14*2+2,AG$1)&")")} -> #N/A | AH14: {=IF(INDEX(FluxBins,$A14*2+1,AH$1)="","",INDEX(FluxBins,$A14*2+1,AH$1)&" ("&INDEX(FluxBins,$A14*2+2,AH$1)&")")} -> #N/A | AI14: {=IF(INDEX(FluxBins,$A14*2+1,AI$1)="","",INDEX(FluxBins,$A14*2+1,AI$1)&" ("&INDEX(FluxBins,$A14*2+2,AI$1)&")")} -> #N/A | AJ14: {=IF(INDEX(FluxBins,$A14*2+1,AJ$1)="","",INDEX(FluxBins,$A14*2+1,AJ$1)&" ("&INDEX(FluxBins,$A14*2+2,AJ$1)&")")} -> #N/A | AK14: {=IF(INDEX(FluxBins,$A14*2+1,AK$1)="","",INDEX(FluxBins,$A14*2+1,AK$1)&" ("&INDEX(FluxBins,$A14*2+2,AK$1)&")")} -> #N/A | AL14: {=IF(INDEX(FluxBins,$A14*2+1,AL$1)="","",INDEX(FluxBins,$A14*2+1,AL$1)&" ("&INDEX(FluxBins,$A14*2+2,AL$1)&")")} -> #N/A | AM14: {=IF(INDEX(FluxBins,$A14*2+1,AM$1)="","",INDEX(FluxBins,$A14*2+1,AM$1)&" ("&INDEX(FluxBins,$A14*2+2,AM$1)&")")} -> #N/A | ... CH14: {=IF(INDEX(FluxBins,$A14*2+1,CH$1)="","",INDEX(FluxBins,$A14*2+1,CH$1)&" ("&INDEX(FluxBins,$A14*2+2,CH$1)&")")} -> #N/A
A15: =VLOOKUP('Bulk Table'!$A17,NameIndexArray,2,FALSE)-2 -> #N/A | B15: =IF(I15,'Bulk Table'!$C17,MID('Bulk Table'!$B17,FIND("(",'Bulk Table'!$B17)+1,FIND(")",'Bulk Table'!$B17)-FIND("(",'Bulk Table'!$B17)-1)) -> #VALUE! | C15: ='Bulk Table'!$E17 -> 0 | D15: ='Bulk Table'!$F17 -> 25 | E15: =CHOOSE($D$1,D15,D15+L15*AE15) -> #N/A | F15: =CHOOSE($D$1,D15-L15*AE15,D15) -> 25 | G15: =AND(IF(ISERROR($R15),FALSE,NOT(OR($C15<$R15,$C15>$S15))),NOT(H15)) -> FALSE | H15: =IF(I15,FALSE,ISERROR(HLOOKUP('Bulk Table'!B17,$AF15:$CH15,1,FALSE))) -> TRUE | I15: =NOT('Bulk Table'!$C17=0) -> FALSE | J15: =T15*$C15^3+U15*$C15^2+V15*$C15+W15 -> #N/A | K15: =X15*$C15^3+Y15*$C15^2+Z15*$C15+AA15+'Bulk Table'!$D17 -> #N/A | L15: =C15*(K15+(D15-AC15)*AD15) -> #N/A | M15: =1+(E15-AC15)*AB15 -> #N/A | N15: =K15+(E15-AC15)*AD15 -> #N/A | O15: =N15*C15 -> #N/A | P15: =J15*M15*B15 -> #N/A | Q15: =P15/(N15*C15) -> #N/A | R15: {=INDEX(ModelsData,$A15*2+1,R$1)} -> #N/A | S15: {=INDEX(ModelsData,$A15*2+1,S$1)} -> #N/A | T15: {=INDEX(ModelsData,$A15*2+1,T$1)} -> #N/A | U15: {=INDEX(ModelsData,$A15*2+1,U$1)} -> #N/A | V15: {=INDEX(ModelsData,$A15*2+1,V$1)} -> #N/A | W15: {=INDEX(ModelsData,$A15*2+1,W$1)} -> #N/A | X15: {=INDEX(ModelsData,$A15*2+1,X$1)} -> #N/A | Y15: {=INDEX(ModelsData,$A15*2+1,Y$1)} -> #N/A | ... AE15: {=INDEX(ModelsData,$A15*2+1,AE$1)} -> #N/A | AF15: {=IF(INDEX(FluxBins,$A15*2+1,AF$1)="","",INDEX(FluxBins,$A15*2+1,AF$1)&" ("&INDEX(FluxBins,$A15*2+2,AF$1)&")")} -> #N/A | AG15: {=IF(INDEX(FluxBins,$A15*2+1,AG$1)="","",INDEX(FluxBins,$A15*2+1,AG$1)&" ("&INDEX(FluxBins,$A15*2+2,AG$1)&")")} -> #N/A | AH15: {=IF(INDEX(FluxBins,$A15*2+1,AH$1)="","",INDEX(FluxBins,$A15*2+1,AH$1)&" ("&INDEX(FluxBins,$A15*2+2,AH$1)&")")} -> #N/A | AI15: {=IF(INDEX(FluxBins,$A15*2+1,AI$1)="","",INDEX(FluxBins,$A15*2+1,AI$1)&" ("&INDEX(FluxBins,$A15*2+2,AI$1)&")")} -> #N/A | AJ15: {=IF(INDEX(FluxBins,$A15*2+1,AJ$1)="","",INDEX(FluxBins,$A15*2+1,AJ$1)&" ("&INDEX(FluxBins,$A15*2+2,AJ$1)&")")} -> #N/A | AK15: {=IF(INDEX(FluxBins,$A15*2+1,AK$1)="","",INDEX(FluxBins,$A15*2+1,AK$1)&" ("&INDEX(FluxBins,$A15*2+2,AK$1)&")")} -> #N/A | AL15: {=IF(INDEX(FluxBins,$A15*2+1,AL$1)="","",INDEX(FluxBins,$A15*2+1,AL$1)&" ("&INDEX(FluxBins,$A15*2+2,AL$1)&")")} -> #N/A | AM15: {=IF(INDEX(FluxBins,$A15*2+1,AM$1)="","",INDEX(FluxBins,$A15*2+1,AM$1)&" ("&INDEX(FluxBins,$A15*2+2,AM$1)&")")} -> #N/A | ... CH15: {=IF(INDEX(FluxBins,$A15*2+1,CH$1)="","",INDEX(FluxBins,$A15*2+1,CH$1)&" ("&INDEX(FluxBins,$A15*2+2,CH$1)&")")} -> #N/A
... A33: =VLOOKUP('Bulk Table'!$A35,NameIndexArray,2,FALSE)-2 -> #N/A | B33: =IF(I33,'Bulk Table'!$C35,MID('Bulk Table'!$B35,FIND("(",'Bulk Table'!$B35)+1,FIND(")",'Bulk Table'!$B35)-FIND("(",'Bulk Table'!$B35)-1)) -> #VALUE! | C33: ='Bulk Table'!$E35 -> 0 | D33: ='Bulk Table'!$F35 -> 25 | E33: =CHOOSE($D$1,D33,D33+L33*AE33) -> #N/A | F33: =CHOOSE($D$1,D33-L33*AE33,D33) -> 25 | G33: =AND(IF(ISERROR($R33),FALSE,NOT(OR($C33<$R33,$C33>$S33))),NOT(H33)) -> FALSE | H33: =IF(I33,FALSE,ISERROR(HLOOKUP('Bulk Table'!B35,$AF33:$CH33,1,FALSE))) -> TRUE | I33: =NOT('Bulk Table'!$C35=0) -> FALSE | J33: =T33*$C33^3+U33*$C33^2+V33*$C33+W33 -> #N/A | K33: =X33*$C33^3+Y33*$C33^2+Z33*$C33+AA33+'Bulk Table'!$D35 -> #N/A | L33: =C33*(K33+(D33-AC33)*AD33) -> #N/A | M33: =1+(E33-AC33)*AB33 -> #N/A | N33: =K33+(E33-AC33)*AD33 -> #N/A | O33: =N33*C33 -> #N/A | P33: =J33*M33*B33 -> #N/A | Q33: =P33/(N33*C33) -> #N/A | R33: {=INDEX(ModelsData,$A33*2+1,R$1)} -> #N/A | S33: {=INDEX(ModelsData,$A33*2+1,S$1)} -> #N/A | T33: {=INDEX(ModelsData,$A33*2+1,T$1)} -> #N/A | U33: {=INDEX(ModelsData,$A33*2+1,U$1)} -> #N/A | V33: {=INDEX(ModelsData,$A33*2+1,V$1)} -> #N/A | W33: {=INDEX(ModelsData,$A33*2+1,W$1)} -> #N/A | X33: {=INDEX(ModelsData,$A33*2+1,X$1)} -> #N/A | Y33: {=INDEX(ModelsData,$A33*2+1,Y$1)} -> #N/A | ... AE33: {=INDEX(ModelsData,$A33*2+1,AE$1)} -> #N/A | AF33: {=IF(INDEX(FluxBins,$A33*2+1,AF$1)="","",INDEX(FluxBins,$A33*2+1,AF$1)&" ("&INDEX(FluxBins,$A33*2+2,AF$1)&")")} -> #N/A | AG33: {=IF(INDEX(FluxBins,$A33*2+1,AG$1)="","",INDEX(FluxBins,$A33*2+1,AG$1)&" ("&INDEX(FluxBins,$A33*2+2,AG$1)&")")} -> #N/A | AH33: {=IF(INDEX(FluxBins,$A33*2+1,AH$1)="","",INDEX(FluxBins,$A33*2+1,AH$1)&" ("&INDEX(FluxBins,$A33*2+2,AH$1)&")")} -> #N/A | AI33: {=IF(INDEX(FluxBins,$A33*2+1,AI$1)="","",INDEX(FluxBins,$A33*2+1,AI$1)&" ("&INDEX(FluxBins,$A33*2+2,AI$1)&")")} -> #N/A | AJ33: {=IF(INDEX(FluxBins,$A33*2+1,AJ$1)="","",INDEX(FluxBins,$A33*2+1,AJ$1)&" ("&INDEX(FluxBins,$A33*2+2,AJ$1)&")")} -> #N/A | AK33: {=IF(INDEX(FluxBins,$A33*2+1,AK$1)="","",INDEX(FluxBins,$A33*2+1,AK$1)&" ("&INDEX(FluxBins,$A33*2+2,AK$1)&")")} -> #N/A | AL33: {=IF(INDEX(FluxBins,$A33*2+1,AL$1)="","",INDEX(FluxBins,$A33*2+1,AL$1)&" ("&INDEX(FluxBins,$A33*2+2,AL$1)&")")} -> #N/A | AM33: {=IF(INDEX(FluxBins,$A33*2+1,AM$1)="","",INDEX(FluxBins,$A33*2+1,AM$1)&" ("&INDEX(FluxBins,$A33*2+2,AM$1)&")")} -> #N/A | ... CH33: {=IF(INDEX(FluxBins,$A33*2+1,CH$1)="","",INDEX(FluxBins,$A33*2+1,CH$1)&" ("&INDEX(FluxBins,$A33*2+2,CH$1)&")")} -> #N/A

Sheet Bulk Graph
A2: Product Characterization Tool
B4: LED Inputs | G4: =VLOOKUP($D$23,BGCalc3!$A$1:$C$8,3,FALSE) -> Luminous Efficacy (lm/W)
A5: Graph Legend | B5: Model | C5: Flux Value | D5: Manual Flux | E5: ΔVf
A6: =B6 -> (none) | B6: (none) | E6: 0
A7: =B7 -> (none) | B7: (none) | E7: 0
A8: =B8 -> (none) | B8: (none) | E8: 0
A9: =B9 -> (none) | B9: (none) | E9: 0
A10: =B10 -> (none) | B10: (none) | E10: 0
A11: =B11 -> (none) | B11: (none) | E11: 0
A12: =B12 -> (none) | B12: (none) | E12: 0
A13: =B13 -> (none) | B13: (none) | E13: 0
A14: =B14 -> (none) | B14: (none) | E14: 0
A15: =B15 -> (none) | B15: (none) | E15: 0
A16: =B16 -> (none) | B16: (none) | E16: 0
A17: =B17 -> (none) | B17: (none) | E17: 0
B20: Controls
C22: Tsp (ºC) | D22: 25
C23: y axis | D23: LPW
C24: x axis | D24: Power
H35: =VLOOKUP($D$24,BGCalc3!$A$1:$C$8,3,FALSE) -> Power (W)

Sheet BGCalc1
C1: =IF('Bulk Graph'!C22="Tj (ºC)",1,2) -> 2 | D1: ='Bulk Graph'!D22 -> 25 | F1: 5 | G1: 6 | H1: 7 | I1: 8 | J1: 9 | K1: 10 | L1: 11 | M1: 12 | N1: 13 | O1: 14 | P1: 15 | Q1: 16 | R1: 17 | S1: 18 | T1: 1 | U1: 2 | V1: 3 | W1: 4 | X1: 5 | Y1: 6 | Z1: 7 | AA1: 8 | AB1: 9 | AC1: 10 | AD1: 11 | AE1: 12 | AF1: 13 | AG1: 14 | AH1: 15 | AI1: 16 | AJ1: 17 | AK1: 18 | AL1: 19 | AM1: 20 | AN1: 21 | AO1: 22 | AP1: 23 | AQ1: 24 | AR1: 25 | AS1: 26 | AT1: 27 | AU1: 28 | AV1: 29 | AW1: 30 | AX1: 31 | AY1: 32 | AZ1: 33 | BA1: 34 | BB1: 35 | BC1: 36 | BD1: 37 | BE1: 38 | BF1: 39 | BG1: 40 | BH1: 41 | BI1: 42 | BJ1: 43 | BK1: 44 | BL1: 45 | BM1: 46 | BN1: 47 | BO1: 48 | BP1: 49 | BQ1: 50 | BR1: 51 | BS1: 52 | BT1: 53 | BU1: 54 | BV1: 55
F2: Currents | H2: %LF Polynomial Fit | L2: Vf Polynomial Fit | P2: Thermal Parameters
A3: Model Index | B3: Flux Value | D3: Invalid Flux? | E3: Flux Override? | F3: Min | G3: Max | H3: x^3 | I3: x^2 | J3: x | K3: a | L3: x^3 | M3: x^2 | N3: x | O3: a | P3: %LF vs Tj Slope | Q3: Tj @ 100% LF | R3: Temp Coeff of V | S3: Thermal Resistance | T3: Flux Bins
A4: =VLOOKUP('Bulk Graph'!$B6,NameIndexArray,2,FALSE)-2 -> #N/A | B4: =IF(E4,'Bulk Graph'!$D6,MID('Bulk Graph'!$C6,FIND("(",'Bulk Graph'!$C6)+1,FIND(")",'Bulk Graph'!$C6)-FIND("(",'Bulk Graph'!$C6)-1)) -> #VALUE! | D4: =IF(E4,FALSE,ISERROR(HLOOKUP('Bulk Graph'!C6,$T4:$BV4,1,FALSE))) -> TRUE | E4: =NOT('Bulk Graph'!$D6=0) -> FALSE | F4: {=INDEX(ModelsData,$A4*2+1,F$1)} -> #N/A | G4: {=INDEX(ModelsData,$A4*2+1,G$1)} -> #N/A | H4: {=IF($D4,NA(),INDEX(ModelsData,$A4*2+1,H$1))} -> #N/A | I4: {=IF($D4,NA(),INDEX(ModelsData,$A4*2+1,I$1))} -> #N/A | J4: {=IF($D4,NA(),INDEX(ModelsData,$A4*2+1,J$1))} -> #N/A | K4: {=IF($D4,NA(),INDEX(ModelsData,$A4*2+1,K$1))} -> #N/A | L4: {=IF($D4,NA(),INDEX(ModelsData,$A4*2+1,L$1))} -> #N/A | M4: {=IF($D4,NA(),INDEX(ModelsData,$A4*2+1,M$1))} -> #N/A | N4: {=IF($D4,NA(),INDEX(ModelsData,$A4*2+1,N$1))} -> #N/A | O4: {=IF($D4,NA(),INDEX(ModelsData,$A4*2+1,O$1))} -> #N/A | P4: {=INDEX(ModelsData,$A4*2+1,P$1)} -> #N/A | Q4: {=INDEX(ModelsData,$A4*2+1,Q$1)} -> #N/A | R4: {=INDEX(ModelsData,$A4*2+1,R$1)} -> #N/A | S4: {=INDEX(ModelsData,$A4*2+1,S$1)} -> #N/A | T4: {=IF(INDEX(FluxBins,$A4*2+1,T$1)="","",INDEX(FluxBins,$A4*2+1,T$1)&" ("&INDEX(FluxBins,$A4*2+2,T$1)&")")} -> #N/A | U4: {=IF(INDEX(FluxBins,$A4*2+1,U$1)="","",INDEX(FluxBins,$A4*2+1,U$1)&" ("&INDEX(FluxBins,$A4*2+2,U$1)&")")} -> #N/A | V4: {=IF(INDEX(FluxBins,$A4*2+1,V$1)="","",INDEX(FluxBins,$A4*2+1,V$1)&" ("&INDEX(FluxBins,$A4*2+2,V$1)&")")} -> #N/A | W4: {=IF(INDEX(FluxBins,$A4*2+1,W$1)="","",INDEX(FluxBins,$A4*2+1,W$1)&" ("&INDEX(FluxBins,$A4*2+2,W$1)&")")} -> #N/A | X4: {=IF(INDEX(FluxBins,$A4*2+1,X$1)="","",INDEX(FluxBins,$A4*2+1,X$1)&" ("&INDEX(FluxBins,$A4*2+2,X$1)&")")} -> #N/A | Y4: {=IF(INDEX(FluxBins,$A4*2+1,Y$1)="","",INDEX(FluxBins,$A4*2+1,Y$1)&" ("&INDEX(FluxBins,$A4*2+2,Y$1)&")")} -> #N/A | Z4: {=IF(INDEX(FluxBins,$A4*2+1,Z$1)="","",INDEX(FluxBins,$A4*2+1,Z$1)&" ("&INDEX(FluxBins,$A4*2+2,Z$1)&")")} -> #N/A | AA4: {=IF(INDEX(FluxBins,$A4*2+1,AA$1)="","",INDEX(FluxBins,$A4*2+1,AA$1)&" ("&INDEX(FluxBins,$A4*2+2,AA$1)&")")} -> #N/A | ... BV4: {=IF(INDEX(FluxBins,$A4*2+1,BV$1)="","",INDEX(FluxBins,$A4*2+1,BV$1)&" ("&INDEX(FluxBins,$A4*2+2,BV$1)&")")} -> #N/A
A5: =VLOOKUP('Bulk Graph'!$B7,NameIndexArray,2,FALSE)-2 -> #N/A | B5: =IF(E5,'Bulk Graph'!$D7,MID('Bulk Graph'!$C7,FIND("(",'Bulk Graph'!$C7)+1,FIND(")",'Bulk Graph'!$C7)-FIND("(",'Bulk Graph'!$C7)-1)) -> #VALUE! | D5: =IF(E5,FALSE,ISERROR(HLOOKUP('Bulk Graph'!C7,$T5:$BV5,1,FALSE))) -> TRUE | E5: =NOT('Bulk Graph'!$D7=0) -> FALSE | F5: {=INDEX(ModelsData,$A5*2+1,F$1)} -> #N/A | G5: {=INDEX(ModelsData,$A5*2+1,G$1)} -> #N/A | H5: {=IF($D5,NA(),INDEX(ModelsData,$A5*2+1,H$1))} -> #N/A | I5: {=IF($D5,NA(),INDEX(ModelsData,$A5*2+1,I$1))} -> #N/A | J5: {=IF($D5,NA(),INDEX(ModelsData,$A5*2+1,J$1))} -> #N/A | K5: {=IF($D5,NA(),INDEX(ModelsData,$A5*2+1,K$1))} -> #N/A | L5: {=IF($D5,NA(),INDEX(ModelsData,$A5*2+1,L$1))} -> #N/A | M5: {=IF($D5,NA(),INDEX(ModelsData,$A5*2+1,M$1))} -> #N/A | N5: {=IF($D5,NA(),INDEX(ModelsData,$A5*2+1,N$1))} -> #N/A | O5: {=IF($D5,NA(),INDEX(ModelsData,$A5*2+1,O$1))} -> #N/A | P5: {=INDEX(ModelsData,$A5*2+1,P$1)} -> #N/A | Q5: {=INDEX(ModelsData,$A5*2+1,Q$1)} -> #N/A | R5: {=INDEX(ModelsData,$A5*2+1,R$1)} -> #N/A | S5: {=INDEX(ModelsData,$A5*2+1,S$1)} -> #N/A | T5: {=IF(INDEX(FluxBins,$A5*2+1,T$1)="","",INDEX(FluxBins,$A5*2+1,T$1)&" ("&INDEX(FluxBins,$A5*2+2,T$1)&")")} -> #N/A | U5: {=IF(INDEX(FluxBins,$A5*2+1,U$1)="","",INDEX(FluxBins,$A5*2+1,U$1)&" ("&INDEX(FluxBins,$A5*2+2,U$1)&")")} -> #N/A | V5: {=IF(INDEX(FluxBins,$A5*2+1,V$1)="","",INDEX(FluxBins,$A5*2+1,V$1)&" ("&INDEX(FluxBins,$A5*2+2,V$1)&")")} -> #N/A | W5: {=IF(INDEX(FluxBins,$A5*2+1,W$1)="","",INDEX(FluxBins,$A5*2+1,W$1)&" ("&INDEX(FluxBins,$A5*2+2,W$1)&")")} -> #N/A | X5: {=IF(INDEX(FluxBins,$A5*2+1,X$1)="","",INDEX(FluxBins,$A5*2+1,X$1)&" ("&INDEX(FluxBins,$A5*2+2,X$1)&")")} -> #N/A | Y5: {=IF(INDEX(FluxBins,$A5*2+1,Y$1)="","",INDEX(FluxBins,$A5*2+1,Y$1)&" ("&INDEX(FluxBins,$A5*2+2,Y$1)&")")} -> #N/A | Z5: {=IF(INDEX(FluxBins,$A5*2+1,Z$1)="","",INDEX(FluxBins,$A5*2+1,Z$1)&" ("&INDEX(FluxBins,$A5*2+2,Z$1)&")")} -> #N/A | AA5: {=IF(INDEX(FluxBins,$A5*2+1,AA$1)="","",INDEX(FluxBins,$A5*2+1,AA$1)&" ("&INDEX(FluxBins,$A5*2+2,AA$1)&")")} -> #N/A | ... BV5: {=IF(INDEX(FluxBins,$A5*2+1,BV$1)="","",INDEX(FluxBins,$A5*2+1,BV$1)&" ("&INDEX(FluxBins,$A5*2+2,BV$1)&")")} -> #N/A
A6: =VLOOKUP('Bulk Graph'!$B8,NameIndexArray,2,FALSE)-2 -> #N/A | B6: =IF(E6,'Bulk Graph'!$D8,MID('Bulk Graph'!$C8,FIND("(",'Bulk Graph'!$C8)+1,FIND(")",'Bulk Graph'!$C8)-FIND("(",'Bulk Graph'!$C8)-1)) -> #VALUE! | D6: =IF(E6,FALSE,ISERROR(HLOOKUP('Bulk Graph'!C8,$T6:$BV6,1,FALSE))) -> TRUE | E6: =NOT('Bulk Graph'!$D8=0) -> FALSE | F6: {=INDEX(ModelsData,$A6*2+1,F$1)} -> #N/A | G6: {=INDEX(ModelsData,$A6*2+1,G$1)} -> #N/A | H6: {=IF($D6,NA(),INDEX(ModelsData,$A6*2+1,H$1))} -> #N/A | I6: {=IF($D6,NA(),INDEX(ModelsData,$A6*2+1,I$1))} -> #N/A | J6: {=IF($D6,NA(),INDEX(ModelsData,$A6*2+1,J$1))} -> #N/A | K6: {=IF($D6,NA(),INDEX(ModelsData,$A6*2+1,K$1))} -> #N/A | L6: {=IF($D6,NA(),INDEX(ModelsData,$A6*2+1,L$1))} -> #N/A | M6: {=IF($D6,NA(),INDEX(ModelsData,$A6*2+1,M$1))} -> #N/A | N6: {=IF($D6,NA(),INDEX(ModelsData,$A6*2+1,N$1))} -> #N/A | O6: {=IF($D6,NA(),INDEX(ModelsData,$A6*2+1,O$1))} -> #N/A | P6: {=INDEX(ModelsData,$A6*2+1,P$1)} -> #N/A | Q6: {=INDEX(ModelsData,$A6*2+1,Q$1)} -> #N/A | R6: {=INDEX(ModelsData,$A6*2+1,R$1)} -> #N/A | S6: {=INDEX(ModelsData,$A6*2+1,S$1)} -> #N/A | T6: {=IF(INDEX(FluxBins,$A6*2+1,T$1)="","",INDEX(FluxBins,$A6*2+1,T$1)&" ("&INDEX(FluxBins,$A6*2+2,T$1)&")")} -> #N/A | U6: {=IF(INDEX(FluxBins,$A6*2+1,U$1)="","",INDEX(FluxBins,$A6*2+1,U$1)&" ("&INDEX(FluxBins,$A6*2+2,U$1)&")")} -> #N/A | V6: {=IF(INDEX(FluxBins,$A6*2+1,V$1)="","",INDEX(FluxBins,$A6*2+1,V$1)&" ("&INDEX(FluxBins,$A6*2+2,V$1)&")")} -> #N/A | W6: {=IF(INDEX(FluxBins,$A6*2+1,W$1)="","",INDEX(FluxBins,$A6*2+1,W$1)&" ("&INDEX(FluxBins,$A6*2+2,W$1)&")")} -> #N/A | X6: {=IF(INDEX(FluxBins,$A6*2+1,X$1)="","",INDEX(FluxBins,$A6*2+1,X$1)&" ("&INDEX(FluxBins,$A6*2+2,X$1)&")")} -> #N/A | Y6: {=IF(INDEX(FluxBins,$A6*2+1,Y$1)="","",INDEX(FluxBins,$A6*2+1,Y$1)&" ("&INDEX(FluxBins,$A6*2+2,Y$1)&")")} -> #N/A | Z6: {=IF(INDEX(FluxBins,$A6*2+1,Z$1)="","",INDEX(FluxBins,$A6*2+1,Z$1)&" ("&INDEX(FluxBins,$A6*2+2,Z$1)&")")} -> #N/A | AA6: {=IF(INDEX(FluxBins,$A6*2+1,AA$1)="","",INDEX(FluxBins,$A6*2+1,AA$1)&" ("&INDEX(FluxBins,$A6*2+2,AA$1)&")")} -> #N/A | ... BV6: {=IF(INDEX(FluxBins,$A6*2+1,BV$1)="","",INDEX(FluxBins,$A6*2+1,BV$1)&" ("&INDEX(FluxBins,$A6*2+2,BV$1)&")")} -> #N/A
A7: =VLOOKUP('Bulk Graph'!$B9,NameIndexArray,2,FALSE)-2 -> #N/A | B7: =IF(E7,'Bulk Graph'!$D9,MID('Bulk Graph'!$C9,FIND("(",'Bulk Graph'!$C9)+1,FIND(")",'Bulk Graph'!$C9)-FIND("(",'Bulk Graph'!$C9)-1)) -> #VALUE! | D7: =IF(E7,FALSE,ISERROR(HLOOKUP('Bulk Graph'!C9,$T7:$BV7,1,FALSE))) -> TRUE | E7: =NOT('Bulk Graph'!$D9=0) -> FALSE | F7: {=INDEX(ModelsData,$A7*2+1,F$1)} -> #N/A | G7: {=INDEX(ModelsData,$A7*2+1,G$1)} -> #N/A | H7: {=IF($D7,NA(),INDEX(ModelsData,$A7*2+1,H$1))} -> #N/A | I7: {=IF($D7,NA(),INDEX(ModelsData,$A7*2+1,I$1))} -> #N/A | J7: {=IF($D7,NA(),INDEX(ModelsData,$A7*2+1,J$1))} -> #N/A | K7: {=IF($D7,NA(),INDEX(ModelsData,$A7*2+1,K$1))} -> #N/A | L7: {=IF($D7,NA(),INDEX(ModelsData,$A7*2+1,L$1))} -> #N/A | M7: {=IF($D7,NA(),INDEX(ModelsData,$A7*2+1,M$1))} -> #N/A | N7: {=IF($D7,NA(),INDEX(ModelsData,$A7*2+1,N$1))} -> #N/A | O7: {=IF($D7,NA(),INDEX(ModelsData,$A7*2+1,O$1))} -> #N/A | P7: {=INDEX(ModelsData,$A7*2+1,P$1)} -> #N/A | Q7: {=INDEX(ModelsData,$A7*2+1,Q$1)} -> #N/A | R7: {=INDEX(ModelsData,$A7*2+1,R$1)} -> #N/A | S7: {=INDEX(ModelsData,$A7*2+1,S$1)} -> #N/A | T7: {=IF(INDEX(FluxBins,$A7*2+1,T$1)="","",INDEX(FluxBins,$A7*2+1,T$1)&" ("&INDEX(FluxBins,$A7*2+2,T$1)&")")} -> #N/A | U7: {=IF(INDEX(FluxBins,$A7*2+1,U$1)="","",INDEX(FluxBins,$A7*2+1,U$1)&" ("&INDEX(FluxBins,$A7*2+2,U$1)&")")} -> #N/A | V7: {=IF(INDEX(FluxBins,$A7*2+1,V$1)="","",INDEX(FluxBins,$A7*2+1,V$1)&" ("&INDEX(FluxBins,$A7*2+2,V$1)&")")} -> #N/A | W7: {=IF(INDEX(FluxBins,$A7*2+1,W$1)="","",INDEX(FluxBins,$A7*2+1,W$1)&" ("&INDEX(FluxBins,$A7*2+2,W$1)&")")} -> #N/A | X7: {=IF(INDEX(FluxBins,$A7*2+1,X$1)="","",INDEX(FluxBins,$A7*2+1,X$1)&" ("&INDEX(FluxBins,$A7*2+2,X$1)&")")} -> #N/A | Y7: {=IF(INDEX(FluxBins,$A7*2+1,Y$1)="","",INDEX(FluxBins,$A7*2+1,Y$1)&" ("&INDEX(FluxBins,$A7*2+2,Y$1)&")")} -> #N/A | Z7: {=IF(INDEX(FluxBins,$A7*2+1,Z$1)="","",INDEX(FluxBins,$A7*2+1,Z$1)&" ("&INDEX(FluxBins,$A7*2+2,Z$1)&")")} -> #N/A | AA7: {=IF(INDEX(FluxBins,$A7*2+1,AA$1)="","",INDEX(FluxBins,$A7*2+1,AA$1)&" ("&INDEX(FluxBins,$A7*2+2,AA$1)&")")} -> #N/A | ... BV7: {=IF(INDEX(FluxBins,$A7*2+1,BV$1)="","",INDEX(FluxBins,$A7*2+1,BV$1)&" ("&INDEX(FluxBins,$A7*2+2,BV$1)&")")} -> #N/A
A8: =VLOOKUP('Bulk Graph'!$B10,NameIndexArray,2,FALSE)-2 -> #N/A | B8: =IF(E8,'Bulk Graph'!$D10,MID('Bulk Graph'!$C10,FIND("(",'Bulk Graph'!$C10)+1,FIND(")",'Bulk Graph'!$C10)-FIND("(",'Bulk Graph'!$C10)-1)) -> #VALUE! | D8: =IF(E8,FALSE,ISERROR(HLOOKUP('Bulk Graph'!C10,$T8:$BV8,1,FALSE))) -> TRUE | E8: =NOT('Bulk Graph'!$D10=0) -> FALSE | F8: {=INDEX(ModelsData,$A8*2+1,F$1)} -> #N/A | G8: {=INDEX(ModelsData,$A8*2+1,G$1)} -> #N/A | H8: {=IF($D8,NA(),INDEX(ModelsData,$A8*2+1,H$1))} -> #N/A | I8: {=IF($D8,NA(),INDEX(ModelsData,$A8*2+1,I$1))} -> #N/A | J8: {=IF($D8,NA(),INDEX(ModelsData,$A8*2+1,J$1))} -> #N/A | K8: {=IF($D8,NA(),INDEX(ModelsData,$A8*2+1,K$1))} -> #N/A | L8: {=IF($D8,NA(),INDEX(ModelsData,$A8*2+1,L$1))} -> #N/A | M8: {=IF($D8,NA(),INDEX(ModelsData,$A8*2+1,M$1))} -> #N/A | N8: {=IF($D8,NA(),INDEX(ModelsData,$A8*2+1,N$1))} -> #N/A | O8: {=IF($D8,NA(),INDEX(ModelsData,$A8*2+1,O$1))} -> #N/A | P8: {=INDEX(ModelsData,$A8*2+1,P$1)} -> #N/A | Q8: {=INDEX(ModelsData,$A8*2+1,Q$1)} -> #N/A | R8: {=INDEX(ModelsData,$A8*2+1,R$1)} -> #N/A | S8: {=INDEX(ModelsData,$A8*2+1,S$1)} -> #N/A | T8: {=IF(INDEX(FluxBins,$A8*2+1,T$1)="","",INDEX(FluxBins,$A8*2+1,T$1)&" ("&INDEX(FluxBins,$A8*2+2,T$1)&")")} -> #N/A | U8: {=IF(INDEX(FluxBins,$A8*2+1,U$1)="","",INDEX(FluxBins,$A8*2+1,U$1)&" ("&INDEX(FluxBins,$A8*2+2,U$1)&")")} -> #N/A | V8: {=IF(INDEX(FluxBins,$A8*2+1,V$1)="","",INDEX(FluxBins,$A8*2+1,V$1)&" ("&INDEX(FluxBins,$A8*2+2,V$1)&")")} -> #N/A | W8: {=IF(INDEX(FluxBins,$A8*2+1,W$1)="","",INDEX(FluxBins,$A8*2+1,W$1)&" ("&INDEX(FluxBins,$A8*2+2,W$1)&")")} -> #N/A | X8: {=IF(INDEX(FluxBins,$A8*2+1,X$1)="","",INDEX(FluxBins,$A8*2+1,X$1)&" ("&INDEX(FluxBins,$A8*2+2,X$1)&")")} -> #N/A | Y8: {=IF(INDEX(FluxBins,$A8*2+1,Y$1)="","",INDEX(FluxBins,$A8*2+1,Y$1)&" ("&INDEX(FluxBins,$A8*2+2,Y$1)&")")} -> #N/A | Z8: {=IF(INDEX(FluxBins,$A8*2+1,Z$1)="","",INDEX(FluxBins,$A8*2+1,Z$1)&" ("&INDEX(FluxBins,$A8*2+2,Z$1)&")")} -> #N/A | AA8: {=IF(INDEX(FluxBins,$A8*2+1,AA$1)="","",INDEX(FluxBins,$A8*2+1,AA$1)&" ("&INDEX(FluxBins,$A8*2+2,AA$1)&")")} -> #N/A | ... BV8: {=IF(INDEX(FluxBins,$A8*2+1,BV$1)="","",INDEX(FluxBins,$A8*2+1,BV$1)&" ("&INDEX(FluxBins,$A8*2+2,BV$1)&")")} -> #N/A
A9: =VLOOKUP('Bulk Graph'!$B11,NameIndexArray,2,FALSE)-2 -> #N/A | B9: =IF(E9,'Bulk Graph'!$D11,MID('Bulk Graph'!$C11,FIND("(",'Bulk Graph'!$C11)+1,FIND(")",'Bulk Graph'!$C11)-FIND("(",'Bulk Graph'!$C11)-1)) -> #VALUE! | D9: =IF(E9,FALSE,ISERROR(HLOOKUP('Bulk Graph'!C11,$T9:$BV9,1,FALSE))) -> TRUE | E9: =NOT('Bulk Graph'!$D11=0) -> FALSE | F9: {=INDEX(ModelsData,$A9*2+1,F$1)} -> #N/A | G9: {=INDEX(ModelsData,$A9*2+1,G$1)} -> #N/A | H9: {=IF($D9,NA(),INDEX(ModelsData,$A9*2+1,H$1))} -> #N/A | I9: {=IF($D9,NA(),INDEX(ModelsData,$A9*2+1,I$1))} -> #N/A | J9: {=IF($D9,NA(),INDEX(ModelsData,$A9*2+1,J$1))} -> #N/A | K9: {=IF($D9,NA(),INDEX(ModelsData,$A9*2+1,K$1))} -> #N/A | L9: {=IF($D9,NA(),INDEX(ModelsData,$A9*2+1,L$1))} -> #N/A | M9: {=IF($D9,NA(),INDEX(ModelsData,$A9*2+1,M$1))} -> #N/A | N9: {=IF($D9,NA(),INDEX(ModelsData,$A9*2+1,N$1))} -> #N/A | O9: {=IF($D9,NA(),INDEX(ModelsData,$A9*2+1,O$1))} -> #N/A | P9: {=INDEX(ModelsData,$A9*2+1,P$1)} -> #N/A | Q9: {=INDEX(ModelsData,$A9*2+1,Q$1)} -> #N/A | R9: {=INDEX(ModelsData,$A9*2+1,R$1)} -> #N/A | S9: {=INDEX(ModelsData,$A9*2+1,S$1)} -> #N/A | T9: {=IF(INDEX(FluxBins,$A9*2+1,T$1)="","",INDEX(FluxBins,$A9*2+1,T$1)&" ("&INDEX(FluxBins,$A9*2+2,T$1)&")")} -> #N/A | U9: {=IF(INDEX(FluxBins,$A9*2+1,U$1)="","",INDEX(FluxBins,$A9*2+1,U$1)&" ("&INDEX(FluxBins,$A9*2+2,U$1)&")")} -> #N/A | V9: {=IF(INDEX(FluxBins,$A9*2+1,V$1)="","",INDEX(FluxBins,$A9*2+1,V$1)&" ("&INDEX(FluxBins,$A9*2+2,V$1)&")")} -> #N/A | W9: {=IF(INDEX(FluxBins,$A9*2+1,W$1)="","",INDEX(FluxBins,$A9*2+1,W$1)&" ("&INDEX(FluxBins,$A9*2+2,W$1)&")")} -> #N/A | X9: {=IF(INDEX(FluxBins,$A9*2+1,X$1)="","",INDEX(FluxBins,$A9*2+1,X$1)&" ("&INDEX(FluxBins,$A9*2+2,X$1)&")")} -> #N/A | Y9: {=IF(INDEX(FluxBins,$A9*2+1,Y$1)="","",INDEX(FluxBins,$A9*2+1,Y$1)&" ("&INDEX(FluxBins,$A9*2+2,Y$1)&")")} -> #N/A | Z9: {=IF(INDEX(FluxBins,$A9*2+1,Z$1)="","",INDEX(FluxBins,$A9*2+1,Z$1)&" ("&INDEX(FluxBins,$A9*2+2,Z$1)&")")} -> #N/A | AA9: {=IF(INDEX(FluxBins,$A9*2+1,AA$1)="","",INDEX(FluxBins,$A9*2+1,AA$1)&" ("&INDEX(FluxBins,$A9*2+2,AA$1)&")")} -> #N/A | ... BV9: {=IF(INDEX(FluxBins,$A9*2+1,BV$1)="","",INDEX(FluxBins,$A9*2+1,BV$1)&" ("&INDEX(FluxBins,$A9*2+2,BV$1)&")")} -> #N/A
A10: =VLOOKUP('Bulk Graph'!$B12,NameIndexArray,2,FALSE)-2 -> #N/A | B10: =IF(E10,'Bulk Graph'!$D12,MID('Bulk Graph'!$C12,FIND("(",'Bulk Graph'!$C12)+1,FIND(")",'Bulk Graph'!$C12)-FIND("(",'Bulk Graph'!$C12)-1)) -> #VALUE! | D10: =IF(E10,FALSE,ISERROR(HLOOKUP('Bulk Graph'!C12,$T10:$BV10,1,FALSE))) -> TRUE | E10: =NOT('Bulk Graph'!$D12=0) -> FALSE | F10: {=INDEX(ModelsData,$A10*2+1,F$1)} -> #N/A | G10: {=INDEX(ModelsData,$A10*2+1,G$1)} -> #N/A | H10: {=IF($D10,NA(),INDEX(ModelsData,$A10*2+1,H$1))} -> #N/A | I10: {=IF($D10,NA(),INDEX(ModelsData,$A10*2+1,I$1))} -> #N/A | J10: {=IF($D10,NA(),INDEX(ModelsData,$A10*2+1,J$1))} -> #N/A | K10: {=IF($D10,NA(),INDEX(ModelsData,$A10*2+1,K$1))} -> #N/A | L10: {=IF($D10,NA(),INDEX(ModelsData,$A10*2+1,L$1))} -> #N/A | M10: {=IF($D10,NA(),INDEX(ModelsData,$A10*2+1,M$1))} -> #N/A | N10: {=IF($D10,NA(),INDEX(ModelsData,$A10*2+1,N$1))} -> #N/A | O10: {=IF($D10,NA(),INDEX(ModelsData,$A10*2+1,O$1))} -> #N/A | P10: {=INDEX(ModelsData,$A10*2+1,P$1)} -> #N/A | Q10: {=INDEX(ModelsData,$A10*2+1,Q$1)} -> #N/A | R10: {=INDEX(ModelsData,$A10*2+1,R$1)} -> #N/A | S10: {=INDEX(ModelsData,$A10*2+1,S$1)} -> #N/A | T10: {=IF(INDEX(FluxBins,$A10*2+1,T$1)="","",INDEX(FluxBins,$A10*2+1,T$1)&" ("&INDEX(FluxBins,$A10*2+2,T$1)&")")} -> #N/A | U10: {=IF(INDEX(FluxBins,$A10*2+1,U$1)="","",INDEX(FluxBins,$A10*2+1,U$1)&" ("&INDEX(FluxBins,$A10*2+2,U$1)&")")} -> #N/A | V10: {=IF(INDEX(FluxBins,$A10*2+1,V$1)="","",INDEX(FluxBins,$A10*2+1,V$1)&" ("&INDEX(FluxBins,$A10*2+2,V$1)&")")} -> #N/A | W10: {=IF(INDEX(FluxBins,$A10*2+1,W$1)="","",INDEX(FluxBins,$A10*2+1,W$1)&" ("&INDEX(FluxBins,$A10*2+2,W$1)&")")} -> #N/A | X10: {=IF(INDEX(FluxBins,$A10*2+1,X$1)="","",INDEX(FluxBins,$A10*2+1,X$1)&" ("&INDEX(FluxBins,$A10*2+2,X$1)&")")} -> #N/A | Y10: {=IF(INDEX(FluxBins,$A10*2+1,Y$1)="","",INDEX(FluxBins,$A10*2+1,Y$1)&" ("&INDEX(FluxBins,$A10*2+2,Y$1)&")")} -> #N/A | Z10: {=IF(INDEX(FluxBins,$A10*2+1,Z$1)="","",INDEX(FluxBins,$A10*2+1,Z$1)&" ("&INDEX(FluxBins,$A10*2+2,Z$1)&")")} -> #N/A | AA10: {=IF(INDEX(FluxBins,$A10*2+1,AA$1)="","",INDEX(FluxBins,$A10*2+1,AA$1)&" ("&INDEX(FluxBins,$A10*2+2,AA$1)&")")} -> #N/A | ... BV10: {=IF(INDEX(FluxBins,$A10*2+1,BV$1)="","",INDEX(FluxBins,$A10*2+1,BV$1)&" ("&INDEX(FluxBins,$A10*2+2,BV$1)&")")} -> #N/A
A11: =VLOOKUP('Bulk Graph'!$B13,NameIndexArray,2,FALSE)-2 -> #N/A | B11: =IF(E11,'Bulk Graph'!$D13,MID('Bulk Graph'!$C13,FIND("(",'Bulk Graph'!$C13)+1,FIND(")",'Bulk Graph'!$C13)-FIND("(",'Bulk Graph'!$C13)-1)) -> #VALUE! | D11: =IF(E11,FALSE,ISERROR(HLOOKUP('Bulk Graph'!C13,$T11:$BV11,1,FALSE))) -> TRUE | E11: =NOT('Bulk Graph'!$D13=0) -> FALSE | F11: {=INDEX(ModelsData,$A11*2+1,F$1)} -> #N/A | G11: {=INDEX(ModelsData,$A11*2+1,G$1)} -> #N/A | H11: {=IF($D11,NA(),INDEX(ModelsData,$A11*2+1,H$1))} -> #N/A | I11: {=IF($D11,NA(),INDEX(ModelsData,$A11*2+1,I$1))} -> #N/A | J11: {=IF($D11,NA(),INDEX(ModelsData,$A11*2+1,J$1))} -> #N/A | K11: {=IF($D11,NA(),INDEX(ModelsData,$A11*2+1,K$1))} -> #N/A | L11: {=IF($D11,NA(),INDEX(ModelsData,$A11*2+1,L$1))} -> #N/A | M11: {=IF($D11,NA(),INDEX(ModelsData,$A11*2+1,M$1))} -> #N/A | N11: {=IF($D11,NA(),INDEX(ModelsData,$A11*2+1,N$1))} -> #N/A | O11: {=IF($D11,NA(),INDEX(ModelsData,$A11*2+1,O$1))} -> #N/A | P11: {=INDEX(ModelsData,$A11*2+1,P$1)} -> #N/A | Q11: {=INDEX(ModelsData,$A11*2+1,Q$1)} -> #N/A | R11: {=INDEX(ModelsData,$A11*2+1,R$1)} -> #N/A | S11: {=INDEX(ModelsData,$A11*2+1,S$1)} -> #N/A | T11: {=IF(INDEX(FluxBins,$A11*2+1,T$1)="","",INDEX(FluxBins,$A11*2+1,T$1)&" ("&INDEX(FluxBins,$A11*2+2,T$1)&")")} -> #N/A | U11: {=IF(INDEX(FluxBins,$A11*2+1,U$1)="","",INDEX(FluxBins,$A11*2+1,U$1)&" ("&INDEX(FluxBins,$A11*2+2,U$1)&")")} -> #N/A | V11: {=IF(INDEX(FluxBins,$A11*2+1,V$1)="","",INDEX(FluxBins,$A11*2+1,V$1)&" ("&INDEX(FluxBins,$A11*2+2,V$1)&")")} -> #N/A | W11: {=IF(INDEX(FluxBins,$A11*2+1,W$1)="","",INDEX(FluxBins,$A11*2+1,W$1)&" ("&INDEX(FluxBins,$A11*2+2,W$1)&")")} -> #N/A | X11: {=IF(INDEX(FluxBins,$A11*2+1,X$1)="","",INDEX(FluxBins,$A11*2+1,X$1)&" ("&INDEX(FluxBins,$A11*2+2,X$1)&")")} -> #N/A | Y11: {=IF(INDEX(FluxBins,$A11*2+1,Y$1)="","",INDEX(FluxBins,$A11*2+1,Y$1)&" ("&INDEX(FluxBins,$A11*2+2,Y$1)&")")} -> #N/A | Z11: {=IF(INDEX(FluxBins,$A11*2+1,Z$1)="","",INDEX(FluxBins,$A11*2+1,Z$1)&" ("&INDEX(FluxBins,$A11*2+2,Z$1)&")")} -> #N/A | AA11: {=IF(INDEX(FluxBins,$A11*2+1,AA$1)="","",INDEX(FluxBins,$A11*2+1,AA$1)&" ("&INDEX(FluxBins,$A11*2+2,AA$1)&")")} -> #N/A | ... BV11: {=IF(INDEX(FluxBins,$A11*2+1,BV$1)="","",INDEX(FluxBins,$A11*2+1,BV$1)&" ("&INDEX(FluxBins,$A11*2+2,BV$1)&")")} -> #N/A
A12: =VLOOKUP('Bulk Graph'!$B14,NameIndexArray,2,FALSE)-2 -> #N/A | B12: =IF(E12,'Bulk Graph'!$D14,MID('Bulk Graph'!$C14,FIND("(",'Bulk Graph'!$C14)+1,FIND(")",'Bulk Graph'!$C14)-FIND("(",'Bulk Graph'!$C14)-1)) -> #VALUE! | D12: =IF(E12,FALSE,ISERROR(HLOOKUP('Bulk Graph'!C14,$T12:$BV12,1,FALSE))) -> TRUE | E12: =NOT('Bulk Graph'!$D14=0) -> FALSE | F12: {=INDEX(ModelsData,$A12*2+1,F$1)} -> #N/A | G12: {=INDEX(ModelsData,$A12*2+1,G$1)} -> #N/A | H12: {=IF($D12,NA(),INDEX(ModelsData,$A12*2+1,H$1))} -> #N/A | I12: {=IF($D12,NA(),INDEX(ModelsData,$A12*2+1,I$1))} -> #N/A | J12: {=IF($D12,NA(),INDEX(ModelsData,$A12*2+1,J$1))} -> #N/A | K12: {=IF($D12,NA(),INDEX(ModelsData,$A12*2+1,K$1))} -> #N/A | L12: {=IF($D12,NA(),INDEX(ModelsData,$A12*2+1,L$1))} -> #N/A | M12: {=IF($D12,NA(),INDEX(ModelsData,$A12*2+1,M$1))} -> #N/A | N12: {=IF($D12,NA(),INDEX(ModelsData,$A12*2+1,N$1))} -> #N/A | O12: {=IF($D12,NA(),INDEX(ModelsData,$A12*2+1,O$1))} -> #N/A | P12: {=INDEX(ModelsData,$A12*2+1,P$1)} -> #N/A | Q12: {=INDEX(ModelsData,$A12*2+1,Q$1)} -> #N/A | R12: {=INDEX(ModelsData,$A12*2+1,R$1)} -> #N/A | S12: {=INDEX(ModelsData,$A12*2+1,S$1)} -> #N/A | T12: {=IF(INDEX(FluxBins,$A12*2+1,T$1)="","",INDEX(FluxBins,$A12*2+1,T$1)&" ("&INDEX(FluxBins,$A12*2+2,T$1)&")")} -> #N/A | U12: {=IF(INDEX(FluxBins,$A12*2+1,U$1)="","",INDEX(FluxBins,$A12*2+1,U$1)&" ("&INDEX(FluxBins,$A12*2+2,U$1)&")")} -> #N/A | V12: {=IF(INDEX(FluxBins,$A12*2+1,V$1)="","",INDEX(FluxBins,$A12*2+1,V$1)&" ("&INDEX(FluxBins,$A12*2+2,V$1)&")")} -> #N/A | W12: {=IF(INDEX(FluxBins,$A12*2+1,W$1)="","",INDEX(FluxBins,$A12*2+1,W$1)&" ("&INDEX(FluxBins,$A12*2+2,W$1)&")")} -> #N/A | X12: {=IF(INDEX(FluxBins,$A12*2+1,X$1)="","",INDEX(FluxBins,$A12*2+1,X$1)&" ("&INDEX(FluxBins,$A12*2+2,X$1)&")")} -> #N/A | Y12: {=IF(INDEX(FluxBins,$A12*2+1,Y$1)="","",INDEX(FluxBins,$A12*2+1,Y$1)&" ("&INDEX(FluxBins,$A12*2+2,Y$1)&")")} -> #N/A | Z12: {=IF(INDEX(FluxBins,$A12*2+1,Z$1)="","",INDEX(FluxBins,$A12*2+1,Z$1)&" ("&INDEX(FluxBins,$A12*2+2,Z$1)&")")} -> #N/A | AA12: {=IF(INDEX(FluxBins,$A12*2+1,AA$1)="","",INDEX(FluxBins,$A12*2+1,AA$1)&" ("&INDEX(FluxBins,$A12*2+2,AA$1)&")")} -> #N/A | ... BV12: {=IF(INDEX(FluxBins,$A12*2+1,BV$1)="","",INDEX(FluxBins,$A12*2+1,BV$1)&" ("&INDEX(FluxBins,$A12*2+2,BV$1)&")")} -> #N/A
A13: =VLOOKUP('Bulk Graph'!$B15,NameIndexArray,2,FALSE)-2 -> #N/A | B13: =IF(E13,'Bulk Graph'!$D15,MID('Bulk Graph'!$C15,FIND("(",'Bulk Graph'!$C15)+1,FIND(")",'Bulk Graph'!$C15)-FIND("(",'Bulk Graph'!$C15)-1)) -> #VALUE! | D13: =IF(E13,FALSE,ISERROR(HLOOKUP('Bulk Graph'!C15,$T13:$BV13,1,FALSE))) -> TRUE | E13: =NOT('Bulk Graph'!$D15=0) -> FALSE | F13: {=INDEX(ModelsData,$A13*2+1,F$1)} -> #N/A | G13: {=INDEX(ModelsData,$A13*2+1,G$1)} -> #N/A | H13: {=IF($D13,NA(),INDEX(ModelsData,$A13*2+1,H$1))} -> #N/A | I13: {=IF($D13,NA(),INDEX(ModelsData,$A13*2+1,I$1))} -> #N/A | J13: {=IF($D13,NA(),INDEX(ModelsData,$A13*2+1,J$1))} -> #N/A | K13: {=IF($D13,NA(),INDEX(ModelsData,$A13*2+1,K$1))} -> #N/A | L13: {=IF($D13,NA(),INDEX(ModelsData,$A13*2+1,L$1))} -> #N/A | M13: {=IF($D13,NA(),INDEX(ModelsData,$A13*2+1,M$1))} -> #N/A | N13: {=IF($D13,NA(),INDEX(ModelsData,$A13*2+1,N$1))} -> #N/A | O13: {=IF($D13,NA(),INDEX(ModelsData,$A13*2+1,O$1))} -> #N/A | P13: {=INDEX(ModelsData,$A13*2+1,P$1)} -> #N/A | Q13: {=INDEX(ModelsData,$A13*2+1,Q$1)} -> #N/A | R13: {=INDEX(ModelsData,$A13*2+1,R$1)} -> #N/A | S13: {=INDEX(ModelsData,$A13*2+1,S$1)} -> #N/A | T13: {=IF(INDEX(FluxBins,$A13*2+1,T$1)="","",INDEX(FluxBins,$A13*2+1,T$1)&" ("&INDEX(FluxBins,$A13*2+2,T$1)&")")} -> #N/A | U13: {=IF(INDEX(FluxBins,$A13*2+1,U$1)="","",INDEX(FluxBins,$A13*2+1,U$1)&" ("&INDEX(FluxBins,$A13*2+2,U$1)&")")} -> #N/A | V13: {=IF(INDEX(FluxBins,$A13*2+1,V$1)="","",INDEX(FluxBins,$A13*2+1,V$1)&" ("&INDEX(FluxBins,$A13*2+2,V$1)&")")} -> #N/A | W13: {=IF(INDEX(FluxBins,$A13*2+1,W$1)="","",INDEX(FluxBins,$A13*2+1,W$1)&" ("&INDEX(FluxBins,$A13*2+2,W$1)&")")} -> #N/A | X13: {=IF(INDEX(FluxBins,$A13*2+1,X$1)="","",INDEX(FluxBins,$A13*2+1,X$1)&" ("&INDEX(FluxBins,$A13*2+2,X$1)&")")} -> #N/A | Y13: {=IF(INDEX(FluxBins,$A13*2+1,Y$1)="","",INDEX(FluxBins,$A13*2+1,Y$1)&" ("&INDEX(FluxBins,$A13*2+2,Y$1)&")")} -> #N/A | Z13: {=IF(INDEX(FluxBins,$A13*2+1,Z$1)="","",INDEX(FluxBins,$A13*2+1,Z$1)&" ("&INDEX(FluxBins,$A13*2+2,Z$1)&")")} -> #N/A | AA13: {=IF(INDEX(FluxBins,$A13*2+1,AA$1)="","",INDEX(FluxBins,$A13*2+1,AA$1)&" ("&INDEX(FluxBins,$A13*2+2,AA$1)&")")} -> #N/A | ... BV13: {=IF(INDEX(FluxBins,$A13*2+1,BV$1)="","",INDEX(FluxBins,$A13*2+1,BV$1)&" ("&INDEX(FluxBins,$A13*2+2,BV$1)&")")} -> #N/A
A14: =VLOOKUP('Bulk Graph'!$B16,NameIndexArray,2,FALSE)-2 -> #N/A | B14: =IF(E14,'Bulk Graph'!$D16,MID('Bulk Graph'!$C16,FIND("(",'Bulk Graph'!$C16)+1,FIND(")",'Bulk Graph'!$C16)-FIND("(",'Bulk Graph'!$C16)-1)) -> #VALUE! | D14: =IF(E14,FALSE,ISERROR(HLOOKUP('Bulk Graph'!C16,$T14:$BV14,1,FALSE))) -> TRUE | E14: =NOT('Bulk Graph'!$D16=0) -> FALSE | F14: {=INDEX(ModelsData,$A14*2+1,F$1)} -> #N/A | G14: {=INDEX(ModelsData,$A14*2+1,G$1)} -> #N/A | H14: {=IF($D14,NA(),INDEX(ModelsData,$A14*2+1,H$1))} -> #N/A | I14: {=IF($D14,NA(),INDEX(ModelsData,$A14*2+1,I$1))} -> #N/A | J14: {=IF($D14,NA(),INDEX(ModelsData,$A14*2+1,J$1))} -> #N/A | K14: {=IF($D14,NA(),INDEX(ModelsData,$A14*2+1,K$1))} -> #N/A | L14: {=IF($D14,NA(),INDEX(ModelsData,$A14*2+1,L$1))} -> #N/A | M14: {=IF($D14,NA(),INDEX(ModelsData,$A14*2+1,M$1))} -> #N/A | N14: {=IF($D14,NA(),INDEX(ModelsData,$A14*2+1,N$1))} -> #N/A | O14: {=IF($D14,NA(),INDEX(ModelsData,$A14*2+1,O$1))} -> #N/A | P14: {=INDEX(ModelsData,$A14*2+1,P$1)} -> #N/A | Q14: {=INDEX(ModelsData,$A14*2+1,Q$1)} -> #N/A | R14: {=INDEX(ModelsData,$A14*2+1,R$1)} -> #N/A | S14: {=INDEX(ModelsData,$A14*2+1,S$1)} -> #N/A | T14: {=IF(INDEX(FluxBins,$A14*2+1,T$1)="","",INDEX(FluxBins,$A14*2+1,T$1)&" ("&INDEX(FluxBins,$A14*2+2,T$1)&")")} -> #N/A | U14: {=IF(INDEX(FluxBins,$A14*2+1,U$1)="","",INDEX(FluxBins,$A14*2+1,U$1)&" ("&INDEX(FluxBins,$A14*2+2,U$1)&")")} -> #N/A | V14: {=IF(INDEX(FluxBins,$A14*2+1,V$1)="","",INDEX(FluxBins,$A14*2+1,V$1)&" ("&INDEX(FluxBins,$A14*2+2,V$1)&")")} -> #N/A | W14: {=IF(INDEX(FluxBins,$A14*2+1,W$1)="","",INDEX(FluxBins,$A14*2+1,W$1)&" ("&INDEX(FluxBins,$A14*2+2,W$1)&")")} -> #N/A | X14: {=IF(INDEX(FluxBins,$A14*2+1,X$1)="","",INDEX(FluxBins,$A14*2+1,X$1)&" ("&INDEX(FluxBins,$A14*2+2,X$1)&")")} -> #N/A | Y14: {=IF(INDEX(FluxBins,$A14*2+1,Y$1)="","",INDEX(FluxBins,$A14*2+1,Y$1)&" ("&INDEX(FluxBins,$A14*2+2,Y$1)&")")} -> #N/A | Z14: {=IF(INDEX(FluxBins,$A14*2+1,Z$1)="","",INDEX(FluxBins,$A14*2+1,Z$1)&" ("&INDEX(FluxBins,$A14*2+2,Z$1)&")")} -> #N/A | AA14: {=IF(INDEX(FluxBins,$A14*2+1,AA$1)="","",INDEX(FluxBins,$A14*2+1,AA$1)&" ("&INDEX(FluxBins,$A14*2+2,AA$1)&")")} -> #N/A | ... BV14: {=IF(INDEX(FluxBins,$A14*2+1,BV$1)="","",INDEX(FluxBins,$A14*2+1,BV$1)&" ("&INDEX(FluxBins,$A14*2+2,BV$1)&")")} -> #N/A
A15: =VLOOKUP('Bulk Graph'!$B17,NameIndexArray,2,FALSE)-2 -> #N/A | B15: =IF(E15,'Bulk Graph'!$D17,MID('Bulk Graph'!$C17,FIND("(",'Bulk Graph'!$C17)+1,FIND(")",'Bulk Graph'!$C17)-FIND("(",'Bulk Graph'!$C17)-1)) -> #VALUE! | D15: =IF(E15,FALSE,ISERROR(HLOOKUP('Bulk Graph'!C17,$T15:$BV15,1,FALSE))) -> TRUE | E15: =NOT('Bulk Graph'!$D17=0) -> FALSE | F15: {=INDEX(ModelsData,$A15*2+1,F$1)} -> #N/A | G15: {=INDEX(ModelsData,$A15*2+1,G$1)} -> #N/A | H15: {=IF($D15,NA(),INDEX(ModelsData,$A15*2+1,H$1))} -> #N/A | I15: {=IF($D15,NA(),INDEX(ModelsData,$A15*2+1,I$1))} -> #N/A | J15: {=IF($D15,NA(),INDEX(ModelsData,$A15*2+1,J$1))} -> #N/A | K15: {=IF($D15,NA(),INDEX(ModelsData,$A15*2+1,K$1))} -> #N/A | L15: {=IF($D15,NA(),INDEX(ModelsData,$A15*2+1,L$1))} -> #N/A | M15: {=IF($D15,NA(),INDEX(ModelsData,$A15*2+1,M$1))} -> #N/A | N15: {=IF($D15,NA(),INDEX(ModelsData,$A15*2+1,N$1))} -> #N/A | O15: {=IF($D15,NA(),INDEX(ModelsData,$A15*2+1,O$1))} -> #N/A | P15: {=INDEX(ModelsData,$A15*2+1,P$1)} -> #N/A | Q15: {=INDEX(ModelsData,$A15*2+1,Q$1)} -> #N/A | R15: {=INDEX(ModelsData,$A15*2+1,R$1)} -> #N/A | S15: {=INDEX(ModelsData,$A15*2+1,S$1)} -> #N/A | T15: {=IF(INDEX(FluxBins,$A15*2+1,T$1)="","",INDEX(FluxBins,$A15*2+1,T$1)&" ("&INDEX(FluxBins,$A15*2+2,T$1)&")")} -> #N/A | U15: {=IF(INDEX(FluxBins,$A15*2+1,U$1)="","",INDEX(FluxBins,$A15*2+1,U$1)&" ("&INDEX(FluxBins,$A15*2+2,U$1)&")")} -> #N/A | V15: {=IF(INDEX(FluxBins,$A15*2+1,V$1)="","",INDEX(FluxBins,$A15*2+1,V$1)&" ("&INDEX(FluxBins,$A15*2+2,V$1)&")")} -> #N/A | W15: {=IF(INDEX(FluxBins,$A15*2+1,W$1)="","",INDEX(FluxBins,$A15*2+1,W$1)&" ("&INDEX(FluxBins,$A15*2+2,W$1)&")")} -> #N/A | X15: {=IF(INDEX(FluxBins,$A15*2+1,X$1)="","",INDEX(FluxBins,$A15*2+1,X$1)&" ("&INDEX(FluxBins,$A15*2+2,X$1)&")")} -> #N/A | Y15: {=IF(INDEX(FluxBins,$A15*2+1,Y$1)="","",INDEX(FluxBins,$A15*2+1,Y$1)&" ("&INDEX(FluxBins,$A15*2+2,Y$1)&")")} -> #N/A | Z15: {=IF(INDEX(FluxBins,$A15*2+1,Z$1)="","",INDEX(FluxBins,$A15*2+1,Z$1)&" ("&INDEX(FluxBins,$A15*2+2,Z$1)&")")} -> #N/A | AA15: {=IF(INDEX(FluxBins,$A15*2+1,AA$1)="","",INDEX(FluxBins,$A15*2+1,AA$1)&" ("&INDEX(FluxBins,$A15*2+2,AA$1)&")")} -> #N/A | ... BV15: {=IF(INDEX(FluxBins,$A15*2+1,BV$1)="","",INDEX(FluxBins,$A15*2+1,BV$1)&" ("&INDEX(FluxBins,$A15*2+2,BV$1)&")")} -> #N/A
... A19: =VLOOKUP('Bulk Graph'!$B21,NameIndexArray,2,FALSE)-2 -> #N/A | B19: =IF(E19,'Bulk Graph'!$D21,MID('Bulk Graph'!$C21,FIND("(",'Bulk Graph'!$C21)+1,FIND(")",'Bulk Graph'!$C21)-FIND("(",'Bulk Graph'!$C21)-1)) -> #VALUE! | D19: =IF(E19,FALSE,ISERROR(HLOOKUP('Bulk Graph'!C21,$T19:$BV19,1,FALSE))) -> TRUE | E19: =NOT('Bulk Graph'!$D21=0) -> FALSE | F19: {=INDEX(ModelsData,$A19*2+1,F$1)} -> #N/A | G19: {=INDEX(ModelsData,$A19*2+1,G$1)} -> #N/A | H19: {=IF($D19,NA(),INDEX(ModelsData,$A19*2+1,H$1))} -> #N/A | I19: {=IF($D19,NA(),INDEX(ModelsData,$A19*2+1,I$1))} -> #N/A | J19: {=IF($D19,NA(),INDEX(ModelsData,$A19*2+1,J$1))} -> #N/A | K19: {=IF($D19,NA(),INDEX(ModelsData,$A19*2+1,K$1))} -> #N/A | L19: {=IF($D19,NA(),INDEX(ModelsData,$A19*2+1,L$1))} -> #N/A | M19: {=IF($D19,NA(),INDEX(ModelsData,$A19*2+1,M$1))} -> #N/A | N19: {=IF($D19,NA(),INDEX(ModelsData,$A19*2+1,N$1))} -> #N/A | O19: {=IF($D19,NA(),INDEX(ModelsData,$A19*2+1,O$1))} -> #N/A | P19: {=INDEX(ModelsData,$A19*2+1,P$1)} -> #N/A | Q19: {=INDEX(ModelsData,$A19*2+1,Q$1)} -> #N/A | R19: {=INDEX(ModelsData,$A19*2+1,R$1)} -> #N/A | S19: {=INDEX(ModelsData,$A19*2+1,S$1)} -> #N/A | T19: {=IF(INDEX(FluxBins,$A19*2+1,T$1)="","",INDEX(FluxBins,$A19*2+1,T$1)&" ("&INDEX(FluxBins,$A19*2+2,T$1)&")")} -> #N/A | U19: {=IF(INDEX(FluxBins,$A19*2+1,U$1)="","",INDEX(FluxBins,$A19*2+1,U$1)&" ("&INDEX(FluxBins,$A19*2+2,U$1)&")")} -> #N/A | V19: {=IF(INDEX(FluxBins,$A19*2+1,V$1)="","",INDEX(FluxBins,$A19*2+1,V$1)&" ("&INDEX(FluxBins,$A19*2+2,V$1)&")")} -> #N/A | W19: {=IF(INDEX(FluxBins,$A19*2+1,W$1)="","",INDEX(FluxBins,$A19*2+1,W$1)&" ("&INDEX(FluxBins,$A19*2+2,W$1)&")")} -> #N/A | X19: {=IF(INDEX(FluxBins,$A19*2+1,X$1)="","",INDEX(FluxBins,$A19*2+1,X$1)&" ("&INDEX(FluxBins,$A19*2+2,X$1)&")")} -> #N/A | Y19: {=IF(INDEX(FluxBins,$A19*2+1,Y$1)="","",INDEX(FluxBins,$A19*2+1,Y$1)&" ("&INDEX(FluxBins,$A19*2+2,Y$1)&")")} -> #N/A | Z19: {=IF(INDEX(FluxBins,$A19*2+1,Z$1)="","",INDEX(FluxBins,$A19*2+1,Z$1)&" ("&INDEX(FluxBins,$A19*2+2,Z$1)&")")} -> #N/A | AA19: {=IF(INDEX(FluxBins,$A19*2+1,AA$1)="","",INDEX(FluxBins,$A19*2+1,AA$1)&" ("&INDEX(FluxBins,$A19*2+2,AA$1)&")")} -> #N/A | ... BV19: {=IF(INDEX(FluxBins,$A19*2+1,BV$1)="","",INDEX(FluxBins,$A19*2+1,BV$1)&" ("&INDEX(FluxBins,$A19*2+2,BV$1)&")")} -> #N/A
A20: =VLOOKUP('Bulk Graph'!$B22,NameIndexArray,2,FALSE)-2 -> #N/A | B20: =IF(E20,'Bulk Graph'!#REF!,MID('Bulk Graph'!#REF!,FIND("(",'Bulk Graph'!#REF!)+1,FIND(")",'Bulk Graph'!#REF!)-FIND("(",'Bulk Graph'!#REF!)-1)) -> #REF! | D20: =IF(E20,FALSE,ISERROR(HLOOKUP('Bulk Graph'!#REF!,$T20:$BV20,1,FALSE))) -> #REF! | E20: =NOT('Bulk Graph'!#REF!=0) -> #REF! | F20: {=INDEX(ModelsData,$A20*2+1,F$1)} -> #N/A | G20: {=INDEX(ModelsData,$A20*2+1,G$1)} -> #N/A | H20: {=IF($D20,NA(),INDEX(ModelsData,$A20*2+1,H$1))} -> #REF! | I20: {=IF($D20,NA(),INDEX(ModelsData,$A20*2+1,I$1))} -> #REF! | J20: {=IF($D20,NA(),INDEX(ModelsData,$A20*2+1,J$1))} -> #REF! | K20: {=IF($D20,NA(),INDEX(ModelsData,$A20*2+1,K$1))} -> #REF! | L20: {=IF($D20,NA(),INDEX(ModelsData,$A20*2+1,L$1))} -> #REF! | M20: {=IF($D20,NA(),INDEX(ModelsData,$A20*2+1,M$1))} -> #REF! | N20: {=IF($D20,NA(),INDEX(ModelsData,$A20*2+1,N$1))} -> #REF! | O20: {=IF($D20,NA(),INDEX(ModelsData,$A20*2+1,O$1))} -> #REF! | P20: {=INDEX(ModelsData,$A20*2+1,P$1)} -> #N/A | Q20: {=INDEX(ModelsData,$A20*2+1,Q$1)} -> #N/A | R20: {=INDEX(ModelsData,$A20*2+1,R$1)} -> #N/A | S20: {=INDEX(ModelsData,$A20*2+1,S$1)} -> #N/A | T20: {=IF(INDEX(FluxBins,$A20*2+1,T$1)="","",INDEX(FluxBins,$A20*2+1,T$1)&" ("&INDEX(FluxBins,$A20*2+2,T$1)&")")} -> #N/A | U20: {=IF(INDEX(FluxBins,$A20*2+1,U$1)="","",INDEX(FluxBins,$A20*2+1,U$1)&" ("&INDEX(FluxBins,$A20*2+2,U$1)&")")} -> #N/A | V20: {=IF(INDEX(FluxBins,$A20*2+1,V$1)="","",INDEX(FluxBins,$A20*2+1,V$1)&" ("&INDEX(FluxBins,$A20*2+2,V$1)&")")} -> #N/A | W20: {=IF(INDEX(FluxBins,$A20*2+1,W$1)="","",INDEX(FluxBins,$A20*2+1,W$1)&" ("&INDEX(FluxBins,$A20*2+2,W$1)&")")} -> #N/A | X20: {=IF(INDEX(FluxBins,$A20*2+1,X$1)="","",INDEX(FluxBins,$A20*2+1,X$1)&" ("&INDEX(FluxBins,$A20*2+2,X$1)&")")} -> #N/A | Y20: {=IF(INDEX(FluxBins,$A20*2+1,Y$1)="","",INDEX(FluxBins,$A20*2+1,Y$1)&" ("&INDEX(FluxBins,$A20*2+2,Y$1)&")")} -> #N/A | Z20: {=IF(INDEX(FluxBins,$A20*2+1,Z$1)="","",INDEX(FluxBins,$A20*2+1,Z$1)&" ("&INDEX(FluxBins,$A20*2+2,Z$1)&")")} -> #N/A | AA20: {=IF(INDEX(FluxBins,$A20*2+1,AA$1)="","",INDEX(FluxBins,$A20*2+1,AA$1)&" ("&INDEX(FluxBins,$A20*2+2,AA$1)&")")} -> #N/A | ... BV20: {=IF(INDEX(FluxBins,$A20*2+1,BV$1)="","",INDEX(FluxBins,$A20*2+1,BV$1)&" ("&INDEX(FluxBins,$A20*2+2,BV$1)&")")} -> #N/A
A21: =VLOOKUP('Bulk Graph'!$B23,NameIndexArray,2,FALSE)-2 -> #N/A | B21: =IF(E21,'Bulk Graph'!#REF!,MID('Bulk Graph'!#REF!,FIND("(",'Bulk Graph'!#REF!)+1,FIND(")",'Bulk Graph'!#REF!)-FIND("(",'Bulk Graph'!#REF!)-1)) -> #REF! | D21: =IF(E21,FALSE,ISERROR(HLOOKUP('Bulk Graph'!#REF!,$T21:$BV21,1,FALSE))) -> #REF! | E21: =NOT('Bulk Graph'!#REF!=0) -> #REF! | F21: {=INDEX(ModelsData,$A21*2+1,F$1)} -> #N/A | G21: {=INDEX(ModelsData,$A21*2+1,G$1)} -> #N/A | H21: {=IF($D21,NA(),INDEX(ModelsData,$A21*2+1,H$1))} -> #REF! | I21: {=IF($D21,NA(),INDEX(ModelsData,$A21*2+1,I$1))} -> #REF! | J21: {=IF($D21,NA(),INDEX(ModelsData,$A21*2+1,J$1))} -> #REF! | K21: {=IF($D21,NA(),INDEX(ModelsData,$A21*2+1,K$1))} -> #REF! | L21: {=IF($D21,NA(),INDEX(ModelsData,$A21*2+1,L$1))} -> #REF! | M21: {=IF($D21,NA(),INDEX(ModelsData,$A21*2+1,M$1))} -> #REF! | N21: {=IF($D21,NA(),INDEX(ModelsData,$A21*2+1,N$1))} -> #REF! | O21: {=IF($D21,NA(),INDEX(ModelsData,$A21*2+1,O$1))} -> #REF! | P21: {=INDEX(ModelsData,$A21*2+1,P$1)} -> #N/A | Q21: {=INDEX(ModelsData,$A21*2+1,Q$1)} -> #N/A | R21: {=INDEX(ModelsData,$A21*2+1,R$1)} -> #N/A | S21: {=INDEX(ModelsData,$A21*2+1,S$1)} -> #N/A | T21: {=IF(INDEX(FluxBins,$A21*2+1,T$1)="","",INDEX(FluxBins,$A21*2+1,T$1)&" ("&INDEX(FluxBins,$A21*2+2,T$1)&")")} -> #N/A | U21: {=IF(INDEX(FluxBins,$A21*2+1,U$1)="","",INDEX(FluxBins,$A21*2+1,U$1)&" ("&INDEX(FluxBins,$A21*2+2,U$1)&")")} -> #N/A | V21: {=IF(INDEX(FluxBins,$A21*2+1,V$1)="","",INDEX(FluxBins,$A21*2+1,V$1)&" ("&INDEX(FluxBins,$A21*2+2,V$1)&")")} -> #N/A | W21: {=IF(INDEX(FluxBins,$A21*2+1,W$1)="","",INDEX(FluxBins,$A21*2+1,W$1)&" ("&INDEX(FluxBins,$A21*2+2,W$1)&")")} -> #N/A | X21: {=IF(INDEX(FluxBins,$A21*2+1,X$1)="","",INDEX(FluxBins,$A21*2+1,X$1)&" ("&INDEX(FluxBins,$A21*2+2,X$1)&")")} -> #N/A | Y21: {=IF(INDEX(FluxBins,$A21*2+1,Y$1)="","",INDEX(FluxBins,$A21*2+1,Y$1)&" ("&INDEX(FluxBins,$A21*2+2,Y$1)&")")} -> #N/A | Z21: {=IF(INDEX(FluxBins,$A21*2+1,Z$1)="","",INDEX(FluxBins,$A21*2+1,Z$1)&" ("&INDEX(FluxBins,$A21*2+2,Z$1)&")")} -> #N/A | AA21: {=IF(INDEX(FluxBins,$A21*2+1,AA$1)="","",INDEX(FluxBins,$A21*2+1,AA$1)&" ("&INDEX(FluxBins,$A21*2+2,AA$1)&")")} -> #N/A | ... BV21: {=IF(INDEX(FluxBins,$A21*2+1,BV$1)="","",INDEX(FluxBins,$A21*2+1,BV$1)&" ("&INDEX(FluxBins,$A21*2+2,BV$1)&")")} -> #N/A
A22: =VLOOKUP('Bulk Graph'!$B24,NameIndexArray,2,FALSE)-2 -> #N/A | B22: =IF(E22,'Bulk Graph'!#REF!,MID('Bulk Graph'!#REF!,FIND("(",'Bulk Graph'!#REF!)+1,FIND(")",'Bulk Graph'!#REF!)-FIND("(",'Bulk Graph'!#REF!)-1)) -> #REF! | D22: =IF(E22,FALSE,ISERROR(HLOOKUP('Bulk Graph'!#REF!,$T22:$BV22,1,FALSE))) -> #REF! | E22: =NOT('Bulk Graph'!#REF!=0) -> #REF! | F22: {=INDEX(ModelsData,$A22*2+1,F$1)} -> #N/A | G22: {=INDEX(ModelsData,$A22*2+1,G$1)} -> #N/A | H22: {=IF($D22,NA(),INDEX(ModelsData,$A22*2+1,H$1))} -> #REF! | I22: {=IF($D22,NA(),INDEX(ModelsData,$A22*2+1,I$1))} -> #REF! | J22: {=IF($D22,NA(),INDEX(ModelsData,$A22*2+1,J$1))} -> #REF! | K22: {=IF($D22,NA(),INDEX(ModelsData,$A22*2+1,K$1))} -> #REF! | L22: {=IF($D22,NA(),INDEX(ModelsData,$A22*2+1,L$1))} -> #REF! | M22: {=IF($D22,NA(),INDEX(ModelsData,$A22*2+1,M$1))} -> #REF! | N22: {=IF($D22,NA(),INDEX(ModelsData,$A22*2+1,N$1))} -> #REF! | O22: {=IF($D22,NA(),INDEX(ModelsData,$A22*2+1,O$1))} -> #REF! | P22: {=INDEX(ModelsData,$A22*2+1,P$1)} -> #N/A | Q22: {=INDEX(ModelsData,$A22*2+1,Q$1)} -> #N/A | R22: {=INDEX(ModelsData,$A22*2+1,R$1)} -> #N/A | S22: {=INDEX(ModelsData,$A22*2+1,S$1)} -> #N/A | T22: {=IF(INDEX(FluxBins,$A22*2+1,T$1)="","",INDEX(FluxBins,$A22*2+1,T$1)&" ("&INDEX(FluxBins,$A22*2+2,T$1)&")")} -> #N/A | U22: {=IF(INDEX(FluxBins,$A22*2+1,U$1)="","",INDEX(FluxBins,$A22*2+1,U$1)&" ("&INDEX(FluxBins,$A22*2+2,U$1)&")")} -> #N/A | V22: {=IF(INDEX(FluxBins,$A22*2+1,V$1)="","",INDEX(FluxBins,$A22*2+1,V$1)&" ("&INDEX(FluxBins,$A22*2+2,V$1)&")")} -> #N/A | W22: {=IF(INDEX(FluxBins,$A22*2+1,W$1)="","",INDEX(FluxBins,$A22*2+1,W$1)&" ("&INDEX(FluxBins,$A22*2+2,W$1)&")")} -> #N/A | X22: {=IF(INDEX(FluxBins,$A22*2+1,X$1)="","",INDEX(FluxBins,$A22*2+1,X$1)&" ("&INDEX(FluxBins,$A22*2+2,X$1)&")")} -> #N/A | Y22: {=IF(INDEX(FluxBins,$A22*2+1,Y$1)="","",INDEX(FluxBins,$A22*2+1,Y$1)&" ("&INDEX(FluxBins,$A22*2+2,Y$1)&")")} -> #N/A | Z22: {=IF(INDEX(FluxBins,$A22*2+1,Z$1)="","",INDEX(FluxBins,$A22*2+1,Z$1)&" ("&INDEX(FluxBins,$A22*2+2,Z$1)&")")} -> #N/A | AA22: {=IF(INDEX(FluxBins,$A22*2+1,AA$1)="","",INDEX(FluxBins,$A22*2+1,AA$1)&" ("&INDEX(FluxBins,$A22*2+2,AA$1)&")")} -> #N/A | ... BV22: {=IF(INDEX(FluxBins,$A22*2+1,BV$1)="","",INDEX(FluxBins,$A22*2+1,BV$1)&" ("&INDEX(FluxBins,$A22*2+2,BV$1)&")")} -> #N/A
A23: =VLOOKUP('Bulk Graph'!$B25,NameIndexArray,2,FALSE)-2 -> #N/A | B23: =IF(E23,'Bulk Graph'!$D25,MID('Bulk Graph'!$C25,FIND("(",'Bulk Graph'!$C25)+1,FIND(")",'Bulk Graph'!$C25)-FIND("(",'Bulk Graph'!$C25)-1)) -> #VALUE! | D23: =IF(E23,FALSE,ISERROR(HLOOKUP('Bulk Graph'!C25,$T23:$BV23,1,FALSE))) -> TRUE | E23: =NOT('Bulk Graph'!$D25=0) -> FALSE | F23: {=INDEX(ModelsData,$A23*2+1,F$1)} -> #N/A | G23: {=INDEX(ModelsData,$A23*2+1,G$1)} -> #N/A | H23: {=IF($D23,NA(),INDEX(ModelsData,$A23*2+1,H$1))} -> #N/A | I23: {=IF($D23,NA(),INDEX(ModelsData,$A23*2+1,I$1))} -> #N/A | J23: {=IF($D23,NA(),INDEX(ModelsData,$A23*2+1,J$1))} -> #N/A | K23: {=IF($D23,NA(),INDEX(ModelsData,$A23*2+1,K$1))} -> #N/A | L23: {=IF($D23,NA(),INDEX(ModelsData,$A23*2+1,L$1))} -> #N/A | M23: {=IF($D23,NA(),INDEX(ModelsData,$A23*2+1,M$1))} -> #N/A | N23: {=IF($D23,NA(),INDEX(ModelsData,$A23*2+1,N$1))} -> #N/A | O23: {=IF($D23,NA(),INDEX(ModelsData,$A23*2+1,O$1))} -> #N/A | P23: {=INDEX(ModelsData,$A23*2+1,P$1)} -> #N/A | Q23: {=INDEX(ModelsData,$A23*2+1,Q$1)} -> #N/A | R23: {=INDEX(ModelsData,$A23*2+1,R$1)} -> #N/A | S23: {=INDEX(ModelsData,$A23*2+1,S$1)} -> #N/A | T23: {=IF(INDEX(FluxBins,$A23*2+1,T$1)="","",INDEX(FluxBins,$A23*2+1,T$1)&" ("&INDEX(FluxBins,$A23*2+2,T$1)&")")} -> #N/A | U23: {=IF(INDEX(FluxBins,$A23*2+1,U$1)="","",INDEX(FluxBins,$A23*2+1,U$1)&" ("&INDEX(FluxBins,$A23*2+2,U$1)&")")} -> #N/A | V23: {=IF(INDEX(FluxBins,$A23*2+1,V$1)="","",INDEX(FluxBins,$A23*2+1,V$1)&" ("&INDEX(FluxBins,$A23*2+2,V$1)&")")} -> #N/A | W23: {=IF(INDEX(FluxBins,$A23*2+1,W$1)="","",INDEX(FluxBins,$A23*2+1,W$1)&" ("&INDEX(FluxBins,$A23*2+2,W$1)&")")} -> #N/A | X23: {=IF(INDEX(FluxBins,$A23*2+1,X$1)="","",INDEX(FluxBins,$A23*2+1,X$1)&" ("&INDEX(FluxBins,$A23*2+2,X$1)&")")} -> #N/A | Y23: {=IF(INDEX(FluxBins,$A23*2+1,Y$1)="","",INDEX(FluxBins,$A23*2+1,Y$1)&" ("&INDEX(FluxBins,$A23*2+2,Y$1)&")")} -> #N/A | Z23: {=IF(INDEX(FluxBins,$A23*2+1,Z$1)="","",INDEX(FluxBins,$A23*2+1,Z$1)&" ("&INDEX(FluxBins,$A23*2+2,Z$1)&")")} -> #N/A | AA23: {=IF(INDEX(FluxBins,$A23*2+1,AA$1)="","",INDEX(FluxBins,$A23*2+1,AA$1)&" ("&INDEX(FluxBins,$A23*2+2,AA$1)&")")} -> #N/A | ... BV23: {=IF(INDEX(FluxBins,$A23*2+1,BV$1)="","",INDEX(FluxBins,$A23*2+1,BV$1)&" ("&INDEX(FluxBins,$A23*2+2,BV$1)&")")} -> #N/A
A24: =VLOOKUP('Bulk Graph'!$B26,NameIndexArray,2,FALSE)-2 -> #N/A | B24: =IF(E24,'Bulk Graph'!$D26,MID('Bulk Graph'!$C26,FIND("(",'Bulk Graph'!$C26)+1,FIND(")",'Bulk Graph'!$C26)-FIND("(",'Bulk Graph'!$C26)-1)) -> #VALUE! | D24: =IF(E24,FALSE,ISERROR(HLOOKUP('Bulk Graph'!C26,$T24:$BV24,1,FALSE))) -> TRUE | E24: =NOT('Bulk Graph'!$D26=0) -> FALSE | F24: {=INDEX(ModelsData,$A24*2+1,F$1)} -> #N/A | G24: {=INDEX(ModelsData,$A24*2+1,G$1)} -> #N/A | H24: {=IF($D24,NA(),INDEX(ModelsData,$A24*2+1,H$1))} -> #N/A | I24: {=IF($D24,NA(),INDEX(ModelsData,$A24*2+1,I$1))} -> #N/A | J24: {=IF($D24,NA(),INDEX(ModelsData,$A24*2+1,J$1))} -> #N/A | K24: {=IF($D24,NA(),INDEX(ModelsData,$A24*2+1,K$1))} -> #N/A | L24: {=IF($D24,NA(),INDEX(ModelsData,$A24*2+1,L$1))} -> #N/A | M24: {=IF($D24,NA(),INDEX(ModelsData,$A24*2+1,M$1))} -> #N/A | N24: {=IF($D24,NA(),INDEX(ModelsData,$A24*2+1,N$1))} -> #N/A | O24: {=IF($D24,NA(),INDEX(ModelsData,$A24*2+1,O$1))} -> #N/A | P24: {=INDEX(ModelsData,$A24*2+1,P$1)} -> #N/A | Q24: {=INDEX(ModelsData,$A24*2+1,Q$1)} -> #N/A | R24: {=INDEX(ModelsData,$A24*2+1,R$1)} -> #N/A | S24: {=INDEX(ModelsData,$A24*2+1,S$1)} -> #N/A | T24: {=IF(INDEX(FluxBins,$A24*2+1,T$1)="","",INDEX(FluxBins,$A24*2+1,T$1)&" ("&INDEX(FluxBins,$A24*2+2,T$1)&")")} -> #N/A | U24: {=IF(INDEX(FluxBins,$A24*2+1,U$1)="","",INDEX(FluxBins,$A24*2+1,U$1)&" ("&INDEX(FluxBins,$A24*2+2,U$1)&")")} -> #N/A | V24: {=IF(INDEX(FluxBins,$A24*2+1,V$1)="","",INDEX(FluxBins,$A24*2+1,V$1)&" ("&INDEX(FluxBins,$A24*2+2,V$1)&")")} -> #N/A | W24: {=IF(INDEX(FluxBins,$A24*2+1,W$1)="","",INDEX(FluxBins,$A24*2+1,W$1)&" ("&INDEX(FluxBins,$A24*2+2,W$1)&")")} -> #N/A | X24: {=IF(INDEX(FluxBins,$A24*2+1,X$1)="","",INDEX(FluxBins,$A24*2+1,X$1)&" ("&INDEX(FluxBins,$A24*2+2,X$1)&")")} -> #N/A | Y24: {=IF(INDEX(FluxBins,$A24*2+1,Y$1)="","",INDEX(FluxBins,$A24*2+1,Y$1)&" ("&INDEX(FluxBins,$A24*2+2,Y$1)&")")} -> #N/A | Z24: {=IF(INDEX(FluxBins,$A24*2+1,Z$1)="","",INDEX(FluxBins,$A24*2+1,Z$1)&" ("&INDEX(FluxBins,$A24*2+2,Z$1)&")")} -> #N/A | AA24: {=IF(INDEX(FluxBins,$A24*2+1,AA$1)="","",INDEX(FluxBins,$A24*2+1,AA$1)&" ("&INDEX(FluxBins,$A24*2+2,AA$1)&")")} -> #N/A | ... BV24: {=IF(INDEX(FluxBins,$A24*2+1,BV$1)="","",INDEX(FluxBins,$A24*2+1,BV$1)&" ("&INDEX(FluxBins,$A24*2+2,BV$1)&")")} -> #N/A
A25: =VLOOKUP('Bulk Graph'!$B27,NameIndexArray,2,FALSE)-2 -> #N/A | B25: =IF(E25,'Bulk Graph'!$D27,MID('Bulk Graph'!$C27,FIND("(",'Bulk Graph'!$C27)+1,FIND(")",'Bulk Graph'!$C27)-FIND("(",'Bulk Graph'!$C27)-1)) -> #VALUE! | D25: =IF(E25,FALSE,ISERROR(HLOOKUP('Bulk Graph'!C27,$T25:$BV25,1,FALSE))) -> TRUE | E25: =NOT('Bulk Graph'!$D27=0) -> FALSE | F25: {=INDEX(ModelsData,$A25*2+1,F$1)} -> #N/A | G25: {=INDEX(ModelsData,$A25*2+1,G$1)} -> #N/A | H25: {=IF($D25,NA(),INDEX(ModelsData,$A25*2+1,H$1))} -> #N/A | I25: {=IF($D25,NA(),INDEX(ModelsData,$A25*2+1,I$1))} -> #N/A | J25: {=IF($D25,NA(),INDEX(ModelsData,$A25*2+1,J$1))} -> #N/A | K25: {=IF($D25,NA(),INDEX(ModelsData,$A25*2+1,K$1))} -> #N/A | L25: {=IF($D25,NA(),INDEX(ModelsData,$A25*2+1,L$1))} -> #N/A | M25: {=IF($D25,NA(),INDEX(ModelsData,$A25*2+1,M$1))} -> #N/A | N25: {=IF($D25,NA(),INDEX(ModelsData,$A25*2+1,N$1))} -> #N/A | O25: {=IF($D25,NA(),INDEX(ModelsData,$A25*2+1,O$1))} -> #N/A | P25: {=INDEX(ModelsData,$A25*2+1,P$1)} -> #N/A | Q25: {=INDEX(ModelsData,$A25*2+1,Q$1)} -> #N/A | R25: {=INDEX(ModelsData,$A25*2+1,R$1)} -> #N/A | S25: {=INDEX(ModelsData,$A25*2+1,S$1)} -> #N/A | T25: {=IF(INDEX(FluxBins,$A25*2+1,T$1)="","",INDEX(FluxBins,$A25*2+1,T$1)&" ("&INDEX(FluxBins,$A25*2+2,T$1)&")")} -> #N/A | U25: {=IF(INDEX(FluxBins,$A25*2+1,U$1)="","",INDEX(FluxBins,$A25*2+1,U$1)&" ("&INDEX(FluxBins,$A25*2+2,U$1)&")")} -> #N/A | V25: {=IF(INDEX(FluxBins,$A25*2+1,V$1)="","",INDEX(FluxBins,$A25*2+1,V$1)&" ("&INDEX(FluxBins,$A25*2+2,V$1)&")")} -> #N/A | W25: {=IF(INDEX(FluxBins,$A25*2+1,W$1)="","",INDEX(FluxBins,$A25*2+1,W$1)&" ("&INDEX(FluxBins,$A25*2+2,W$1)&")")} -> #N/A | X25: {=IF(INDEX(FluxBins,$A25*2+1,X$1)="","",INDEX(FluxBins,$A25*2+1,X$1)&" ("&INDEX(FluxBins,$A25*2+2,X$1)&")")} -> #N/A | Y25: {=IF(INDEX(FluxBins,$A25*2+1,Y$1)="","",INDEX(FluxBins,$A25*2+1,Y$1)&" ("&INDEX(FluxBins,$A25*2+2,Y$1)&")")} -> #N/A | Z25: {=IF(INDEX(FluxBins,$A25*2+1,Z$1)="","",INDEX(FluxBins,$A25*2+1,Z$1)&" ("&INDEX(FluxBins,$A25*2+2,Z$1)&")")} -> #N/A | AA25: {=IF(INDEX(FluxBins,$A25*2+1,AA$1)="","",INDEX(FluxBins,$A25*2+1,AA$1)&" ("&INDEX(FluxBins,$A25*2+2,AA$1)&")")} -> #N/A | ... BV25: {=IF(INDEX(FluxBins,$A25*2+1,BV$1)="","",INDEX(FluxBins,$A25*2+1,BV$1)&" ("&INDEX(FluxBins,$A25*2+2,BV$1)&")")} -> #N/A
A26: =VLOOKUP('Bulk Graph'!$B28,NameIndexArray,2,FALSE)-2 -> #N/A | B26: =IF(E26,'Bulk Graph'!$D28,MID('Bulk Graph'!$C28,FIND("(",'Bulk Graph'!$C28)+1,FIND(")",'Bulk Graph'!$C28)-FIND("(",'Bulk Graph'!$C28)-1)) -> #VALUE! | D26: =IF(E26,FALSE,ISERROR(HLOOKUP('Bulk Graph'!C28,$T26:$BV26,1,FALSE))) -> TRUE | E26: =NOT('Bulk Graph'!$D28=0) -> FALSE | F26: {=INDEX(ModelsData,$A26*2+1,F$1)} -> #N/A | G26: {=INDEX(ModelsData,$A26*2+1,G$1)} -> #N/A | H26: {=IF($D26,NA(),INDEX(ModelsData,$A26*2+1,H$1))} -> #N/A | I26: {=IF($D26,NA(),INDEX(ModelsData,$A26*2+1,I$1))} -> #N/A | J26: {=IF($D26,NA(),INDEX(ModelsData,$A26*2+1,J$1))} -> #N/A | K26: {=IF($D26,NA(),INDEX(ModelsData,$A26*2+1,K$1))} -> #N/A | L26: {=IF($D26,NA(),INDEX(ModelsData,$A26*2+1,L$1))} -> #N/A | M26: {=IF($D26,NA(),INDEX(ModelsData,$A26*2+1,M$1))} -> #N/A | N26: {=IF($D26,NA(),INDEX(ModelsData,$A26*2+1,N$1))} -> #N/A | O26: {=IF($D26,NA(),INDEX(ModelsData,$A26*2+1,O$1))} -> #N/A | P26: {=INDEX(ModelsData,$A26*2+1,P$1)} -> #N/A | Q26: {=INDEX(ModelsData,$A26*2+1,Q$1)} -> #N/A | R26: {=INDEX(ModelsData,$A26*2+1,R$1)} -> #N/A | S26: {=INDEX(ModelsData,$A26*2+1,S$1)} -> #N/A | T26: {=IF(INDEX(FluxBins,$A26*2+1,T$1)="","",INDEX(FluxBins,$A26*2+1,T$1)&" ("&INDEX(FluxBins,$A26*2+2,T$1)&")")} -> #N/A | U26: {=IF(INDEX(FluxBins,$A26*2+1,U$1)="","",INDEX(FluxBins,$A26*2+1,U$1)&" ("&INDEX(FluxBins,$A26*2+2,U$1)&")")} -> #N/A | V26: {=IF(INDEX(FluxBins,$A26*2+1,V$1)="","",INDEX(FluxBins,$A26*2+1,V$1)&" ("&INDEX(FluxBins,$A26*2+2,V$1)&")")} -> #N/A | W26: {=IF(INDEX(FluxBins,$A26*2+1,W$1)="","",INDEX(FluxBins,$A26*2+1,W$1)&" ("&INDEX(FluxBins,$A26*2+2,W$1)&")")} -> #N/A | X26: {=IF(INDEX(FluxBins,$A26*2+1,X$1)="","",INDEX(FluxBins,$A26*2+1,X$1)&" ("&INDEX(FluxBins,$A26*2+2,X$1)&")")} -> #N/A | Y26: {=IF(INDEX(FluxBins,$A26*2+1,Y$1)="","",INDEX(FluxBins,$A26*2+1,Y$1)&" ("&INDEX(FluxBins,$A26*2+2,Y$1)&")")} -> #N/A | Z26: {=IF(INDEX(FluxBins,$A26*2+1,Z$1)="","",INDEX(FluxBins,$A26*2+1,Z$1)&" ("&INDEX(FluxBins,$A26*2+2,Z$1)&")")} -> #N/A | AA26: {=IF(INDEX(FluxBins,$A26*2+1,AA$1)="","",INDEX(FluxBins,$A26*2+1,AA$1)&" ("&INDEX(FluxBins,$A26*2+2,AA$1)&")")} -> #N/A | ... BV26: {=IF(INDEX(FluxBins,$A26*2+1,BV$1)="","",INDEX(FluxBins,$A26*2+1,BV$1)&" ("&INDEX(FluxBins,$A26*2+2,BV$1)&")")} -> #N/A
A27: =VLOOKUP('Bulk Graph'!$B29,NameIndexArray,2,FALSE)-2 -> #N/A | B27: =IF(E27,'Bulk Graph'!$D29,MID('Bulk Graph'!$C29,FIND("(",'Bulk Graph'!$C29)+1,FIND(")",'Bulk Graph'!$C29)-FIND("(",'Bulk Graph'!$C29)-1)) -> #VALUE! | D27: =IF(E27,FALSE,ISERROR(HLOOKUP('Bulk Graph'!C29,$T27:$BV27,1,FALSE))) -> TRUE | E27: =NOT('Bulk Graph'!$D29=0) -> FALSE | F27: {=INDEX(ModelsData,$A27*2+1,F$1)} -> #N/A | G27: {=INDEX(ModelsData,$A27*2+1,G$1)} -> #N/A | H27: {=IF($D27,NA(),INDEX(ModelsData,$A27*2+1,H$1))} -> #N/A | I27: {=IF($D27,NA(),INDEX(ModelsData,$A27*2+1,I$1))} -> #N/A | J27: {=IF($D27,NA(),INDEX(ModelsData,$A27*2+1,J$1))} -> #N/A | K27: {=IF($D27,NA(),INDEX(ModelsData,$A27*2+1,K$1))} -> #N/A | L27: {=IF($D27,NA(),INDEX(ModelsData,$A27*2+1,L$1))} -> #N/A | M27: {=IF($D27,NA(),INDEX(ModelsData,$A27*2+1,M$1))} -> #N/A | N27: {=IF($D27,NA(),INDEX(ModelsData,$A27*2+1,N$1))} -> #N/A | O27: {=IF($D27,NA(),INDEX(ModelsData,$A27*2+1,O$1))} -> #N/A | P27: {=INDEX(ModelsData,$A27*2+1,P$1)} -> #N/A | Q27: {=INDEX(ModelsData,$A27*2+1,Q$1)} -> #N/A | R27: {=INDEX(ModelsData,$A27*2+1,R$1)} -> #N/A | S27: {=INDEX(ModelsData,$A27*2+1,S$1)} -> #N/A | T27: {=IF(INDEX(FluxBins,$A27*2+1,T$1)="","",INDEX(FluxBins,$A27*2+1,T$1)&" ("&INDEX(FluxBins,$A27*2+2,T$1)&")")} -> #N/A | U27: {=IF(INDEX(FluxBins,$A27*2+1,U$1)="","",INDEX(FluxBins,$A27*2+1,U$1)&" ("&INDEX(FluxBins,$A27*2+2,U$1)&")")} -> #N/A | V27: {=IF(INDEX(FluxBins,$A27*2+1,V$1)="","",INDEX(FluxBins,$A27*2+1,V$1)&" ("&INDEX(FluxBins,$A27*2+2,V$1)&")")} -> #N/A | W27: {=IF(INDEX(FluxBins,$A27*2+1,W$1)="","",INDEX(FluxBins,$A27*2+1,W$1)&" ("&INDEX(FluxBins,$A27*2+2,W$1)&")")} -> #N/A | X27: {=IF(INDEX(FluxBins,$A27*2+1,X$1)="","",INDEX(FluxBins,$A27*2+1,X$1)&" ("&INDEX(FluxBins,$A27*2+2,X$1)&")")} -> #N/A | Y27: {=IF(INDEX(FluxBins,$A27*2+1,Y$1)="","",INDEX(FluxBins,$A27*2+1,Y$1)&" ("&INDEX(FluxBins,$A27*2+2,Y$1)&")")} -> #N/A | Z27: {=IF(INDEX(FluxBins,$A27*2+1,Z$1)="","",INDEX(FluxBins,$A27*2+1,Z$1)&" ("&INDEX(FluxBins,$A27*2+2,Z$1)&")")} -> #N/A | AA27: {=IF(INDEX(FluxBins,$A27*2+1,AA$1)="","",INDEX(FluxBins,$A27*2+1,AA$1)&" ("&INDEX(FluxBins,$A27*2+2,AA$1)&")")} -> #N/A | ... BV27: {=IF(INDEX(FluxBins,$A27*2+1,BV$1)="","",INDEX(FluxBins,$A27*2+1,BV$1)&" ("&INDEX(FluxBins,$A27*2+2,BV$1)&")")} -> #N/A
A28: =VLOOKUP('Bulk Graph'!$B30,NameIndexArray,2,FALSE)-2 -> #N/A | B28: =IF(E28,'Bulk Graph'!$D30,MID('Bulk Graph'!$C30,FIND("(",'Bulk Graph'!$C30)+1,FIND(")",'Bulk Graph'!$C30)-FIND("(",'Bulk Graph'!$C30)-1)) -> #VALUE! | D28: =IF(E28,FALSE,ISERROR(HLOOKUP('Bulk Graph'!C30,$T28:$BV28,1,FALSE))) -> TRUE | E28: =NOT('Bulk Graph'!$D30=0) -> FALSE | F28: {=INDEX(ModelsData,$A28*2+1,F$1)} -> #N/A | G28: {=INDEX(ModelsData,$A28*2+1,G$1)} -> #N/A | H28: {=IF($D28,NA(),INDEX(ModelsData,$A28*2+1,H$1))} -> #N/A | I28: {=IF($D28,NA(),INDEX(ModelsData,$A28*2+1,I$1))} -> #N/A | J28: {=IF($D28,NA(),INDEX(ModelsData,$A28*2+1,J$1))} -> #N/A | K28: {=IF($D28,NA(),INDEX(ModelsData,$A28*2+1,K$1))} -> #N/A | L28: {=IF($D28,NA(),INDEX(ModelsData,$A28*2+1,L$1))} -> #N/A | M28: {=IF($D28,NA(),INDEX(ModelsData,$A28*2+1,M$1))} -> #N/A | N28: {=IF($D28,NA(),INDEX(ModelsData,$A28*2+1,N$1))} -> #N/A | O28: {=IF($D28,NA(),INDEX(ModelsData,$A28*2+1,O$1))} -> #N/A | P28: {=INDEX(ModelsData,$A28*2+1,P$1)} -> #N/A | Q28: {=INDEX(ModelsData,$A28*2+1,Q$1)} -> #N/A | R28: {=INDEX(ModelsData,$A28*2+1,R$1)} -> #N/A | S28: {=INDEX(ModelsData,$A28*2+1,S$1)} -> #N/A | T28: {=IF(INDEX(FluxBins,$A28*2+1,T$1)="","",INDEX(FluxBins,$A28*2+1,T$1)&" ("&INDEX(FluxBins,$A28*2+2,T$1)&")")} -> #N/A | U28: {=IF(INDEX(FluxBins,$A28*2+1,U$1)="","",INDEX(FluxBins,$A28*2+1,U$1)&" ("&INDEX(FluxBins,$A28*2+2,U$1)&")")} -> #N/A | V28: {=IF(INDEX(FluxBins,$A28*2+1,V$1)="","",INDEX(FluxBins,$A28*2+1,V$1)&" ("&INDEX(FluxBins,$A28*2+2,V$1)&")")} -> #N/A | W28: {=IF(INDEX(FluxBins,$A28*2+1,W$1)="","",INDEX(FluxBins,$A28*2+1,W$1)&" ("&INDEX(FluxBins,$A28*2+2,W$1)&")")} -> #N/A | X28: {=IF(INDEX(FluxBins,$A28*2+1,X$1)="","",INDEX(FluxBins,$A28*2+1,X$1)&" ("&INDEX(FluxBins,$A28*2+2,X$1)&")")} -> #N/A | Y28: {=IF(INDEX(FluxBins,$A28*2+1,Y$1)="","",INDEX(FluxBins,$A28*2+1,Y$1)&" ("&INDEX(FluxBins,$A28*2+2,Y$1)&")")} -> #N/A | Z28: {=IF(INDEX(FluxBins,$A28*2+1,Z$1)="","",INDEX(FluxBins,$A28*2+1,Z$1)&" ("&INDEX(FluxBins,$A28*2+2,Z$1)&")")} -> #N/A | AA28: {=IF(INDEX(FluxBins,$A28*2+1,AA$1)="","",INDEX(FluxBins,$A28*2+1,AA$1)&" ("&INDEX(FluxBins,$A28*2+2,AA$1)&")")} -> #N/A | ... BV28: {=IF(INDEX(FluxBins,$A28*2+1,BV$1)="","",INDEX(FluxBins,$A28*2+1,BV$1)&" ("&INDEX(FluxBins,$A28*2+2,BV$1)&")")} -> #N/A

Sheet BGCalc2
H1: Calculated Values | K1: Calculations
A2: Graph Index | B2: Points for Graph | C2: Current | D2: %LF vs Tj Slope | E2: Tj @ 100% LF | F2: Temp Coeff of V | G2: Thermal Resistance | H2: Vf | I2: %LF | J2: Current | K2: Voltage | L2: Power | M2: lm | N2: LPW | O2: %LF | P2: Tj (ºC) | Q2: Tsp (ºC) | R2: Power for Temperature Calculations | S2: F degradation factor due to temperature
A3: 1 | B3: 0 | C3: {=INDEX(BGCalc1!$F$4:$F$28,A3)+(INDEX(BGCalc1!$G$4:$G$28,A3)-INDEX(BGCalc1!$F$4:$F$28,A3))/50*B3} -> #N/A | D3: {=INDEX(BGCalc1!$P$4:$P$28,A3)} -> #N/A | E3: {=INDEX(BGCalc1!$Q$4:$Q$28,A3)} -> #N/A | F3: {=INDEX(BGCalc1!$R$4:$R$28,A3)} -> #N/A | G3: {=INDEX(BGCalc1!$S$4:$S$28,A3)} -> #N/A | H3: {=INDEX(BGCalc1!$L$4:$L$28,A3)*$C3^3+INDEX(BGCalc1!$M$4:$M$28,A3)*$C3^2+INDEX(BGCalc1!$N$4:$N$28,A3)*$C3+INDEX(BGCalc1!$O$4:$O$28,A3)+INDEX('Bulk Graph'!$E$6:$E$30,A3)} -> #N/A | I3: {=INDEX(BGCalc1!$H$4:$H$28,A3)*$C3^3+INDEX(BGCalc1!$I$4:$I$28,A3)*$C3^2+INDEX(BGCalc1!$J$4:$J$28,A3)*$C3+INDEX(BGCalc1!$K$4:$K$28,A3)} -> #N/A | J3: =C3 -> #N/A | K3: =H3+(P3-E3)*F3 -> #N/A | L3: =C3*K3 -> #N/A | M3: {=I3*S3*INDEX(BGCalc1!$B$4:$B$28,A3)} -> #N/A | N3: =M3/L3 -> #N/A | O3: =I3*S3 -> #N/A | P3: =CHOOSE(BGCalc1!$C$1,BGCalc1!$D$1,BGCalc1!$D$1+R3*G3) -> #N/A | Q3: =CHOOSE(BGCalc1!$C$1,NA(),BGCalc1!$D$1) -> 25 | R3: =C3*(H3+(BGCalc1!$D$1-E3)*F3) -> #N/A | S3: =1+(P3-E3)*D3 -> #N/A
A4: 1 | B4: 1 | C4: {=INDEX(BGCalc1!$F$4:$F$28,A4)+(INDEX(BGCalc1!$G$4:$G$28,A4)-INDEX(BGCalc1!$F$4:$F$28,A4))/50*B4} -> #N/A | D4: =D3 -> #N/A | E4: =E3 -> #N/A | F4: =F3 -> #N/A | G4: =G3 -> #N/A | H4: {=INDEX(BGCalc1!$L$4:$L$28,A4)*$C4^3+INDEX(BGCalc1!$M$4:$M$28,A4)*$C4^2+INDEX(BGCalc1!$N$4:$N$28,A4)*$C4+INDEX(BGCalc1!$O$4:$O$28,A4)+INDEX('Bulk Graph'!$E$6:$E$30,A4)} -> #N/A | I4: {=INDEX(BGCalc1!$H$4:$H$28,A4)*$C4^3+INDEX(BGCalc1!$I$4:$I$28,A4)*$C4^2+INDEX(BGCalc1!$J$4:$J$28,A4)*$C4+INDEX(BGCalc1!$K$4:$K$28,A4)} -> #N/A | J4: =C4 -> #N/A | K4: =H4+(P4-E4)*F4 -> #N/A | L4: =C4*K4 -> #N/A | M4: {=I4*S4*INDEX(BGCalc1!$B$4:$B$28,A4)} -> #N/A | N4: =M4/L4 -> #N/A | O4: =I4*S4 -> #N/A | P4: =CHOOSE(BGCalc1!$C$1,BGCalc1!$D$1,BGCalc1!$D$1+R4*G4) -> #N/A | Q4: =CHOOSE(BGCalc1!$C$1,NA(),BGCalc1!$D$1) -> 25 | R4: =C4*(H4+(BGCalc1!$D$1-E4)*F4) -> #N/A | S4: =1+(P4-E4)*D4 -> #N/A
A5: 1 | B5: 2 | C5: {=INDEX(BGCalc1!$F$4:$F$28,A5)+(INDEX(BGCalc1!$G$4:$G$28,A5)-INDEX(BGCalc1!$F$4:$F$28,A5))/50*B5} -> #N/A | D5: =D4 -> #N/A | E5: =E4 -> #N/A | F5: =F4 -> #N/A | G5: =G4 -> #N/A | H5: {=INDEX(BGCalc1!$L$4:$L$28,A5)*$C5^3+INDEX(BGCalc1!$M$4:$M$28,A5)*$C5^2+INDEX(BGCalc1!$N$4:$N$28,A5)*$C5+INDEX(BGCalc1!$O$4:$O$28,A5)+INDEX('Bulk Graph'!$E$6:$E$30,A5)} -> #N/A | I5: {=INDEX(BGCalc1!$H$4:$H$28,A5)*$C5^3+INDEX(BGCalc1!$I$4:$I$28,A5)*$C5^2+INDEX(BGCalc1!$J$4:$J$28,A5)*$C5+INDEX(BGCalc1!$K$4:$K$28,A5)} -> #N/A | J5: =C5 -> #N/A | K5: =H5+(P5-E5)*F5 -> #N/A | L5: =C5*K5 -> #N/A | M5: {=I5*S5*INDEX(BGCalc1!$B$4:$B$28,A5)} -> #N/A | N5: =M5/L5 -> #N/A | O5: =I5*S5 -> #N/A | P5: =CHOOSE(BGCalc1!$C$1,BGCalc1!$D$1,BGCalc1!$D$1+R5*G5) -> #N/A | Q5: =CHOOSE(BGCalc1!$C$1,NA(),BGCalc1!$D$1) -> 25 | R5: =C5*(H5+(BGCalc1!$D$1-E5)*F5) -> #N/A | S5: =1+(P5-E5)*D5 -> #N/A
A6: 1 | B6: 3 | C6: {=INDEX(BGCalc1!$F$4:$F$28,A6)+(INDEX(BGCalc1!$G$4:$G$28,A6)-INDEX(BGCalc1!$F$4:$F$28,A6))/50*B6} -> #N/A | D6: =D5 -> #N/A | E6: =E5 -> #N/A | F6: =F5 -> #N/A | G6: =G5 -> #N/A | H6: {=INDEX(BGCalc1!$L$4:$L$28,A6)*$C6^3+INDEX(BGCalc1!$M$4:$M$28,A6)*$C6^2+INDEX(BGCalc1!$N$4:$N$28,A6)*$C6+INDEX(BGCalc1!$O$4:$O$28,A6)+INDEX('Bulk Graph'!$E$6:$E$30,A6)} -> #N/A | I6: {=INDEX(BGCalc1!$H$4:$H$28,A6)*$C6^3+INDEX(BGCalc1!$I$4:$I$28,A6)*$C6^2+INDEX(BGCalc1!$J$4:$J$28,A6)*$C6+INDEX(BGCalc1!$K$4:$K$28,A6)} -> #N/A | J6: =C6 -> #N/A | K6: =H6+(P6-E6)*F6 -> #N/A | L6: =C6*K6 -> #N/A | M6: {=I6*S6*INDEX(BGCalc1!$B$4:$B$28,A6)} -> #N/A | N6: =M6/L6 -> #N/A | O6: =I6*S6 -> #N/A | P6: =CHOOSE(BGCalc1!$C$1,BGCalc1!$D$1,BGCalc1!$D$1+R6*G6) -> #N/A | Q6: =CHOOSE(BGCalc1!$C$1,NA(),BGCalc1!$D$1) -> 25 | R6: =C6*(H6+(BGCalc1!$D$1-E6)*F6) -> #N/A | S6: =1+(P6-E6)*D6 -> #N/A
A7: 1 | B7: 4 | C7: {=INDEX(BGCalc1!$F$4:$F$28,A7)+(INDEX(BGCalc1!$G$4:$G$28,A7)-INDEX(BGCalc1!$F$4:$F$28,A7))/50*B7} -> #N/A | D7: =D6 -> #N/A | E7: =E6 -> #N/A | F7: =F6 -> #N/A | G7: =G6 -> #N/A | H7: {=INDEX(BGCalc1!$L$4:$L$28,A7)*$C7^3+INDEX(BGCalc1!$M$4:$M$28,A7)*$C7^2+INDEX(BGCalc1!$N$4:$N$28,A7)*$C7+INDEX(BGCalc1!$O$4:$O$28,A7)+INDEX('Bulk Graph'!$E$6:$E$30,A7)} -> #N/A | I7: {=INDEX(BGCalc1!$H$4:$H$28,A7)*$C7^3+INDEX(BGCalc1!$I$4:$I$28,A7)*$C7^2+INDEX(BGCalc1!$J$4:$J$28,A7)*$C7+INDEX(BGCalc1!$K$4:$K$28,A7)} -> #N/A | J7: =C7 -> #N/A | K7: =H7+(P7-E7)*F7 -> #N/A | L7: =C7*K7 -> #N/A | M7: {=I7*S7*INDEX(BGCalc1!$B$4:$B$28,A7)} -> #N/A | N7: =M7/L7 -> #N/A | O7: =I7*S7 -> #N/A | P7: =CHOOSE(BGCalc1!$C$1,BGCalc1!$D$1,BGCalc1!$D$1+R7*G7) -> #N/A | Q7: =CHOOSE(BGCalc1!$C$1,NA(),BGCalc1!$D$1) -> 25 | R7: =C7*(H7+(BGCalc1!$D$1-E7)*F7) -> #N/A | S7: =1+(P7-E7)*D7 -> #N/A
A8: 1 | B8: 5 | C8: {=INDEX(BGCalc1!$F$4:$F$28,A8)+(INDEX(BGCalc1!$G$4:$G$28,A8)-INDEX(BGCalc1!$F$4:$F$28,A8))/50*B8} -> #N/A | D8: =D7 -> #N/A | E8: =E7 -> #N/A | F8: =F7 -> #N/A | G8: =G7 -> #N/A | H8: {=INDEX(BGCalc1!$L$4:$L$28,A8)*$C8^3+INDEX(BGCalc1!$M$4:$M$28,A8)*$C8^2+INDEX(BGCalc1!$N$4:$N$28,A8)*$C8+INDEX(BGCalc1!$O$4:$O$28,A8)+INDEX('Bulk Graph'!$E$6:$E$30,A8)} -> #N/A | I8: {=INDEX(BGCalc1!$H$4:$H$28,A8)*$C8^3+INDEX(BGCalc1!$I$4:$I$28,A8)*$C8^2+INDEX(BGCalc1!$J$4:$J$28,A8)*$C8+INDEX(BGCalc1!$K$4:$K$28,A8)} -> #N/A | J8: =C8 -> #N/A | K8: =H8+(P8-E8)*F8 -> #N/A | L8: =C8*K8 -> #N/A | M8: {=I8*S8*INDEX(BGCalc1!$B$4:$B$28,A8)} -> #N/A | N8: =M8/L8 -> #N/A | O8: =I8*S8 -> #N/A | P8: =CHOOSE(BGCalc1!$C$1,BGCalc1!$D$1,BGCalc1!$D$1+R8*G8) -> #N/A | Q8: =CHOOSE(BGCalc1!$C$1,NA(),BGCalc1!$D$1) -> 25 | R8: =C8*(H8+(BGCalc1!$D$1-E8)*F8) -> #N/A | S8: =1+(P8-E8)*D8 -> #N/A
A9: 1 | B9: 6 | C9: {=INDEX(BGCalc1!$F$4:$F$28,A9)+(INDEX(BGCalc1!$G$4:$G$28,A9)-INDEX(BGCalc1!$F$4:$F$28,A9))/50*B9} -> #N/A | D9: =D8 -> #N/A | E9: =E8 -> #N/A | F9: =F8 -> #N/A | G9: =G8 -> #N/A | H9: {=INDEX(BGCalc1!$L$4:$L$28,A9)*$C9^3+INDEX(BGCalc1!$M$4:$M$28,A9)*$C9^2+INDEX(BGCalc1!$N$4:$N$28,A9)*$C9+INDEX(BGCalc1!$O$4:$O$28,A9)+INDEX('Bulk Graph'!$E$6:$E$30,A9)} -> #N/A | I9: {=INDEX(BGCalc1!$H$4:$H$28,A9)*$C9^3+INDEX(BGCalc1!$I$4:$I$28,A9)*$C9^2+INDEX(BGCalc1!$J$4:$J$28,A9)*$C9+INDEX(BGCalc1!$K$4:$K$28,A9)} -> #N/A | J9: =C9 -> #N/A | K9: =H9+(P9-E9)*F9 -> #N/A | L9: =C9*K9 -> #N/A | M9: {=I9*S9*INDEX(BGCalc1!$B$4:$B$28,A9)} -> #N/A | N9: =M9/L9 -> #N/A | O9: =I9*S9 -> #N/A | P9: =CHOOSE(BGCalc1!$C$1,BGCalc1!$D$1,BGCalc1!$D$1+R9*G9) -> #N/A | Q9: =CHOOSE(BGCalc1!$C$1,NA(),BGCalc1!$D$1) -> 25 | R9: =C9*(H9+(BGCalc1!$D$1-E9)*F9) -> #N/A | S9: =1+(P9-E9)*D9 -> #N/A
A10: 1 | B10: 7 | C10: {=INDEX(BGCalc1!$F$4:$F$28,A10)+(INDEX(BGCalc1!$G$4:$G$28,A10)-INDEX(BGCalc1!$F$4:$F$28,A10))/50*B10} -> #N/A | D10: =D9 -> #N/A | E10: =E9 -> #N/A | F10: =F9 -> #N/A | G10: =G9 -> #N/A | H10: {=INDEX(BGCalc1!$L$4:$L$28,A10)*$C10^3+INDEX(BGCalc1!$M$4:$M$28,A10)*$C10^2+INDEX(BGCalc1!$N$4:$N$28,A10)*$C10+INDEX(BGCalc1!$O$4:$O$28,A10)+INDEX('Bulk Graph'!$E$6:$E$30,A10)} -> #N/A | I10: {=INDEX(BGCalc1!$H$4:$H$28,A10)*$C10^3+INDEX(BGCalc1!$I$4:$I$28,A10)*$C10^2+INDEX(BGCalc1!$J$4:$J$28,A10)*$C10+INDEX(BGCalc1!$K$4:$K$28,A10)} -> #N/A | J10: =C10 -> #N/A | K10: =H10+(P10-E10)*F10 -> #N/A | L10: =C10*K10 -> #N/A | M10: {=I10*S10*INDEX(BGCalc1!$B$4:$B$28,A10)} -> #N/A | N10: =M10/L10 -> #N/A | O10: =I10*S10 -> #N/A | P10: =CHOOSE(BGCalc1!$C$1,BGCalc1!$D$1,BGCalc1!$D$1+R10*G10) -> #N/A | Q10: =CHOOSE(BGCalc1!$C$1,NA(),BGCalc1!$D$1) -> 25 | R10: =C10*(H10+(BGCalc1!$D$1-E10)*F10) -> #N/A | S10: =1+(P10-E10)*D10 -> #N/A
A11: 1 | B11: 8 | C11: {=INDEX(BGCalc1!$F$4:$F$28,A11)+(INDEX(BGCalc1!$G$4:$G$28,A11)-INDEX(BGCalc1!$F$4:$F$28,A11))/50*B11} -> #N/A | D11: =D10 -> #N/A | E11: =E10 -> #N/A | F11: =F10 -> #N/A | G11: =G10 -> #N/A | H11: {=INDEX(BGCalc1!$L$4:$L$28,A11)*$C11^3+INDEX(BGCalc1!$M$4:$M$28,A11)*$C11^2+INDEX(BGCalc1!$N$4:$N$28,A11)*$C11+INDEX(BGCalc1!$O$4:$O$28,A11)+INDEX('Bulk Graph'!$E$6:$E$30,A11)} -> #N/A | I11: {=INDEX(BGCalc1!$H$4:$H$28,A11)*$C11^3+INDEX(BGCalc1!$I$4:$I$28,A11)*$C11^2+INDEX(BGCalc1!$J$4:$J$28,A11)*$C11+INDEX(BGCalc1!$K$4:$K$28,A11)} -> #N/A | J11: =C11 -> #N/A | K11: =H11+(P11-E11)*F11 -> #N/A | L11: =C11*K11 -> #N/A | M11: {=I11*S11*INDEX(BGCalc1!$B$4:$B$28,A11)} -> #N/A | N11: =M11/L11 -> #N/A | O11: =I11*S11 -> #N/A | P11: =CHOOSE(BGCalc1!$C$1,BGCalc1!$D$1,BGCalc1!$D$1+R11*G11) -> #N/A | Q11: =CHOOSE(BGCalc1!$C$1,NA(),BGCalc1!$D$1) -> 25 | R11: =C11*(H11+(BGCalc1!$D$1-E11)*F11) -> #N/A | S11: =1+(P11-E11)*D11 -> #N/A
A12: 1 | B12: 9 | C12: {=INDEX(BGCalc1!$F$4:$F$28,A12)+(INDEX(BGCalc1!$G$4:$G$28,A12)-INDEX(BGCalc1!$F$4:$F$28,A12))/50*B12} -> #N/A | D12: =D11 -> #N/A | E12: =E11 -> #N/A | F12: =F11 -> #N/A | G12: =G11 -> #N/A | H12: {=INDEX(BGCalc1!$L$4:$L$28,A12)*$C12^3+INDEX(BGCalc1!$M$4:$M$28,A12)*$C12^2+INDEX(BGCalc1!$N$4:$N$28,A12)*$C12+INDEX(BGCalc1!$O$4:$O$28,A12)+INDEX('Bulk Graph'!$E$6:$E$30,A12)} -> #N/A | I12: {=INDEX(BGCalc1!$H$4:$H$28,A12)*$C12^3+INDEX(BGCalc1!$I$4:$I$28,A12)*$C12^2+INDEX(BGCalc1!$J$4:$J$28,A12)*$C12+INDEX(BGCalc1!$K$4:$K$28,A12)} -> #N/A | J12: =C12 -> #N/A | K12: =H12+(P12-E12)*F12 -> #N/A | L12: =C12*K12 -> #N/A | M12: {=I12*S12*INDEX(BGCalc1!$B$4:$B$28,A12)} -> #N/A | N12: =M12/L12 -> #N/A | O12: =I12*S12 -> #N/A | P12: =CHOOSE(BGCalc1!$C$1,BGCalc1!$D$1,BGCalc1!$D$1+R12*G12) -> #N/A | Q12: =CHOOSE(BGCalc1!$C$1,NA(),BGCalc1!$D$1) -> 25 | R12: =C12*(H12+(BGCalc1!$D$1-E12)*F12) -> #N/A | S12: =1+(P12-E12)*D12 -> #N/A
A13: 1 | B13: 10 | C13: {=INDEX(BGCalc1!$F$4:$F$28,A13)+(INDEX(BGCalc1!$G$4:$G$28,A13)-INDEX(BGCalc1!$F$4:$F$28,A13))/50*B13} -> #N/A | D13: =D12 -> #N/A | E13: =E12 -> #N/A | F13: =F12 -> #N/A | G13: =G12 -> #N/A | H13: {=INDEX(BGCalc1!$L$4:$L$28,A13)*$C13^3+INDEX(BGCalc1!$M$4:$M$28,A13)*$C13^2+INDEX(BGCalc1!$N$4:$N$28,A13)*$C13+INDEX(BGCalc1!$O$4:$O$28,A13)+INDEX('Bulk Graph'!$E$6:$E$30,A13)} -> #N/A | I13: {=INDEX(BGCalc1!$H$4:$H$28,A13)*$C13^3+INDEX(BGCalc1!$I$4:$I$28,A13)*$C13^2+INDEX(BGCalc1!$J$4:$J$28,A13)*$C13+INDEX(BGCalc1!$K$4:$K$28,A13)} -> #N/A | J13: =C13 -> #N/A | K13: =H13+(P13-E13)*F13 -> #N/A | L13: =C13*K13 -> #N/A | M13: {=I13*S13*INDEX(BGCalc1!$B$4:$B$28,A13)} -> #N/A | N13: =M13/L13 -> #N/A | O13: =I13*S13 -> #N/A | P13: =CHOOSE(BGCalc1!$C$1,BGCalc1!$D$1,BGCalc1!$D$1+R13*G13) -> #N/A | Q13: =CHOOSE(BGCalc1!$C$1,NA(),BGCalc1!$D$1) -> 25 | R13: =C13*(H13+(BGCalc1!$D$1-E13)*F13) -> #N/A | S13: =1+(P13-E13)*D13 -> #N/A
A14: 1 | B14: 11 | C14: {=INDEX(BGCalc1!$F$4:$F$28,A14)+(INDEX(BGCalc1!$G$4:$G$28,A14)-INDEX(BGCalc1!$F$4:$F$28,A14))/50*B14} -> #N/A | D14: =D13 -> #N/A | E14: =E13 -> #N/A | F14: =F13 -> #N/A | G14: =G13 -> #N/A | H14: {=INDEX(BGCalc1!$L$4:$L$28,A14)*$C14^3+INDEX(BGCalc1!$M$4:$M$28,A14)*$C14^2+INDEX(BGCalc1!$N$4:$N$28,A14)*$C14+INDEX(BGCalc1!$O$4:$O$28,A14)+INDEX('Bulk Graph'!$E$6:$E$30,A14)} -> #N/A | I14: {=INDEX(BGCalc1!$H$4:$H$28,A14)*$C14^3+INDEX(BGCalc1!$I$4:$I$28,A14)*$C14^2+INDEX(BGCalc1!$J$4:$J$28,A14)*$C14+INDEX(BGCalc1!$K$4:$K$28,A14)} -> #N/A | J14: =C14 -> #N/A | K14: =H14+(P14-E14)*F14 -> #N/A | L14: =C14*K14 -> #N/A | M14: {=I14*S14*INDEX(BGCalc1!$B$4:$B$28,A14)} -> #N/A | N14: =M14/L14 -> #N/A | O14: =I14*S14 -> #N/A | P14: =CHOOSE(BGCalc1!$C$1,BGCalc1!$D$1,BGCalc1!$D$1+R14*G14) -> #N/A | Q14: =CHOOSE(BGCalc1!$C$1,NA(),BGCalc1!$D$1) -> 25 | R14: =C14*(H14+(BGCalc1!$D$1-E14)*F14) -> #N/A | S14: =1+(P14-E14)*D14 -> #N/A
A15: 1 | B15: 12 | C15: {=INDEX(BGCalc1!$F$4:$F$28,A15)+(INDEX(BGCalc1!$G$4:$G$28,A15)-INDEX(BGCalc1!$F$4:$F$28,A15))/50*B15} -> #N/A | D15: =D14 -> #N/A | E15: =E14 -> #N/A | F15: =F14 -> #N/A | G15: =G14 -> #N/A | H15: {=INDEX(BGCalc1!$L$4:$L$28,A15)*$C15^3+INDEX(BGCalc1!$M$4:$M$28,A15)*$C15^2+INDEX(BGCalc1!$N$4:$N$28,A15)*$C15+INDEX(BGCalc1!$O$4:$O$28,A15)+INDEX('Bulk Graph'!$E$6:$E$30,A15)} -> #N/A | I15: {=INDEX(BGCalc1!$H$4:$H$28,A15)*$C15^3+INDEX(BGCalc1!$I$4:$I$28,A15)*$C15^2+INDEX(BGCalc1!$J$4:$J$28,A15)*$C15+INDEX(BGCalc1!$K$4:$K$28,A15)} -> #N/A | J15: =C15 -> #N/A | K15: =H15+(P15-E15)*F15 -> #N/A | L15: =C15*K15 -> #N/A | M15: {=I15*S15*INDEX(BGCalc1!$B$4:$B$28,A15)} -> #N/A | N15: =M15/L15 -> #N/A | O15: =I15*S15 -> #N/A | P15: =CHOOSE(BGCalc1!$C$1,BGCalc1!$D$1,BGCalc1!$D$1+R15*G15) -> #N/A | Q15: =CHOOSE(BGCalc1!$C$1,NA(),BGCalc1!$D$1) -> 25 | R15: =C15*(H15+(BGCalc1!$D$1-E15)*F15) -> #N/A | S15: =1+(P15-E15)*D15 -> #N/A
... A53: 1 | B53: 50 | C53: {=INDEX(BGCalc1!$F$4:$F$28,A53)+(INDEX(BGCalc1!$G$4:$G$28,A53)-INDEX(BGCalc1!$F$4:$F$28,A53))/50*B53} -> #N/A | D53: =D52 -> #N/A | E53: =E52 -> #N/A | F53: =F52 -> #N/A | G53: =G52 -> #N/A | H53: {=INDEX(BGCalc1!$L$4:$L$28,A53)*$C53^3+INDEX(BGCalc1!$M$4:$M$28,A53)*$C53^2+INDEX(BGCalc1!$N$4:$N$28,A53)*$C53+INDEX(BGCalc1!$O$4:$O$28,A53)+INDEX('Bulk Graph'!$E$6:$E$30,A53)} -> #N/A | I53: {=INDEX(BGCalc1!$H$4:$H$28,A53)*$C53^3+INDEX(BGCalc1!$I$4:$I$28,A53)*$C53^2+INDEX(BGCalc1!$J$4:$J$28,A53)*$C53+INDEX(BGCalc1!$K$4:$K$28,A53)} -> #N/A | J53: =C53 -> #N/A | K53: =H53+(P53-E53)*F53 -> #N/A | L53: =C53*K53 -> #N/A | M53: {=I53*S53*INDEX(BGCalc1!$B$4:$B$28,A53)} -> #N/A | N53: =M53/L53 -> #N/A | O53: =I53*S53 -> #N/A | P53: =CHOOSE(BGCalc1!$C$1,BGCalc1!$D$1,BGCalc1!$D$1+R53*G53) -> #N/A | Q53: =CHOOSE(BGCalc1!$C$1,NA(),BGCalc1!$D$1) -> 25 | R53: =C53*(H53+(BGCalc1!$D$1-E53)*F53) -> #N/A | S53: =1+(P53-E53)*D53 -> #N/A
A54: 2 | B54: 0 | C54: {=INDEX(BGCalc1!$F$4:$F$28,A54)+(INDEX(BGCalc1!$G$4:$G$28,A54)-INDEX(BGCalc1!$F$4:$F$28,A54))/50*B54} -> #N/A | D54: {=INDEX(BGCalc1!$P$4:$P$28,A54)} -> #N/A | E54: {=INDEX(BGCalc1!$Q$4:$Q$28,A54)} -> #N/A | F54: {=INDEX(BGCalc1!$R$4:$R$28,A54)} -> #N/A | G54: {=INDEX(BGCalc1!$S$4:$S$28,A54)} -> #N/A | H54: {=INDEX(BGCalc1!$L$4:$L$28,A54)*$C54^3+INDEX(BGCalc1!$M$4:$M$28,A54)*$C54^2+INDEX(BGCalc1!$N$4:$N$28,A54)*$C54+INDEX(BGCalc1!$O$4:$O$28,A54)+INDEX('Bulk Graph'!$E$6:$E$30,A54)} -> #N/A | I54: {=INDEX(BGCalc1!$H$4:$H$28,A54)*$C54^3+INDEX(BGCalc1!$I$4:$I$28,A54)*$C54^2+INDEX(BGCalc1!$J$4:$J$28,A54)*$C54+INDEX(BGCalc1!$K$4:$K$28,A54)} -> #N/A | J54: =C54 -> #N/A | K54: =H54+(P54-E54)*F54 -> #N/A | L54: =C54*K54 -> #N/A | M54: {=I54*S54*INDEX(BGCalc1!$B$4:$B$28,A54)} -> #N/A | N54: =M54/L54 -> #N/A | O54: =I54*S54 -> #N/A | P54: =CHOOSE(BGCalc1!$C$1,BGCalc1!$D$1,BGCalc1!$D$1+R54*G54) -> #N/A | Q54: =CHOOSE(BGCalc1!$C$1,NA(),BGCalc1!$D$1) -> 25 | R54: =C54*(H54+(BGCalc1!$D$1-E54)*F54) -> #N/A | S54: =1+(P54-E54)*D54 -> #N/A
A55: 2 | B55: 1 | C55: {=INDEX(BGCalc1!$F$4:$F$28,A55)+(INDEX(BGCalc1!$G$4:$G$28,A55)-INDEX(BGCalc1!$F$4:$F$28,A55))/50*B55} -> #N/A | D55: =D54 -> #N/A | E55: =E54 -> #N/A | F55: =F54 -> #N/A | G55: =G54 -> #N/A | H55: {=INDEX(BGCalc1!$L$4:$L$28,A55)*$C55^3+INDEX(BGCalc1!$M$4:$M$28,A55)*$C55^2+INDEX(BGCalc1!$N$4:$N$28,A55)*$C55+INDEX(BGCalc1!$O$4:$O$28,A55)+INDEX('Bulk Graph'!$E$6:$E$30,A55)} -> #N/A | I55: {=INDEX(BGCalc1!$H$4:$H$28,A55)*$C55^3+INDEX(BGCalc1!$I$4:$I$28,A55)*$C55^2+INDEX(BGCalc1!$J$4:$J$28,A55)*$C55+INDEX(BGCalc1!$K$4:$K$28,A55)} -> #N/A | J55: =C55 -> #N/A | K55: =H55+(P55-E55)*F55 -> #N/A | L55: =C55*K55 -> #N/A | M55: {=I55*S55*INDEX(BGCalc1!$B$4:$B$28,A55)} -> #N/A | N55: =M55/L55 -> #N/A | O55: =I55*S55 -> #N/A | P55: =CHOOSE(BGCalc1!$C$1,BGCalc1!$D$1,BGCalc1!$D$1+R55*G55) -> #N/A | Q55: =CHOOSE(BGCalc1!$C$1,NA(),BGCalc1!$D$1) -> 25 | R55: =C55*(H55+(BGCalc1!$D$1-E55)*F55) -> #N/A | S55: =1+(P55-E55)*D55 -> #N/A
A56: 2 | B56: 2 | C56: {=INDEX(BGCalc1!$F$4:$F$28,A56)+(INDEX(BGCalc1!$G$4:$G$28,A56)-INDEX(BGCalc1!$F$4:$F$28,A56))/50*B56} -> #N/A | D56: =D55 -> #N/A | E56: =E55 -> #N/A | F56: =F55 -> #N/A | G56: =G55 -> #N/A | H56: {=INDEX(BGCalc1!$L$4:$L$28,A56)*$C56^3+INDEX(BGCalc1!$M$4:$M$28,A56)*$C56^2+INDEX(BGCalc1!$N$4:$N$28,A56)*$C56+INDEX(BGCalc1!$O$4:$O$28,A56)+INDEX('Bulk Graph'!$E$6:$E$30,A56)} -> #N/A | I56: {=INDEX(BGCalc1!$H$4:$H$28,A56)*$C56^3+INDEX(BGCalc1!$I$4:$I$28,A56)*$C56^2+INDEX(BGCalc1!$J$4:$J$28,A56)*$C56+INDEX(BGCalc1!$K$4:$K$28,A56)} -> #N/A | J56: =C56 -> #N/A | K56: =H56+(P56-E56)*F56 -> #N/A | L56: =C56*K56 -> #N/A | M56: {=I56*S56*INDEX(BGCalc1!$B$4:$B$28,A56)} -> #N/A | N56: =M56/L56 -> #N/A | O56: =I56*S56 -> #N/A | P56: =CHOOSE(BGCalc1!$C$1,BGCalc1!$D$1,BGCalc1!$D$1+R56*G56) -> #N/A | Q56: =CHOOSE(BGCalc1!$C$1,NA(),BGCalc1!$D$1) -> 25 | R56: =C56*(H56+(BGCalc1!$D$1-E56)*F56) -> #N/A | S56: =1+(P56-E56)*D56 -> #N/A
A57: 2 | B57: 3 | C57: {=INDEX(BGCalc1!$F$4:$F$28,A57)+(INDEX(BGCalc1!$G$4:$G$28,A57)-INDEX(BGCalc1!$F$4:$F$28,A57))/50*B57} -> #N/A | D57: =D56 -> #N/A | E57: =E56 -> #N/A | F57: =F56 -> #N/A | G57: =G56 -> #N/A | H57: {=INDEX(BGCalc1!$L$4:$L$28,A57)*$C57^3+INDEX(BGCalc1!$M$4:$M$28,A57)*$C57^2+INDEX(BGCalc1!$N$4:$N$28,A57)*$C57+INDEX(BGCalc1!$O$4:$O$28,A57)+INDEX('Bulk Graph'!$E$6:$E$30,A57)} -> #N/A | I57: {=INDEX(BGCalc1!$H$4:$H$28,A57)*$C57^3+INDEX(BGCalc1!$I$4:$I$28,A57)*$C57^2+INDEX(BGCalc1!$J$4:$J$28,A57)*$C57+INDEX(BGCalc1!$K$4:$K$28,A57)} -> #N/A | J57: =C57 -> #N/A | K57: =H57+(P57-E57)*F57 -> #N/A | L57: =C57*K57 -> #N/A | M57: {=I57*S57*INDEX(BGCalc1!$B$4:$B$28,A57)} -> #N/A | N57: =M57/L57 -> #N/A | O57: =I57*S57 -> #N/A | P57: =CHOOSE(BGCalc1!$C$1,BGCalc1!$D$1,BGCalc1!$D$1+R57*G57) -> #N/A | Q57: =CHOOSE(BGCalc1!$C$1,NA(),BGCalc1!$D$1) -> 25 | R57: =C57*(H57+(BGCalc1!$D$1-E57)*F57) -> #N/A | S57: =1+(P57-E57)*D57 -> #N/A
A58: 2 | B58: 4 | C58: {=INDEX(BGCalc1!$F$4:$F$28,A58)+(INDEX(BGCalc1!$G$4:$G$28,A58)-INDEX(BGCalc1!$F$4:$F$28,A58))/50*B58} -> #N/A | D58: =D57 -> #N/A | E58: =E57 -> #N/A | F58: =F57 -> #N/A | G58: =G57 -> #N/A | H58: {=INDEX(BGCalc1!$L$4:$L$28,A58)*$C58^3+INDEX(BGCalc1!$M$4:$M$28,A58)*$C58^2+INDEX(BGCalc1!$N$4:$N$28,A58)*$C58+INDEX(BGCalc1!$O$4:$O$28,A58)+INDEX('Bulk Graph'!$E$6:$E$30,A58)} -> #N/A | I58: {=INDEX(BGCalc1!$H$4:$H$28,A58)*$C58^3+INDEX(BGCalc1!$I$4:$I$28,A58)*$C58^2+INDEX(BGCalc1!$J$4:$J$28,A58)*$C58+INDEX(BGCalc1!$K$4:$K$28,A58)} -> #N/A | J58: =C58 -> #N/A | K58: =H58+(P58-E58)*F58 -> #N/A | L58: =C58*K58 -> #N/A | M58: {=I58*S58*INDEX(BGCalc1!$B$4:$B$28,A58)} -> #N/A | N58: =M58/L58 -> #N/A | O58: =I58*S58 -> #N/A | P58: =CHOOSE(BGCalc1!$C$1,BGCalc1!$D$1,BGCalc1!$D$1+R58*G58) -> #N/A | Q58: =CHOOSE(BGCalc1!$C$1,NA(),BGCalc1!$D$1) -> 25 | R58: =C58*(H58+(BGCalc1!$D$1-E58)*F58) -> #N/A | S58: =1+(P58-E58)*D58 -> #N/A
A59: 2 | B59: 5 | C59: {=INDEX(BGCalc1!$F$4:$F$28,A59)+(INDEX(BGCalc1!$G$4:$G$28,A59)-INDEX(BGCalc1!$F$4:$F$28,A59))/50*B59} -> #N/A | D59: =D58 -> #N/A | E59: =E58 -> #N/A | F59: =F58 -> #N/A | G59: =G58 -> #N/A | H59: {=INDEX(BGCalc1!$L$4:$L$28,A59)*$C59^3+INDEX(BGCalc1!$M$4:$M$28,A59)*$C59^2+INDEX(BGCalc1!$N$4:$N$28,A59)*$C59+INDEX(BGCalc1!$O$4:$O$28,A59)+INDEX('Bulk Graph'!$E$6:$E$30,A59)} -> #N/A | I59: {=INDEX(BGCalc1!$H$4:$H$28,A59)*$C59^3+INDEX(BGCalc1!$I$4:$I$28,A59)*$C59^2+INDEX(BGCalc1!$J$4:$J$28,A59)*$C59+INDEX(BGCalc1!$K$4:$K$28,A59)} -> #N/A | J59: =C59 -> #N/A | K59: =H59+(P59-E59)*F59 -> #N/A | L59: =C59*K59 -> #N/A | M59: {=I59*S59*INDEX(BGCalc1!$B$4:$B$28,A59)} -> #N/A | N59: =M59/L59 -> #N/A | O59: =I59*S59 -> #N/A | P59: =CHOOSE(BGCalc1!$C$1,BGCalc1!$D$1,BGCalc1!$D$1+R59*G59) -> #N/A | Q59: =CHOOSE(BGCalc1!$C$1,NA(),BGCalc1!$D$1) -> 25 | R59: =C59*(H59+(BGCalc1!$D$1-E59)*F59) -> #N/A | S59: =1+(P59-E59)*D59 -> #N/A
A60: 2 | B60: 6 | C60: {=INDEX(BGCalc1!$F$4:$F$28,A60)+(INDEX(BGCalc1!$G$4:$G$28,A60)-INDEX(BGCalc1!$F$4:$F$28,A60))/50*B60} -> #N/A | D60: =D59 -> #N/A | E60: =E59 -> #N/A | F60: =F59 -> #N/A | G60: =G59 -> #N/A | H60: {=INDEX(BGCalc1!$L$4:$L$28,A60)*$C60^3+INDEX(BGCalc1!$M$4:$M$28,A60)*$C60^2+INDEX(BGCalc1!$N$4:$N$28,A60)*$C60+INDEX(BGCalc1!$O$4:$O$28,A60)+INDEX('Bulk Graph'!$E$6:$E$30,A60)} -> #N/A | I60: {=INDEX(BGCalc1!$H$4:$H$28,A60)*$C60^3+INDEX(BGCalc1!$I$4:$I$28,A60)*$C60^2+INDEX(BGCalc1!$J$4:$J$28,A60)*$C60+INDEX(BGCalc1!$K$4:$K$28,A60)} -> #N/A | J60: =C60 -> #N/A | K60: =H60+(P60-E60)*F60 -> #N/A | L60: =C60*K60 -> #N/A | M60: {=I60*S60*INDEX(BGCalc1!$B$4:$B$28,A60)} -> #N/A | N60: =M60/L60 -> #N/A | O60: =I60*S60 -> #N/A | P60: =CHOOSE(BGCalc1!$C$1,BGCalc1!$D$1,BGCalc1!$D$1+R60*G60) -> #N/A | Q60: =CHOOSE(BGCalc1!$C$1,NA(),BGCalc1!$D$1) -> 25 | R60: =C60*(H60+(BGCalc1!$D$1-E60)*F60) -> #N/A | S60: =1+(P60-E60)*D60 -> #N/A
A61: 2 | B61: 7 | C61: {=INDEX(BGCalc1!$F$4:$F$28,A61)+(INDEX(BGCalc1!$G$4:$G$28,A61)-INDEX(BGCalc1!$F$4:$F$28,A61))/50*B61} -> #N/A | D61: =D60 -> #N/A | E61: =E60 -> #N/A | F61: =F60 -> #N/A | G61: =G60 -> #N/A | H61: {=INDEX(BGCalc1!$L$4:$L$28,A61)*$C61^3+INDEX(BGCalc1!$M$4:$M$28,A61)*$C61^2+INDEX(BGCalc1!$N$4:$N$28,A61)*$C61+INDEX(BGCalc1!$O$4:$O$28,A61)+INDEX('Bulk Graph'!$E$6:$E$30,A61)} -> #N/A | I61: {=INDEX(BGCalc1!$H$4:$H$28,A61)*$C61^3+INDEX(BGCalc1!$I$4:$I$28,A61)*$C61^2+INDEX(BGCalc1!$J$4:$J$28,A61)*$C61+INDEX(BGCalc1!$K$4:$K$28,A61)} -> #N/A | J61: =C61 -> #N/A | K61: =H61+(P61-E61)*F61 -> #N/A | L61: =C61*K61 -> #N/A | M61: {=I61*S61*INDEX(BGCalc1!$B$4:$B$28,A61)} -> #N/A | N61: =M61/L61 -> #N/A | O61: =I61*S61 -> #N/A | P61: =CHOOSE(BGCalc1!$C$1,BGCalc1!$D$1,BGCalc1!$D$1+R61*G61) -> #N/A | Q61: =CHOOSE(BGCalc1!$C$1,NA(),BGCalc1!$D$1) -> 25 | R61: =C61*(H61+(BGCalc1!$D$1-E61)*F61) -> #N/A | S61: =1+(P61-E61)*D61 -> #N/A
A62: 2 | B62: 8 | C62: {=INDEX(BGCalc1!$F$4:$F$28,A62)+(INDEX(BGCalc1!$G$4:$G$28,A62)-INDEX(BGCalc1!$F$4:$F$28,A62))/50*B62} -> #N/A | D62: =D61 -> #N/A | E62: =E61 -> #N/A | F62: =F61 -> #N/A | G62: =G61 -> #N/A | H62: {=INDEX(BGCalc1!$L$4:$L$28,A62)*$C62^3+INDEX(BGCalc1!$M$4:$M$28,A62)*$C62^2+INDEX(BGCalc1!$N$4:$N$28,A62)*$C62+INDEX(BGCalc1!$O$4:$O$28,A62)+INDEX('Bulk Graph'!$E$6:$E$30,A62)} -> #N/A | I62: {=INDEX(BGCalc1!$H$4:$H$28,A62)*$C62^3+INDEX(BGCalc1!$I$4:$I$28,A62)*$C62^2+INDEX(BGCalc1!$J$4:$J$28,A62)*$C62+INDEX(BGCalc1!$K$4:$K$28,A62)} -> #N/A | J62: =C62 -> #N/A | K62: =H62+(P62-E62)*F62 -> #N/A | L62: =C62*K62 -> #N/A | M62: {=I62*S62*INDEX(BGCalc1!$B$4:$B$28,A62)} -> #N/A | N62: =M62/L62 -> #N/A | O62: =I62*S62 -> #N/A | P62: =CHOOSE(BGCalc1!$C$1,BGCalc1!$D$1,BGCalc1!$D$1+R62*G62) -> #N/A | Q62: =CHOOSE(BGCalc1!$C$1,NA(),BGCalc1!$D$1) -> 25 | R62: =C62*(H62+(BGCalc1!$D$1-E62)*F62) -> #N/A | S62: =1+(P62-E62)*D62 -> #N/A
A63: 2 | B63: 9 | C63: {=INDEX(BGCalc1!$F$4:$F$28,A63)+(INDEX(BGCalc1!$G$4:$G$28,A63)-INDEX(BGCalc1!$F$4:$F$28,A63))/50*B63} -> #N/A | D63: =D62 -> #N/A | E63: =E62 -> #N/A | F63: =F62 -> #N/A | G63: =G62 -> #N/A | H63: {=INDEX(BGCalc1!$L$4:$L$28,A63)*$C63^3+INDEX(BGCalc1!$M$4:$M$28,A63)*$C63^2+INDEX(BGCalc1!$N$4:$N$28,A63)*$C63+INDEX(BGCalc1!$O$4:$O$28,A63)+INDEX('Bulk Graph'!$E$6:$E$30,A63)} -> #N/A | I63: {=INDEX(BGCalc1!$H$4:$H$28,A63)*$C63^3+INDEX(BGCalc1!$I$4:$I$28,A63)*$C63^2+INDEX(BGCalc1!$J$4:$J$28,A63)*$C63+INDEX(BGCalc1!$K$4:$K$28,A63)} -> #N/A | J63: =C63 -> #N/A | K63: =H63+(P63-E63)*F63 -> #N/A | L63: =C63*K63 -> #N/A | M63: {=I63*S63*INDEX(BGCalc1!$B$4:$B$28,A63)} -> #N/A | N63: =M63/L63 -> #N/A | O63: =I63*S63 -> #N/A | P63: =CHOOSE(BGCalc1!$C$1,BGCalc1!$D$1,BGCalc1!$D$1+R63*G63) -> #N/A | Q63: =CHOOSE(BGCalc1!$C$1,NA(),BGCalc1!$D$1) -> 25 | R63: =C63*(H63+(BGCalc1!$D$1-E63)*F63) -> #N/A | S63: =1+(P63-E63)*D63 -> #N/A
A64: 2 | B64: 10 | C64: {=INDEX(BGCalc1!$F$4:$F$28,A64)+(INDEX(BGCalc1!$G$4:$G$28,A64)-INDEX(BGCalc1!$F$4:$F$28,A64))/50*B64} -> #N/A | D64: =D63 -> #N/A | E64: =E63 -> #N/A | F64: =F63 -> #N/A | G64: =G63 -> #N/A | H64: {=INDEX(BGCalc1!$L$4:$L$28,A64)*$C64^3+INDEX(BGCalc1!$M$4:$M$28,A64)*$C64^2+INDEX(BGCalc1!$N$4:$N$28,A64)*$C64+INDEX(BGCalc1!$O$4:$O$28,A64)+INDEX('Bulk Graph'!$E$6:$E$30,A64)} -> #N/A | I64: {=INDEX(BGCalc1!$H$4:$H$28,A64)*$C64^3+INDEX(BGCalc1!$I$4:$I$28,A64)*$C64^2+INDEX(BGCalc1!$J$4:$J$28,A64)*$C64+INDEX(BGCalc1!$K$4:$K$28,A64)} -> #N/A | J64: =C64 -> #N/A | K64: =H64+(P64-E64)*F64 -> #N/A | L64: =C64*K64 -> #N/A | M64: {=I64*S64*INDEX(BGCalc1!$B$4:$B$28,A64)} -> #N/A | N64: =M64/L64 -> #N/A | O64: =I64*S64 -> #N/A | P64: =CHOOSE(BGCalc1!$C$1,BGCalc1!$D$1,BGCalc1!$D$1+R64*G64) -> #N/A | Q64: =CHOOSE(BGCalc1!$C$1,NA(),BGCalc1!$D$1) -> 25 | R64: =C64*(H64+(BGCalc1!$D$1-E64)*F64) -> #N/A | S64: =1+(P64-E64)*D64 -> #N/A
A65: 2 | B65: 11 | C65: {=INDEX(BGCalc1!$F$4:$F$28,A65)+(INDEX(BGCalc1!$G$4:$G$28,A65)-INDEX(BGCalc1!$F$4:$F$28,A65))/50*B65} -> #N/A | D65: =D64 -> #N/A | E65: =E64 -> #N/A | F65: =F64 -> #N/A | G65: =G64 -> #N/A | H65: {=INDEX(BGCalc1!$L$4:$L$28,A65)*$C65^3+INDEX(BGCalc1!$M$4:$M$28,A65)*$C65^2+INDEX(BGCalc1!$N$4:$N$28,A65)*$C65+INDEX(BGCalc1!$O$4:$O$28,A65)+INDEX('Bulk Graph'!$E$6:$E$30,A65)} -> #N/A | I65: {=INDEX(BGCalc1!$H$4:$H$28,A65)*$C65^3+INDEX(BGCalc1!$I$4:$I$28,A65)*$C65^2+INDEX(BGCalc1!$J$4:$J$28,A65)*$C65+INDEX(BGCalc1!$K$4:$K$28,A65)} -> #N/A | J65: =C65 -> #N/A | K65: =H65+(P65-E65)*F65 -> #N/A | L65: =C65*K65 -> #N/A | M65: {=I65*S65*INDEX(BGCalc1!$B$4:$B$28,A65)} -> #N/A | N65: =M65/L65 -> #N/A | O65: =I65*S65 -> #N/A | P65: =CHOOSE(BGCalc1!$C$1,BGCalc1!$D$1,BGCalc1!$D$1+R65*G65) -> #N/A | Q65: =CHOOSE(BGCalc1!$C$1,NA(),BGCalc1!$D$1) -> 25 | R65: =C65*(H65+(BGCalc1!$D$1-E65)*F65) -> #N/A | S65: =1+(P65-E65)*D65 -> #N/A
A66: 2 | B66: 12 | C66: {=INDEX(BGCalc1!$F$4:$F$28,A66)+(INDEX(BGCalc1!$G$4:$G$28,A66)-INDEX(BGCalc1!$F$4:$F$28,A66))/50*B66} -> #N/A | D66: =D65 -> #N/A | E66: =E65 -> #N/A | F66: =F65 -> #N/A | G66: =G65 -> #N/A | H66: {=INDEX(BGCalc1!$L$4:$L$28,A66)*$C66^3+INDEX(BGCalc1!$M$4:$M$28,A66)*$C66^2+INDEX(BGCalc1!$N$4:$N$28,A66)*$C66+INDEX(BGCalc1!$O$4:$O$28,A66)+INDEX('Bulk Graph'!$E$6:$E$30,A66)} -> #N/A | I66: {=INDEX(BGCalc1!$H$4:$H$28,A66)*$C66^3+INDEX(BGCalc1!$I$4:$I$28,A66)*$C66^2+INDEX(BGCalc1!$J$4:$J$28,A66)*$C66+INDEX(BGCalc1!$K$4:$K$28,A66)} -> #N/A | J66: =C66 -> #N/A | K66: =H66+(P66-E66)*F66 -> #N/A | L66: =C66*K66 -> #N/A | M66: {=I66*S66*INDEX(BGCalc1!$B$4:$B$28,A66)} -> #N/A | N66: =M66/L66 -> #N/A | O66: =I66*S66 -> #N/A | P66: =CHOOSE(BGCalc1!$C$1,BGCalc1!$D$1,BGCalc1!$D$1+R66*G66) -> #N/A | Q66: =CHOOSE(BGCalc1!$C$1,NA(),BGCalc1!$D$1) -> 25 | R66: =C66*(H66+(BGCalc1!$D$1-E66)*F66) -> #N/A | S66: =1+(P66-E66)*D66 -> #N/A
... A104: 2 | B104: 50 | C104: {=INDEX(BGCalc1!$F$4:$F$28,A104)+(INDEX(BGCalc1!$G$4:$G$28,A104)-INDEX(BGCalc1!$F$4:$F$28,A104))/50*B104} -> #N/A | D104: =D103 -> #N/A | E104: =E103 -> #N/A | F104: =F103 -> #N/A | G104: =G103 -> #N/A | H104: {=INDEX(BGCalc1!$L$4:$L$28,A104)*$C104^3+INDEX(BGCalc1!$M$4:$M$28,A104)*$C104^2+INDEX(BGCalc1!$N$4:$N$28,A104)*$C104+INDEX(BGCalc1!$O$4:$O$28,A104)+INDEX('Bulk Graph'!$E$6:$E$30,A104)} -> #N/A | I104: {=INDEX(BGCalc1!$H$4:$H$28,A104)*$C104^3+INDEX(BGCalc1!$I$4:$I$28,A104)*$C104^2+INDEX(BGCalc1!$J$4:$J$28,A104)*$C104+INDEX(BGCalc1!$K$4:$K$28,A104)} -> #N/A | J104: =C104 -> #N/A | K104: =H104+(P104-E104)*F104 -> #N/A | L104: =C104*K104 -> #N/A | M104: {=I104*S104*INDEX(BGCalc1!$B$4:$B$28,A104)} -> #N/A | N104: =M104/L104 -> #N/A | O104: =I104*S104 -> #N/A | P104: =CHOOSE(BGCalc1!$C$1,BGCalc1!$D$1,BGCalc1!$D$1+R104*G104) -> #N/A | Q104: =CHOOSE(BGCalc1!$C$1,NA(),BGCalc1!$D$1) -> 25 | R104: =C104*(H104+(BGCalc1!$D$1-E104)*F104) -> #N/A | S104: =1+(P104-E104)*D104 -> #N/A
A105: 3 | B105: 0 | C105: {=INDEX(BGCalc1!$F$4:$F$28,A105)+(INDEX(BGCalc1!$G$4:$G$28,A105)-INDEX(BGCalc1!$F$4:$F$28,A105))/50*B105} -> #N/A | D105: {=INDEX(BGCalc1!$P$4:$P$28,A105)} -> #N/A | E105: {=INDEX(BGCalc1!$Q$4:$Q$28,A105)} -> #N/A | F105: {=INDEX(BGCalc1!$R$4:$R$28,A105)} -> #N/A | G105: {=INDEX(BGCalc1!$S$4:$S$28,A105)} -> #N/A | H105: {=INDEX(BGCalc1!$L$4:$L$28,A105)*$C105^3+INDEX(BGCalc1!$M$4:$M$28,A105)*$C105^2+INDEX(BGCalc1!$N$4:$N$28,A105)*$C105+INDEX(BGCalc1!$O$4:$O$28,A105)+INDEX('Bulk Graph'!$E$6:$E$30,A105)} -> #N/A | I105: {=INDEX(BGCalc1!$H$4:$H$28,A105)*$C105^3+INDEX(BGCalc1!$I$4:$I$28,A105)*$C105^2+INDEX(BGCalc1!$J$4:$J$28,A105)*$C105+INDEX(BGCalc1!$K$4:$K$28,A105)} -> #N/A | J105: =C105 -> #N/A | K105: =H105+(P105-E105)*F105 -> #N/A | L105: =C105*K105 -> #N/A | M105: {=I105*S105*INDEX(BGCalc1!$B$4:$B$28,A105)} -> #N/A | N105: =M105/L105 -> #N/A | O105: =I105*S105 -> #N/A | P105: =CHOOSE(BGCalc1!$C$1,BGCalc1!$D$1,BGCalc1!$D$1+R105*G105) -> #N/A | Q105: =CHOOSE(BGCalc1!$C$1,NA(),BGCalc1!$D$1) -> 25 | R105: =C105*(H105+(BGCalc1!$D$1-E105)*F105) -> #N/A | S105: =1+(P105-E105)*D105 -> #N/A
A106: 3 | B106: 1 | C106: {=INDEX(BGCalc1!$F$4:$F$28,A106)+(INDEX(BGCalc1!$G$4:$G$28,A106)-INDEX(BGCalc1!$F$4:$F$28,A106))/50*B106} -> #N/A | D106: =D105 -> #N/A | E106: =E105 -> #N/A | F106: =F105 -> #N/A | G106: =G105 -> #N/A | H106: {=INDEX(BGCalc1!$L$4:$L$28,A106)*$C106^3+INDEX(BGCalc1!$M$4:$M$28,A106)*$C106^2+INDEX(BGCalc1!$N$4:$N$28,A106)*$C106+INDEX(BGCalc1!$O$4:$O$28,A106)+INDEX('Bulk Graph'!$E$6:$E$30,A106)} -> #N/A | I106: {=INDEX(BGCalc1!$H$4:$H$28,A106)*$C106^3+INDEX(BGCalc1!$I$4:$I$28,A106)*$C106^2+INDEX(BGCalc1!$J$4:$J$28,A106)*$C106+INDEX(BGCalc1!$K$4:$K$28,A106)} -> #N/A | J106: =C106 -> #N/A | K106: =H106+(P106-E106)*F106 -> #N/A | L106: =C106*K106 -> #N/A | M106: {=I106*S106*INDEX(BGCalc1!$B$4:$B$28,A106)} -> #N/A | N106: =M106/L106 -> #N/A | O106: =I106*S106 -> #N/A | P106: =CHOOSE(BGCalc1!$C$1,BGCalc1!$D$1,BGCalc1!$D$1+R106*G106) -> #N/A | Q106: =CHOOSE(BGCalc1!$C$1,NA(),BGCalc1!$D$1) -> 25 | R106: =C106*(H106+(BGCalc1!$D$1-E106)*F106) -> #N/A | S106: =1+(P106-E106)*D106 -> #N/A
A107: 3 | B107: 2 | C107: {=INDEX(BGCalc1!$F$4:$F$28,A107)+(INDEX(BGCalc1!$G$4:$G$28,A107)-INDEX(BGCalc1!$F$4:$F$28,A107))/50*B107} -> #N/A | D107: =D106 -> #N/A | E107: =E106 -> #N/A | F107: =F106 -> #N/A | G107: =G106 -> #N/A | H107: {=INDEX(BGCalc1!$L$4:$L$28,A107)*$C107^3+INDEX(BGCalc1!$M$4:$M$28,A107)*$C107^2+INDEX(BGCalc1!$N$4:$N$28,A107)*$C107+INDEX(BGCalc1!$O$4:$O$28,A107)+INDEX('Bulk Graph'!$E$6:$E$30,A107)} -> #N/A | I107: {=INDEX(BGCalc1!$H$4:$H$28,A107)*$C107^3+INDEX(BGCalc1!$I$4:$I$28,A107)*$C107^2+INDEX(BGCalc1!$J$4:$J$28,A107)*$C107+INDEX(BGCalc1!$K$4:$K$28,A107)} -> #N/A | J107: =C107 -> #N/A | K107: =H107+(P107-E107)*F107 -> #N/A | L107: =C107*K107 -> #N/A | M107: {=I107*S107*INDEX(BGCalc1!$B$4:$B$28,A107)} -> #N/A | N107: =M107/L107 -> #N/A | O107: =I107*S107 -> #N/A | P107: =CHOOSE(BGCalc1!$C$1,BGCalc1!$D$1,BGCalc1!$D$1+R107*G107) -> #N/A | Q107: =CHOOSE(BGCalc1!$C$1,NA(),BGCalc1!$D$1) -> 25 | R107: =C107*(H107+(BGCalc1!$D$1-E107)*F107) -> #N/A | S107: =1+(P107-E107)*D107 -> #N/A
A108: 3 | B108: 3 | C108: {=INDEX(BGCalc1!$F$4:$F$28,A108)+(INDEX(BGCalc1!$G$4:$G$28,A108)-INDEX(BGCalc1!$F$4:$F$28,A108))/50*B108} -> #N/A | D108: =D107 -> #N/A | E108: =E107 -> #N/A | F108: =F107 -> #N/A | G108: =G107 -> #N/A | H108: {=INDEX(BGCalc1!$L$4:$L$28,A108)*$C108^3+INDEX(BGCalc1!$M$4:$M$28,A108)*$C108^2+INDEX(BGCalc1!$N$4:$N$28,A108)*$C108+INDEX(BGCalc1!$O$4:$O$28,A108)+INDEX('Bulk Graph'!$E$6:$E$30,A108)} -> #N/A | I108: {=INDEX(BGCalc1!$H$4:$H$28,A108)*$C108^3+INDEX(BGCalc1!$I$4:$I$28,A108)*$C108^2+INDEX(BGCalc1!$J$4:$J$28,A108)*$C108+INDEX(BGCalc1!$K$4:$K$28,A108)} -> #N/A | J108: =C108 -> #N/A | K108: =H108+(P108-E108)*F108 -> #N/A | L108: =C108*K108 -> #N/A | M108: {=I108*S108*INDEX(BGCalc1!$B$4:$B$28,A108)} -> #N/A | N108: =M108/L108 -> #N/A | O108: =I108*S108 -> #N/A | P108: =CHOOSE(BGCalc1!$C$1,BGCalc1!$D$1,BGCalc1!$D$1+R108*G108) -> #N/A | Q108: =CHOOSE(BGCalc1!$C$1,NA(),BGCalc1!$D$1) -> 25 | R108: =C108*(H108+(BGCalc1!$D$1-E108)*F108) -> #N/A | S108: =1+(P108-E108)*D108 -> #N/A
A109: 3 | B109: 4 | C109: {=INDEX(BGCalc1!$F$4:$F$28,A109)+(INDEX(BGCalc1!$G$4:$G$28,A109)-INDEX(BGCalc1!$F$4:$F$28,A109))/50*B109} -> #N/A | D109: =D108 -> #N/A | E109: =E108 -> #N/A | F109: =F108 -> #N/A | G109: =G108 -> #N/A | H109: {=INDEX(BGCalc1!$L$4:$L$28,A109)*$C109^3+INDEX(BGCalc1!$M$4:$M$28,A109)*$C109^2+INDEX(BGCalc1!$N$4:$N$28,A109)*$C109+INDEX(BGCalc1!$O$4:$O$28,A109)+INDEX('Bulk Graph'!$E$6:$E$30,A109)} -> #N/A | I109: {=INDEX(BGCalc1!$H$4:$H$28,A109)*$C109^3+INDEX(BGCalc1!$I$4:$I$28,A109)*$C109^2+INDEX(BGCalc1!$J$4:$J$28,A109)*$C109+INDEX(BGCalc1!$K$4:$K$28,A109)} -> #N/A | J109: =C109 -> #N/A | K109: =H109+(P109-E109)*F109 -> #N/A | L109: =C109*K109 -> #N/A | M109: {=I109*S109*INDEX(BGCalc1!$B$4:$B$28,A109)} -> #N/A | N109: =M109/L109 -> #N/A | O109: =I109*S109 -> #N/A | P109: =CHOOSE(BGCalc1!$C$1,BGCalc1!$D$1,BGCalc1!$D$1+R109*G109) -> #N/A | Q109: =CHOOSE(BGCalc1!$C$1,NA(),BGCalc1!$D$1) -> 25 | R109: =C109*(H109+(BGCalc1!$D$1-E109)*F109) -> #N/A | S109: =1+(P109-E109)*D109 -> #N/A
A110: 3 | B110: 5 | C110: {=INDEX(BGCalc1!$F$4:$F$28,A110)+(INDEX(BGCalc1!$G$4:$G$28,A110)-INDEX(BGCalc1!$F$4:$F$28,A110))/50*B110} -> #N/A | D110: =D109 -> #N/A | E110: =E109 -> #N/A | F110: =F109 -> #N/A | G110: =G109 -> #N/A | H110: {=INDEX(BGCalc1!$L$4:$L$28,A110)*$C110^3+INDEX(BGCalc1!$M$4:$M$28,A110)*$C110^2+INDEX(BGCalc1!$N$4:$N$28,A110)*$C110+INDEX(BGCalc1!$O$4:$O$28,A110)+INDEX('Bulk Graph'!$E$6:$E$30,A110)} -> #N/A | I110: {=INDEX(BGCalc1!$H$4:$H$28,A110)*$C110^3+INDEX(BGCalc1!$I$4:$I$28,A110)*$C110^2+INDEX(BGCalc1!$J$4:$J$28,A110)*$C110+INDEX(BGCalc1!$K$4:$K$28,A110)} -> #N/A | J110: =C110 -> #N/A | K110: =H110+(P110-E110)*F110 -> #N/A | L110: =C110*K110 -> #N/A | M110: {=I110*S110*INDEX(BGCalc1!$B$4:$B$28,A110)} -> #N/A | N110: =M110/L110 -> #N/A | O110: =I110*S110 -> #N/A | P110: =CHOOSE(BGCalc1!$C$1,BGCalc1!$D$1,BGCalc1!$D$1+R110*G110) -> #N/A | Q110: =CHOOSE(BGCalc1!$C$1,NA(),BGCalc1!$D$1) -> 25 | R110: =C110*(H110+(BGCalc1!$D$1-E110)*F110) -> #N/A | S110: =1+(P110-E110)*D110 -> #N/A
A111: 3 | B111: 6 | C111: {=INDEX(BGCalc1!$F$4:$F$28,A111)+(INDEX(BGCalc1!$G$4:$G$28,A111)-INDEX(BGCalc1!$F$4:$F$28,A111))/50*B111} -> #N/A | D111: =D110 -> #N/A | E111: =E110 -> #N/A | F111: =F110 -> #N/A | G111: =G110 -> #N/A | H111: {=INDEX(BGCalc1!$L$4:$L$28,A111)*$C111^3+INDEX(BGCalc1!$M$4:$M$28,A111)*$C111^2+INDEX(BGCalc1!$N$4:$N$28,A111)*$C111+INDEX(BGCalc1!$O$4:$O$28,A111)+INDEX('Bulk Graph'!$E$6:$E$30,A111)} -> #N/A | I111: {=INDEX(BGCalc1!$H$4:$H$28,A111)*$C111^3+INDEX(BGCalc1!$I$4:$I$28,A111)*$C111^2+INDEX(BGCalc1!$J$4:$J$28,A111)*$C111+INDEX(BGCalc1!$K$4:$K$28,A111)} -> #N/A | J111: =C111 -> #N/A | K111: =H111+(P111-E111)*F111 -> #N/A | L111: =C111*K111 -> #N/A | M111: {=I111*S111*INDEX(BGCalc1!$B$4:$B$28,A111)} -> #N/A | N111: =M111/L111 -> #N/A | O111: =I111*S111 -> #N/A | P111: =CHOOSE(BGCalc1!$C$1,BGCalc1!$D$1,BGCalc1!$D$1+R111*G111) -> #N/A | Q111: =CHOOSE(BGCalc1!$C$1,NA(),BGCalc1!$D$1) -> 25 | R111: =C111*(H111+(BGCalc1!$D$1-E111)*F111) -> #N/A | S111: =1+(P111-E111)*D111 -> #N/A
A112: 3 | B112: 7 | C112: {=INDEX(BGCalc1!$F$4:$F$28,A112)+(INDEX(BGCalc1!$G$4:$G$28,A112)-INDEX(BGCalc1!$F$4:$F$28,A112))/50*B112} -> #N/A | D112: =D111 -> #N/A | E112: =E111 -> #N/A | F112: =F111 -> #N/A | G112: =G111 -> #N/A | H112: {=INDEX(BGCalc1!$L$4:$L$28,A112)*$C112^3+INDEX(BGCalc1!$M$4:$M$28,A112)*$C112^2+INDEX(BGCalc1!$N$4:$N$28,A112)*$C112+INDEX(BGCalc1!$O$4:$O$28,A112)+INDEX('Bulk Graph'!$E$6:$E$30,A112)} -> #N/A | I112: {=INDEX(BGCalc1!$H$4:$H$28,A112)*$C112^3+INDEX(BGCalc1!$I$4:$I$28,A112)*$C112^2+INDEX(BGCalc1!$J$4:$J$28,A112)*$C112+INDEX(BGCalc1!$K$4:$K$28,A112)} -> #N/A | J112: =C112 -> #N/A | K112: =H112+(P112-E112)*F112 -> #N/A | L112: =C112*K112 -> #N/A | M112: {=I112*S112*INDEX(BGCalc1!$B$4:$B$28,A112)} -> #N/A | N112: =M112/L112 -> #N/A | O112: =I112*S112 -> #N/A | P112: =CHOOSE(BGCalc1!$C$1,BGCalc1!$D$1,BGCalc1!$D$1+R112*G112) -> #N/A | Q112: =CHOOSE(BGCalc1!$C$1,NA(),BGCalc1!$D$1) -> 25 | R112: =C112*(H112+(BGCalc1!$D$1-E112)*F112) -> #N/A | S112: =1+(P112-E112)*D112 -> #N/A
A113: 3 | B113: 8 | C113: {=INDEX(BGCalc1!$F$4:$F$28,A113)+(INDEX(BGCalc1!$G$4:$G$28,A113)-INDEX(BGCalc1!$F$4:$F$28,A113))/50*B113} -> #N/A | D113: =D112 -> #N/A | E113: =E112 -> #N/A | F113: =F112 -> #N/A | G113: =G112 -> #N/A | H113: {=INDEX(BGCalc1!$L$4:$L$28,A113)*$C113^3+INDEX(BGCalc1!$M$4:$M$28,A113)*$C113^2+INDEX(BGCalc1!$N$4:$N$28,A113)*$C113+INDEX(BGCalc1!$O$4:$O$28,A113)+INDEX('Bulk Graph'!$E$6:$E$30,A113)} -> #N/A | I113: {=INDEX(BGCalc1!$H$4:$H$28,A113)*$C113^3+INDEX(BGCalc1!$I$4:$I$28,A113)*$C113^2+INDEX(BGCalc1!$J$4:$J$28,A113)*$C113+INDEX(BGCalc1!$K$4:$K$28,A113)} -> #N/A | J113: =C113 -> #N/A | K113: =H113+(P113-E113)*F113 -> #N/A | L113: =C113*K113 -> #N/A | M113: {=I113*S113*INDEX(BGCalc1!$B$4:$B$28,A113)} -> #N/A | N113: =M113/L113 -> #N/A | O113: =I113*S113 -> #N/A | P113: =CHOOSE(BGCalc1!$C$1,BGCalc1!$D$1,BGCalc1!$D$1+R113*G113) -> #N/A | Q113: =CHOOSE(BGCalc1!$C$1,NA(),BGCalc1!$D$1) -> 25 | R113: =C113*(H113+(BGCalc1!$D$1-E113)*F113) -> #N/A | S113: =1+(P113-E113)*D113 -> #N/A
A114: 3 | B114: 9 | C114: {=INDEX(BGCalc1!$F$4:$F$28,A114)+(INDEX(BGCalc1!$G$4:$G$28,A114)-INDEX(BGCalc1!$F$4:$F$28,A114))/50*B114} -> #N/A | D114: =D113 -> #N/A | E114: =E113 -> #N/A | F114: =F113 -> #N/A | G114: =G113 -> #N/A | H114: {=INDEX(BGCalc1!$L$4:$L$28,A114)*$C114^3+INDEX(BGCalc1!$M$4:$M$28,A114)*$C114^2+INDEX(BGCalc1!$N$4:$N$28,A114)*$C114+INDEX(BGCalc1!$O$4:$O$28,A114)+INDEX('Bulk Graph'!$E$6:$E$30,A114)} -> #N/A | I114: {=INDEX(BGCalc1!$H$4:$H$28,A114)*$C114^3+INDEX(BGCalc1!$I$4:$I$28,A114)*$C114^2+INDEX(BGCalc1!$J$4:$J$28,A114)*$C114+INDEX(BGCalc1!$K$4:$K$28,A114)} -> #N/A | J114: =C114 -> #N/A | K114: =H114+(P114-E114)*F114 -> #N/A | L114: =C114*K114 -> #N/A | M114: {=I114*S114*INDEX(BGCalc1!$B$4:$B$28,A114)} -> #N/A | N114: =M114/L114 -> #N/A | O114: =I114*S114 -> #N/A | P114: =CHOOSE(BGCalc1!$C$1,BGCalc1!$D$1,BGCalc1!$D$1+R114*G114) -> #N/A | Q114: =CHOOSE(BGCalc1!$C$1,NA(),BGCalc1!$D$1) -> 25 | R114: =C114*(H114+(BGCalc1!$D$1-E114)*F114) -> #N/A | S114: =1+(P114-E114)*D114 -> #N/A
A115: 3 | B115: 10 | C115: {=INDEX(BGCalc1!$F$4:$F$28,A115)+(INDEX(BGCalc1!$G$4:$G$28,A115)-INDEX(BGCalc1!$F$4:$F$28,A115))/50*B115} -> #N/A | D115: =D114 -> #N/A | E115: =E114 -> #N/A | F115: =F114 -> #N/A | G115: =G114 -> #N/A | H115: {=INDEX(BGCalc1!$L$4:$L$28,A115)*$C115^3+INDEX(BGCalc1!$M$4:$M$28,A115)*$C115^2+INDEX(BGCalc1!$N$4:$N$28,A115)*$C115+INDEX(BGCalc1!$O$4:$O$28,A115)+INDEX('Bulk Graph'!$E$6:$E$30,A115)} -> #N/A | I115: {=INDEX(BGCalc1!$H$4:$H$28,A115)*$C115^3+INDEX(BGCalc1!$I$4:$I$28,A115)*$C115^2+INDEX(BGCalc1!$J$4:$J$28,A115)*$C115+INDEX(BGCalc1!$K$4:$K$28,A115)} -> #N/A | J115: =C115 -> #N/A | K115: =H115+(P115-E115)*F115 -> #N/A | L115: =C115*K115 -> #N/A | M115: {=I115*S115*INDEX(BGCalc1!$B$4:$B$28,A115)} -> #N/A | N115: =M115/L115 -> #N/A | O115: =I115*S115 -> #N/A | P115: =CHOOSE(BGCalc1!$C$1,BGCalc1!$D$1,BGCalc1!$D$1+R115*G115) -> #N/A | Q115: =CHOOSE(BGCalc1!$C$1,NA(),BGCalc1!$D$1) -> 25 | R115: =C115*(H115+(BGCalc1!$D$1-E115)*F115) -> #N/A | S115: =1+(P115-E115)*D115 -> #N/A
A116: 3 | B116: 11 | C116: {=INDEX(BGCalc1!$F$4:$F$28,A116)+(INDEX(BGCalc1!$G$4:$G$28,A116)-INDEX(BGCalc1!$F$4:$F$28,A116))/50*B116} -> #N/A | D116: =D115 -> #N/A | E116: =E115 -> #N/A | F116: =F115 -> #N/A | G116: =G115 -> #N/A | H116: {=INDEX(BGCalc1!$L$4:$L$28,A116)*$C116^3+INDEX(BGCalc1!$M$4:$M$28,A116)*$C116^2+INDEX(BGCalc1!$N$4:$N$28,A116)*$C116+INDEX(BGCalc1!$O$4:$O$28,A116)+INDEX('Bulk Graph'!$E$6:$E$30,A116)} -> #N/A | I116: {=INDEX(BGCalc1!$H$4:$H$28,A116)*$C116^3+INDEX(BGCalc1!$I$4:$I$28,A116)*$C116^2+INDEX(BGCalc1!$J$4:$J$28,A116)*$C116+INDEX(BGCalc1!$K$4:$K$28,A116)} -> #N/A | J116: =C116 -> #N/A | K116: =H116+(P116-E116)*F116 -> #N/A | L116: =C116*K116 -> #N/A | M116: {=I116*S116*INDEX(BGCalc1!$B$4:$B$28,A116)} -> #N/A | N116: =M116/L116 -> #N/A | O116: =I116*S116 -> #N/A | P116: =CHOOSE(BGCalc1!$C$1,BGCalc1!$D$1,BGCalc1!$D$1+R116*G116) -> #N/A | Q116: =CHOOSE(BGCalc1!$C$1,NA(),BGCalc1!$D$1) -> 25 | R116: =C116*(H116+(BGCalc1!$D$1-E116)*F116) -> #N/A | S116: =1+(P116-E116)*D116 -> #N/A
A117: 3 | B117: 12 | C117: {=INDEX(BGCalc1!$F$4:$F$28,A117)+(INDEX(BGCalc1!$G$4:$G$28,A117)-INDEX(BGCalc1!$F$4:$F$28,A117))/50*B117} -> #N/A | D117: =D116 -> #N/A | E117: =E116 -> #N/A | F117: =F116 -> #N/A | G117: =G116 -> #N/A | H117: {=INDEX(BGCalc1!$L$4:$L$28,A117)*$C117^3+INDEX(BGCalc1!$M$4:$M$28,A117)*$C117^2+INDEX(BGCalc1!$N$4:$N$28,A117)*$C117+INDEX(BGCalc1!$O$4:$O$28,A117)+INDEX('Bulk Graph'!$E$6:$E$30,A117)} -> #N/A | I117: {=INDEX(BGCalc1!$H$4:$H$28,A117)*$C117^3+INDEX(BGCalc1!$I$4:$I$28,A117)*$C117^2+INDEX(BGCalc1!$J$4:$J$28,A117)*$C117+INDEX(BGCalc1!$K$4:$K$28,A117)} -> #N/A | J117: =C117 -> #N/A | K117: =H117+(P117-E117)*F117 -> #N/A | L117: =C117*K117 -> #N/A | M117: {=I117*S117*INDEX(BGCalc1!$B$4:$B$28,A117)} -> #N/A | N117: =M117/L117 -> #N/A | O117: =I117*S117 -> #N/A | P117: =CHOOSE(BGCalc1!$C$1,BGCalc1!$D$1,BGCalc1!$D$1+R117*G117) -> #N/A | Q117: =CHOOSE(BGCalc1!$C$1,NA(),BGCalc1!$D$1) -> 25 | R117: =C117*(H117+(BGCalc1!$D$1-E117)*F117) -> #N/A | S117: =1+(P117-E117)*D117 -> #N/A
... A155: 3 | B155: 50 | C155: {=INDEX(BGCalc1!$F$4:$F$28,A155)+(INDEX(BGCalc1!$G$4:$G$28,A155)-INDEX(BGCalc1!$F$4:$F$28,A155))/50*B155} -> #N/A | D155: =D154 -> #N/A | E155: =E154 -> #N/A | F155: =F154 -> #N/A | G155: =G154 -> #N/A | H155: {=INDEX(BGCalc1!$L$4:$L$28,A155)*$C155^3+INDEX(BGCalc1!$M$4:$M$28,A155)*$C155^2+INDEX(BGCalc1!$N$4:$N$28,A155)*$C155+INDEX(BGCalc1!$O$4:$O$28,A155)+INDEX('Bulk Graph'!$E$6:$E$30,A155)} -> #N/A | I155: {=INDEX(BGCalc1!$H$4:$H$28,A155)*$C155^3+INDEX(BGCalc1!$I$4:$I$28,A155)*$C155^2+INDEX(BGCalc1!$J$4:$J$28,A155)*$C155+INDEX(BGCalc1!$K$4:$K$28,A155)} -> #N/A | J155: =C155 -> #N/A | K155: =H155+(P155-E155)*F155 -> #N/A | L155: =C155*K155 -> #N/A | M155: {=I155*S155*INDEX(BGCalc1!$B$4:$B$28,A155)} -> #N/A | N155: =M155/L155 -> #N/A | O155: =I155*S155 -> #N/A | P155: =CHOOSE(BGCalc1!$C$1,BGCalc1!$D$1,BGCalc1!$D$1+R155*G155) -> #N/A | Q155: =CHOOSE(BGCalc1!$C$1,NA(),BGCalc1!$D$1) -> 25 | R155: =C155*(H155+(BGCalc1!$D$1-E155)*F155) -> #N/A | S155: =1+(P155-E155)*D155 -> #N/A
A156: 4 | B156: 0 | C156: {=INDEX(BGCalc1!$F$4:$F$28,A156)+(INDEX(BGCalc1!$G$4:$G$28,A156)-INDEX(BGCalc1!$F$4:$F$28,A156))/50*B156} -> #N/A | D156: {=INDEX(BGCalc1!$P$4:$P$28,A156)} -> #N/A | E156: {=INDEX(BGCalc1!$Q$4:$Q$28,A156)} -> #N/A | F156: {=INDEX(BGCalc1!$R$4:$R$28,A156)} -> #N/A | G156: {=INDEX(BGCalc1!$S$4:$S$28,A156)} -> #N/A | H156: {=INDEX(BGCalc1!$L$4:$L$28,A156)*$C156^3+INDEX(BGCalc1!$M$4:$M$28,A156)*$C156^2+INDEX(BGCalc1!$N$4:$N$28,A156)*$C156+INDEX(BGCalc1!$O$4:$O$28,A156)+INDEX('Bulk Graph'!$E$6:$E$30,A156)} -> #N/A | I156: {=INDEX(BGCalc1!$H$4:$H$28,A156)*$C156^3+INDEX(BGCalc1!$I$4:$I$28,A156)*$C156^2+INDEX(BGCalc1!$J$4:$J$28,A156)*$C156+INDEX(BGCalc1!$K$4:$K$28,A156)} -> #N/A | J156: =C156 -> #N/A | K156: =H156+(P156-E156)*F156 -> #N/A | L156: =C156*K156 -> #N/A | M156: {=I156*S156*INDEX(BGCalc1!$B$4:$B$28,A156)} -> #N/A | N156: =M156/L156 -> #N/A | O156: =I156*S156 -> #N/A | P156: =CHOOSE(BGCalc1!$C$1,BGCalc1!$D$1,BGCalc1!$D$1+R156*G156) -> #N/A | Q156: =CHOOSE(BGCalc1!$C$1,NA(),BGCalc1!$D$1) -> 25 | R156: =C156*(H156+(BGCalc1!$D$1-E156)*F156) -> #N/A | S156: =1+(P156-E156)*D156 -> #N/A
A157: 4 | B157: 1 | C157: {=INDEX(BGCalc1!$F$4:$F$28,A157)+(INDEX(BGCalc1!$G$4:$G$28,A157)-INDEX(BGCalc1!$F$4:$F$28,A157))/50*B157} -> #N/A | D157: =D156 -> #N/A | E157: =E156 -> #N/A | F157: =F156 -> #N/A | G157: =G156 -> #N/A | H157: {=INDEX(BGCalc1!$L$4:$L$28,A157)*$C157^3+INDEX(BGCalc1!$M$4:$M$28,A157)*$C157^2+INDEX(BGCalc1!$N$4:$N$28,A157)*$C157+INDEX(BGCalc1!$O$4:$O$28,A157)+INDEX('Bulk Graph'!$E$6:$E$30,A157)} -> #N/A | I157: {=INDEX(BGCalc1!$H$4:$H$28,A157)*$C157^3+INDEX(BGCalc1!$I$4:$I$28,A157)*$C157^2+INDEX(BGCalc1!$J$4:$J$28,A157)*$C157+INDEX(BGCalc1!$K$4:$K$28,A157)} -> #N/A | J157: =C157 -> #N/A | K157: =H157+(P157-E157)*F157 -> #N/A | L157: =C157*K157 -> #N/A | M157: {=I157*S157*INDEX(BGCalc1!$B$4:$B$28,A157)} -> #N/A | N157: =M157/L157 -> #N/A | O157: =I157*S157 -> #N/A | P157: =CHOOSE(BGCalc1!$C$1,BGCalc1!$D$1,BGCalc1!$D$1+R157*G157) -> #N/A | Q157: =CHOOSE(BGCalc1!$C$1,NA(),BGCalc1!$D$1) -> 25 | R157: =C157*(H157+(BGCalc1!$D$1-E157)*F157) -> #N/A | S157: =1+(P157-E157)*D157 -> #N/A
A158: 4 | B158: 2 | C158: {=INDEX(BGCalc1!$F$4:$F$28,A158)+(INDEX(BGCalc1!$G$4:$G$28,A158)-INDEX(BGCalc1!$F$4:$F$28,A158))/50*B158} -> #N/A | D158: =D157 -> #N/A | E158: =E157 -> #N/A | F158: =F157 -> #N/A | G158: =G157 -> #N/A | H158: {=INDEX(BGCalc1!$L$4:$L$28,A158)*$C158^3+INDEX(BGCalc1!$M$4:$M$28,A158)*$C158^2+INDEX(BGCalc1!$N$4:$N$28,A158)*$C158+INDEX(BGCalc1!$O$4:$O$28,A158)+INDEX('Bulk Graph'!$E$6:$E$30,A158)} -> #N/A | I158: {=INDEX(BGCalc1!$H$4:$H$28,A158)*$C158^3+INDEX(BGCalc1!$I$4:$I$28,A158)*$C158^2+INDEX(BGCalc1!$J$4:$J$28,A158)*$C158+INDEX(BGCalc1!$K$4:$K$28,A158)} -> #N/A | J158: =C158 -> #N/A | K158: =H158+(P158-E158)*F158 -> #N/A | L158: =C158*K158 -> #N/A | M158: {=I158*S158*INDEX(BGCalc1!$B$4:$B$28,A158)} -> #N/A | N158: =M158/L158 -> #N/A | O158: =I158*S158 -> #N/A | P158: =CHOOSE(BGCalc1!$C$1,BGCalc1!$D$1,BGCalc1!$D$1+R158*G158) -> #N/A | Q158: =CHOOSE(BGCalc1!$C$1,NA(),BGCalc1!$D$1) -> 25 | R158: =C158*(H158+(BGCalc1!$D$1-E158)*F158) -> #N/A | S158: =1+(P158-E158)*D158 -> #N/A
A159: 4 | B159: 3 | C159: {=INDEX(BGCalc1!$F$4:$F$28,A159)+(INDEX(BGCalc1!$G$4:$G$28,A159)-INDEX(BGCalc1!$F$4:$F$28,A159))/50*B159} -> #N/A | D159: =D158 -> #N/A | E159: =E158 -> #N/A | F159: =F158 -> #N/A | G159: =G158 -> #N/A | H159: {=INDEX(BGCalc1!$L$4:$L$28,A159)*$C159^3+INDEX(BGCalc1!$M$4:$M$28,A159)*$C159^2+INDEX(BGCalc1!$N$4:$N$28,A159)*$C159+INDEX(BGCalc1!$O$4:$O$28,A159)+INDEX('Bulk Graph'!$E$6:$E$30,A159)} -> #N/A | I159: {=INDEX(BGCalc1!$H$4:$H$28,A159)*$C159^3+INDEX(BGCalc1!$I$4:$I$28,A159)*$C159^2+INDEX(BGCalc1!$J$4:$J$28,A159)*$C159+INDEX(BGCalc1!$K$4:$K$28,A159)} -> #N/A | J159: =C159 -> #N/A | K159: =H159+(P159-E159)*F159 -> #N/A | L159: =C159*K159 -> #N/A | M159: {=I159*S159*INDEX(BGCalc1!$B$4:$B$28,A159)} -> #N/A | N159: =M159/L159 -> #N/A | O159: =I159*S159 -> #N/A | P159: =CHOOSE(BGCalc1!$C$1,BGCalc1!$D$1,BGCalc1!$D$1+R159*G159) -> #N/A | Q159: =CHOOSE(BGCalc1!$C$1,NA(),BGCalc1!$D$1) -> 25 | R159: =C159*(H159+(BGCalc1!$D$1-E159)*F159) -> #N/A | S159: =1+(P159-E159)*D159 -> #N/A
A160: 4 | B160: 4 | C160: {=INDEX(BGCalc1!$F$4:$F$28,A160)+(INDEX(BGCalc1!$G$4:$G$28,A160)-INDEX(BGCalc1!$F$4:$F$28,A160))/50*B160} -> #N/A | D160: =D159 -> #N/A | E160: =E159 -> #N/A | F160: =F159 -> #N/A | G160: =G159 -> #N/A | H160: {=INDEX(BGCalc1!$L$4:$L$28,A160)*$C160^3+INDEX(BGCalc1!$M$4:$M$28,A160)*$C160^2+INDEX(BGCalc1!$N$4:$N$28,A160)*$C160+INDEX(BGCalc1!$O$4:$O$28,A160)+INDEX('Bulk Graph'!$E$6:$E$30,A160)} -> #N/A | I160: {=INDEX(BGCalc1!$H$4:$H$28,A160)*$C160^3+INDEX(BGCalc1!$I$4:$I$28,A160)*$C160^2+INDEX(BGCalc1!$J$4:$J$28,A160)*$C160+INDEX(BGCalc1!$K$4:$K$28,A160)} -> #N/A | J160: =C160 -> #N/A | K160: =H160+(P160-E160)*F160 -> #N/A | L160: =C160*K160 -> #N/A | M160: {=I160*S160*INDEX(BGCalc1!$B$4:$B$28,A160)} -> #N/A | N160: =M160/L160 -> #N/A | O160: =I160*S160 -> #N/A | P160: =CHOOSE(BGCalc1!$C$1,BGCalc1!$D$1,BGCalc1!$D$1+R160*G160) -> #N/A | Q160: =CHOOSE(BGCalc1!$C$1,NA(),BGCalc1!$D$1) -> 25 | R160: =C160*(H160+(BGCalc1!$D$1-E160)*F160) -> #N/A | S160: =1+(P160-E160)*D160 -> #N/A
A161: 4 | B161: 5 | C161: {=INDEX(BGCalc1!$F$4:$F$28,A161)+(INDEX(BGCalc1!$G$4:$G$28,A161)-INDEX(BGCalc1!$F$4:$F$28,A161))/50*B161} -> #N/A | D161: =D160 -> #N/A | E161: =E160 -> #N/A | F161: =F160 -> #N/A | G161: =G160 -> #N/A | H161: {=INDEX(BGCalc1!$L$4:$L$28,A161)*$C161^3+INDEX(BGCalc1!$M$4:$M$28,A161)*$C161^2+INDEX(BGCalc1!$N$4:$N$28,A161)*$C161+INDEX(BGCalc1!$O$4:$O$28,A161)+INDEX('Bulk Graph'!$E$6:$E$30,A161)} -> #N/A | I161: {=INDEX(BGCalc1!$H$4:$H$28,A161)*$C161^3+INDEX(BGCalc1!$I$4:$I$28,A161)*$C161^2+INDEX(BGCalc1!$J$4:$J$28,A161)*$C161+INDEX(BGCalc1!$K$4:$K$28,A161)} -> #N/A | J161: =C161 -> #N/A | K161: =H161+(P161-E161)*F161 -> #N/A | L161: =C161*K161 -> #N/A | M161: {=I161*S161*INDEX(BGCalc1!$B$4:$B$28,A161)} -> #N/A | N161: =M161/L161 -> #N/A | O161: =I161*S161 -> #N/A | P161: =CHOOSE(BGCalc1!$C$1,BGCalc1!$D$1,BGCalc1!$D$1+R161*G161) -> #N/A | Q161: =CHOOSE(BGCalc1!$C$1,NA(),BGCalc1!$D$1) -> 25 | R161: =C161*(H161+(BGCalc1!$D$1-E161)*F161) -> #N/A | S161: =1+(P161-E161)*D161 -> #N/A
A162: 4 | B162: 6 | C162: {=INDEX(BGCalc1!$F$4:$F$28,A162)+(INDEX(BGCalc1!$G$4:$G$28,A162)-INDEX(BGCalc1!$F$4:$F$28,A162))/50*B162} -> #N/A | D162: =D161 -> #N/A | E162: =E161 -> #N/A | F162: =F161 -> #N/A | G162: =G161 -> #N/A | H162: {=INDEX(BGCalc1!$L$4:$L$28,A162)*$C162^3+INDEX(BGCalc1!$M$4:$M$28,A162)*$C162^2+INDEX(BGCalc1!$N$4:$N$28,A162)*$C162+INDEX(BGCalc1!$O$4:$O$28,A162)+INDEX('Bulk Graph'!$E$6:$E$30,A162)} -> #N/A | I162: {=INDEX(BGCalc1!$H$4:$H$28,A162)*$C162^3+INDEX(BGCalc1!$I$4:$I$28,A162)*$C162^2+INDEX(BGCalc1!$J$4:$J$28,A162)*$C162+INDEX(BGCalc1!$K$4:$K$28,A162)} -> #N/A | J162: =C162 -> #N/A | K162: =H162+(P162-E162)*F162 -> #N/A | L162: =C162*K162 -> #N/A | M162: {=I162*S162*INDEX(BGCalc1!$B$4:$B$28,A162)} -> #N/A | N162: =M162/L162 -> #N/A | O162: =I162*S162 -> #N/A | P162: =CHOOSE(BGCalc1!$C$1,BGCalc1!$D$1,BGCalc1!$D$1+R162*G162) -> #N/A | Q162: =CHOOSE(BGCalc1!$C$1,NA(),BGCalc1!$D$1) -> 25 | R162: =C162*(H162+(BGCalc1!$D$1-E162)*F162) -> #N/A | S162: =1+(P162-E162)*D162 -> #N/A
A163: 4 | B163: 7 | C163: {=INDEX(BGCalc1!$F$4:$F$28,A163)+(INDEX(BGCalc1!$G$4:$G$28,A163)-INDEX(BGCalc1!$F$4:$F$28,A163))/50*B163} -> #N/A | D163: =D162 -> #N/A | E163: =E162 -> #N/A | F163: =F162 -> #N/A | G163: =G162 -> #N/A | H163: {=INDEX(BGCalc1!$L$4:$L$28,A163)*$C163^3+INDEX(BGCalc1!$M$4:$M$28,A163)*$C163^2+INDEX(BGCalc1!$N$4:$N$28,A163)*$C163+INDEX(BGCalc1!$O$4:$O$28,A163)+INDEX('Bulk Graph'!$E$6:$E$30,A163)} -> #N/A | I163: {=INDEX(BGCalc1!$H$4:$H$28,A163)*$C163^3+INDEX(BGCalc1!$I$4:$I$28,A163)*$C163^2+INDEX(BGCalc1!$J$4:$J$28,A163)*$C163+INDEX(BGCalc1!$K$4:$K$28,A163)} -> #N/A | J163: =C163 -> #N/A | K163: =H163+(P163-E163)*F163 -> #N/A | L163: =C163*K163 -> #N/A | M163: {=I163*S163*INDEX(BGCalc1!$B$4:$B$28,A163)} -> #N/A | N163: =M163/L163 -> #N/A | O163: =I163*S163 -> #N/A | P163: =CHOOSE(BGCalc1!$C$1,BGCalc1!$D$1,BGCalc1!$D$1+R163*G163) -> #N/A | Q163: =CHOOSE(BGCalc1!$C$1,NA(),BGCalc1!$D$1) -> 25 | R163: =C163*(H163+(BGCalc1!$D$1-E163)*F163) -> #N/A | S163: =1+(P163-E163)*D163 -> #N/A
A164: 4 | B164: 8 | C164: {=INDEX(BGCalc1!$F$4:$F$28,A164)+(INDEX(BGCalc1!$G$4:$G$28,A164)-INDEX(BGCalc1!$F$4:$F$28,A164))/50*B164} -> #N/A | D164: =D163 -> #N/A | E164: =E163 -> #N/A | F164: =F163 -> #N/A | G164: =G163 -> #N/A | H164: {=INDEX(BGCalc1!$L$4:$L$28,A164)*$C164^3+INDEX(BGCalc1!$M$4:$M$28,A164)*$C164^2+INDEX(BGCalc1!$N$4:$N$28,A164)*$C164+INDEX(BGCalc1!$O$4:$O$28,A164)+INDEX('Bulk Graph'!$E$6:$E$30,A164)} -> #N/A | I164: {=INDEX(BGCalc1!$H$4:$H$28,A164)*$C164^3+INDEX(BGCalc1!$I$4:$I$28,A164)*$C164^2+INDEX(BGCalc1!$J$4:$J$28,A164)*$C164+INDEX(BGCalc1!$K$4:$K$28,A164)} -> #N/A | J164: =C164 -> #N/A | K164: =H164+(P164-E164)*F164 -> #N/A | L164: =C164*K164 -> #N/A | M164: {=I164*S164*INDEX(BGCalc1!$B$4:$B$28,A164)} -> #N/A | N164: =M164/L164 -> #N/A | O164: =I164*S164 -> #N/A | P164: =CHOOSE(BGCalc1!$C$1,BGCalc1!$D$1,BGCalc1!$D$1+R164*G164) -> #N/A | Q164: =CHOOSE(BGCalc1!$C$1,NA(),BGCalc1!$D$1) -> 25 | R164: =C164*(H164+(BGCalc1!$D$1-E164)*F164) -> #N/A | S164: =1+(P164-E164)*D164 -> #N/A
A165: 4 | B165: 9 | C165: {=INDEX(BGCalc1!$F$4:$F$28,A165)+(INDEX(BGCalc1!$G$4:$G$28,A165)-INDEX(BGCalc1!$F$4:$F$28,A165))/50*B165} -> #N/A | D165: =D164 -> #N/A | E165: =E164 -> #N/A | F165: =F164 -> #N/A | G165: =G164 -> #N/A | H165: {=INDEX(BGCalc1!$L$4:$L$28,A165)*$C165^3+INDEX(BGCalc1!$M$4:$M$28,A165)*$C165^2+INDEX(BGCalc1!$N$4:$N$28,A165)*$C165+INDEX(BGCalc1!$O$4:$O$28,A165)+INDEX('Bulk Graph'!$E$6:$E$30,A165)} -> #N/A | I165: {=INDEX(BGCalc1!$H$4:$H$28,A165)*$C165^3+INDEX(BGCalc1!$I$4:$I$28,A165)*$C165^2+INDEX(BGCalc1!$J$4:$J$28,A165)*$C165+INDEX(BGCalc1!$K$4:$K$28,A165)} -> #N/A | J165: =C165 -> #N/A | K165: =H165+(P165-E165)*F165 -> #N/A | L165: =C165*K165 -> #N/A | M165: {=I165*S165*INDEX(BGCalc1!$B$4:$B$28,A165)} -> #N/A | N165: =M165/L165 -> #N/A | O165: =I165*S165 -> #N/A | P165: =CHOOSE(BGCalc1!$C$1,BGCalc1!$D$1,BGCalc1!$D$1+R165*G165) -> #N/A | Q165: =CHOOSE(BGCalc1!$C$1,NA(),BGCalc1!$D$1) -> 25 | R165: =C165*(H165+(BGCalc1!$D$1-E165)*F165) -> #N/A | S165: =1+(P165-E165)*D165 -> #N/A
A166: 4 | B166: 10 | C166: {=INDEX(BGCalc1!$F$4:$F$28,A166)+(INDEX(BGCalc1!$G$4:$G$28,A166)-INDEX(BGCalc1!$F$4:$F$28,A166))/50*B166} -> #N/A | D166: =D165 -> #N/A | E166: =E165 -> #N/A | F166: =F165 -> #N/A | G166: =G165 -> #N/A | H166: {=INDEX(BGCalc1!$L$4:$L$28,A166)*$C166^3+INDEX(BGCalc1!$M$4:$M$28,A166)*$C166^2+INDEX(BGCalc1!$N$4:$N$28,A166)*$C166+INDEX(BGCalc1!$O$4:$O$28,A166)+INDEX('Bulk Graph'!$E$6:$E$30,A166)} -> #N/A | I166: {=INDEX(BGCalc1!$H$4:$H$28,A166)*$C166^3+INDEX(BGCalc1!$I$4:$I$28,A166)*$C166^2+INDEX(BGCalc1!$J$4:$J$28,A166)*$C166+INDEX(BGCalc1!$K$4:$K$28,A166)} -> #N/A | J166: =C166 -> #N/A | K166: =H166+(P166-E166)*F166 -> #N/A | L166: =C166*K166 -> #N/A | M166: {=I166*S166*INDEX(BGCalc1!$B$4:$B$28,A166)} -> #N/A | N166: =M166/L166 -> #N/A | O166: =I166*S166 -> #N/A | P166: =CHOOSE(BGCalc1!$C$1,BGCalc1!$D$1,BGCalc1!$D$1+R166*G166) -> #N/A | Q166: =CHOOSE(BGCalc1!$C$1,NA(),BGCalc1!$D$1) -> 25 | R166: =C166*(H166+(BGCalc1!$D$1-E166)*F166) -> #N/A | S166: =1+(P166-E166)*D166 -> #N/A
A167: 4 | B167: 11 | C167: {=INDEX(BGCalc1!$F$4:$F$28,A167)+(INDEX(BGCalc1!$G$4:$G$28,A167)-INDEX(BGCalc1!$F$4:$F$28,A167))/50*B167} -> #N/A | D167: =D166 -> #N/A | E167: =E166 -> #N/A | F167: =F166 -> #N/A | G167: =G166 -> #N/A | H167: {=INDEX(BGCalc1!$L$4:$L$28,A167)*$C167^3+INDEX(BGCalc1!$M$4:$M$28,A167)*$C167^2+INDEX(BGCalc1!$N$4:$N$28,A167)*$C167+INDEX(BGCalc1!$O$4:$O$28,A167)+INDEX('Bulk Graph'!$E$6:$E$30,A167)} -> #N/A | I167: {=INDEX(BGCalc1!$H$4:$H$28,A167)*$C167^3+INDEX(BGCalc1!$I$4:$I$28,A167)*$C167^2+INDEX(BGCalc1!$J$4:$J$28,A167)*$C167+INDEX(BGCalc1!$K$4:$K$28,A167)} -> #N/A | J167: =C167 -> #N/A | K167: =H167+(P167-E167)*F167 -> #N/A | L167: =C167*K167 -> #N/A | M167: {=I167*S167*INDEX(BGCalc1!$B$4:$B$28,A167)} -> #N/A | N167: =M167/L167 -> #N/A | O167: =I167*S167 -> #N/A | P167: =CHOOSE(BGCalc1!$C$1,BGCalc1!$D$1,BGCalc1!$D$1+R167*G167) -> #N/A | Q167: =CHOOSE(BGCalc1!$C$1,NA(),BGCalc1!$D$1) -> 25 | R167: =C167*(H167+(BGCalc1!$D$1-E167)*F167) -> #N/A | S167: =1+(P167-E167)*D167 -> #N/A
A168: 4 | B168: 12 | C168: {=INDEX(BGCalc1!$F$4:$F$28,A168)+(INDEX(BGCalc1!$G$4:$G$28,A168)-INDEX(BGCalc1!$F$4:$F$28,A168))/50*B168} -> #N/A | D168: =D167 -> #N/A | E168: =E167 -> #N/A | F168: =F167 -> #N/A | G168: =G167 -> #N/A | H168: {=INDEX(BGCalc1!$L$4:$L$28,A168)*$C168^3+INDEX(BGCalc1!$M$4:$M$28,A168)*$C168^2+INDEX(BGCalc1!$N$4:$N$28,A168)*$C168+INDEX(BGCalc1!$O$4:$O$28,A168)+INDEX('Bulk Graph'!$E$6:$E$30,A168)} -> #N/A | I168: {=INDEX(BGCalc1!$H$4:$H$28,A168)*$C168^3+INDEX(BGCalc1!$I$4:$I$28,A168)*$C168^2+INDEX(BGCalc1!$J$4:$J$28,A168)*$C168+INDEX(BGCalc1!$K$4:$K$28,A168)} -> #N/A | J168: =C168 -> #N/A | K168: =H168+(P168-E168)*F168 -> #N/A | L168: =C168*K168 -> #N/A | M168: {=I168*S168*INDEX(BGCalc1!$B$4:$B$28,A168)} -> #N/A | N168: =M168/L168 -> #N/A | O168: =I168*S168 -> #N/A | P168: =CHOOSE(BGCalc1!$C$1,BGCalc1!$D$1,BGCalc1!$D$1+R168*G168) -> #N/A | Q168: =CHOOSE(BGCalc1!$C$1,NA(),BGCalc1!$D$1) -> 25 | R168: =C168*(H168+(BGCalc1!$D$1-E168)*F168) -> #N/A | S168: =1+(P168-E168)*D168 -> #N/A
... A206: 4 | B206: 50 | C206: {=INDEX(BGCalc1!$F$4:$F$28,A206)+(INDEX(BGCalc1!$G$4:$G$28,A206)-INDEX(BGCalc1!$F$4:$F$28,A206))/50*B206} -> #N/A | D206: =D205 -> #N/A | E206: =E205 -> #N/A | F206: =F205 -> #N/A | G206: =G205 -> #N/A | H206: {=INDEX(BGCalc1!$L$4:$L$28,A206)*$C206^3+INDEX(BGCalc1!$M$4:$M$28,A206)*$C206^2+INDEX(BGCalc1!$N$4:$N$28,A206)*$C206+INDEX(BGCalc1!$O$4:$O$28,A206)+INDEX('Bulk Graph'!$E$6:$E$30,A206)} -> #N/A | I206: {=INDEX(BGCalc1!$H$4:$H$28,A206)*$C206^3+INDEX(BGCalc1!$I$4:$I$28,A206)*$C206^2+INDEX(BGCalc1!$J$4:$J$28,A206)*$C206+INDEX(BGCalc1!$K$4:$K$28,A206)} -> #N/A | J206: =C206 -> #N/A | K206: =H206+(P206-E206)*F206 -> #N/A | L206: =C206*K206 -> #N/A | M206: {=I206*S206*INDEX(BGCalc1!$B$4:$B$28,A206)} -> #N/A | N206: =M206/L206 -> #N/A | O206: =I206*S206 -> #N/A | P206: =CHOOSE(BGCalc1!$C$1,BGCalc1!$D$1,BGCalc1!$D$1+R206*G206) -> #N/A | Q206: =CHOOSE(BGCalc1!$C$1,NA(),BGCalc1!$D$1) -> 25 | R206: =C206*(H206+(BGCalc1!$D$1-E206)*F206) -> #N/A | S206: =1+(P206-E206)*D206 -> #N/A
A207: 5 | B207: 0 | C207: {=INDEX(BGCalc1!$F$4:$F$28,A207)+(INDEX(BGCalc1!$G$4:$G$28,A207)-INDEX(BGCalc1!$F$4:$F$28,A207))/50*B207} -> #N/A | D207: {=INDEX(BGCalc1!$P$4:$P$28,A207)} -> #N/A | E207: {=INDEX(BGCalc1!$Q$4:$Q$28,A207)} -> #N/A | F207: {=INDEX(BGCalc1!$R$4:$R$28,A207)} -> #N/A | G207: {=INDEX(BGCalc1!$S$4:$S$28,A207)} -> #N/A | H207: {=INDEX(BGCalc1!$L$4:$L$28,A207)*$C207^3+INDEX(BGCalc1!$M$4:$M$28,A207)*$C207^2+INDEX(BGCalc1!$N$4:$N$28,A207)*$C207+INDEX(BGCalc1!$O$4:$O$28,A207)+INDEX('Bulk Graph'!$E$6:$E$30,A207)} -> #N/A | I207: {=INDEX(BGCalc1!$H$4:$H$28,A207)*$C207^3+INDEX(BGCalc1!$I$4:$I$28,A207)*$C207^2+INDEX(BGCalc1!$J$4:$J$28,A207)*$C207+INDEX(BGCalc1!$K$4:$K$28,A207)} -> #N/A | J207: =C207 -> #N/A | K207: =H207+(P207-E207)*F207 -> #N/A | L207: =C207*K207 -> #N/A | M207: {=I207*S207*INDEX(BGCalc1!$B$4:$B$28,A207)} -> #N/A | N207: =M207/L207 -> #N/A | O207: =I207*S207 -> #N/A | P207: =CHOOSE(BGCalc1!$C$1,BGCalc1!$D$1,BGCalc1!$D$1+R207*G207) -> #N/A | Q207: =CHOOSE(BGCalc1!$C$1,NA(),BGCalc1!$D$1) -> 25 | R207: =C207*(H207+(BGCalc1!$D$1-E207)*F207) -> #N/A | S207: =1+(P207-E207)*D207 -> #N/A
A208: 5 | B208: 1 | C208: {=INDEX(BGCalc1!$F$4:$F$28,A208)+(INDEX(BGCalc1!$G$4:$G$28,A208)-INDEX(BGCalc1!$F$4:$F$28,A208))/50*B208} -> #N/A | D208: =D207 -> #N/A | E208: =E207 -> #N/A | F208: =F207 -> #N/A | G208: =G207 -> #N/A | H208: {=INDEX(BGCalc1!$L$4:$L$28,A208)*$C208^3+INDEX(BGCalc1!$M$4:$M$28,A208)*$C208^2+INDEX(BGCalc1!$N$4:$N$28,A208)*$C208+INDEX(BGCalc1!$O$4:$O$28,A208)+INDEX('Bulk Graph'!$E$6:$E$30,A208)} -> #N/A | I208: {=INDEX(BGCalc1!$H$4:$H$28,A208)*$C208^3+INDEX(BGCalc1!$I$4:$I$28,A208)*$C208^2+INDEX(BGCalc1!$J$4:$J$28,A208)*$C208+INDEX(BGCalc1!$K$4:$K$28,A208)} -> #N/A | J208: =C208 -> #N/A | K208: =H208+(P208-E208)*F208 -> #N/A | L208: =C208*K208 -> #N/A | M208: {=I208*S208*INDEX(BGCalc1!$B$4:$B$28,A208)} -> #N/A | N208: =M208/L208 -> #N/A | O208: =I208*S208 -> #N/A | P208: =CHOOSE(BGCalc1!$C$1,BGCalc1!$D$1,BGCalc1!$D$1+R208*G208) -> #N/A | Q208: =CHOOSE(BGCalc1!$C$1,NA(),BGCalc1!$D$1) -> 25 | R208: =C208*(H208+(BGCalc1!$D$1-E208)*F208) -> #N/A | S208: =1+(P208-E208)*D208 -> #N/A
A209: 5 | B209: 2 | C209: {=INDEX(BGCalc1!$F$4:$F$28,A209)+(INDEX(BGCalc1!$G$4:$G$28,A209)-INDEX(BGCalc1!$F$4:$F$28,A209))/50*B209} -> #N/A | D209: =D208 -> #N/A | E209: =E208 -> #N/A | F209: =F208 -> #N/A | G209: =G208 -> #N/A | H209: {=INDEX(BGCalc1!$L$4:$L$28,A209)*$C209^3+INDEX(BGCalc1!$M$4:$M$28,A209)*$C209^2+INDEX(BGCalc1!$N$4:$N$28,A209)*$C209+INDEX(BGCalc1!$O$4:$O$28,A209)+INDEX('Bulk Graph'!$E$6:$E$30,A209)} -> #N/A | I209: {=INDEX(BGCalc1!$H$4:$H$28,A209)*$C209^3+INDEX(BGCalc1!$I$4:$I$28,A209)*$C209^2+INDEX(BGCalc1!$J$4:$J$28,A209)*$C209+INDEX(BGCalc1!$K$4:$K$28,A209)} -> #N/A | J209: =C209 -> #N/A | K209: =H209+(P209-E209)*F209 -> #N/A | L209: =C209*K209 -> #N/A | M209: {=I209*S209*INDEX(BGCalc1!$B$4:$B$28,A209)} -> #N/A | N209: =M209/L209 -> #N/A | O209: =I209*S209 -> #N/A | P209: =CHOOSE(BGCalc1!$C$1,BGCalc1!$D$1,BGCalc1!$D$1+R209*G209) -> #N/A | Q209: =CHOOSE(BGCalc1!$C$1,NA(),BGCalc1!$D$1) -> 25 | R209: =C209*(H209+(BGCalc1!$D$1-E209)*F209) -> #N/A | S209: =1+(P209-E209)*D209 -> #N/A
A210: 5 | B210: 3 | C210: {=INDEX(BGCalc1!$F$4:$F$28,A210)+(INDEX(BGCalc1!$G$4:$G$28,A210)-INDEX(BGCalc1!$F$4:$F$28,A210))/50*B210} -> #N/A | D210: =D209 -> #N/A | E210: =E209 -> #N/A | F210: =F209 -> #N/A | G210: =G209 -> #N/A | H210: {=INDEX(BGCalc1!$L$4:$L$28,A210)*$C210^3+INDEX(BGCalc1!$M$4:$M$28,A210)*$C210^2+INDEX(BGCalc1!$N$4:$N$28,A210)*$C210+INDEX(BGCalc1!$O$4:$O$28,A210)+INDEX('Bulk Graph'!$E$6:$E$30,A210)} -> #N/A | I210: {=INDEX(BGCalc1!$H$4:$H$28,A210)*$C210^3+INDEX(BGCalc1!$I$4:$I$28,A210)*$C210^2+INDEX(BGCalc1!$J$4:$J$28,A210)*$C210+INDEX(BGCalc1!$K$4:$K$28,A210)} -> #N/A | J210: =C210 -> #N/A | K210: =H210+(P210-E210)*F210 -> #N/A | L210: =C210*K210 -> #N/A | M210: {=I210*S210*INDEX(BGCalc1!$B$4:$B$28,A210)} -> #N/A | N210: =M210/L210 -> #N/A | O210: =I210*S210 -> #N/A | P210: =CHOOSE(BGCalc1!$C$1,BGCalc1!$D$1,BGCalc1!$D$1+R210*G210) -> #N/A | Q210: =CHOOSE(BGCalc1!$C$1,NA(),BGCalc1!$D$1) -> 25 | R210: =C210*(H210+(BGCalc1!$D$1-E210)*F210) -> #N/A | S210: =1+(P210-E210)*D210 -> #N/A
A211: 5 | B211: 4 | C211: {=INDEX(BGCalc1!$F$4:$F$28,A211)+(INDEX(BGCalc1!$G$4:$G$28,A211)-INDEX(BGCalc1!$F$4:$F$28,A211))/50*B211} -> #N/A | D211: =D210 -> #N/A | E211: =E210 -> #N/A | F211: =F210 -> #N/A | G211: =G210 -> #N/A | H211: {=INDEX(BGCalc1!$L$4:$L$28,A211)*$C211^3+INDEX(BGCalc1!$M$4:$M$28,A211)*$C211^2+INDEX(BGCalc1!$N$4:$N$28,A211)*$C211+INDEX(BGCalc1!$O$4:$O$28,A211)+INDEX('Bulk Graph'!$E$6:$E$30,A211)} -> #N/A | I211: {=INDEX(BGCalc1!$H$4:$H$28,A211)*$C211^3+INDEX(BGCalc1!$I$4:$I$28,A211)*$C211^2+INDEX(BGCalc1!$J$4:$J$28,A211)*$C211+INDEX(BGCalc1!$K$4:$K$28,A211)} -> #N/A | J211: =C211 -> #N/A | K211: =H211+(P211-E211)*F211 -> #N/A | L211: =C211*K211 -> #N/A | M211: {=I211*S211*INDEX(BGCalc1!$B$4:$B$28,A211)} -> #N/A | N211: =M211/L211 -> #N/A | O211: =I211*S211 -> #N/A | P211: =CHOOSE(BGCalc1!$C$1,BGCalc1!$D$1,BGCalc1!$D$1+R211*G211) -> #N/A | Q211: =CHOOSE(BGCalc1!$C$1,NA(),BGCalc1!$D$1) -> 25 | R211: =C211*(H211+(BGCalc1!$D$1-E211)*F211) -> #N/A | S211: =1+(P211-E211)*D211 -> #N/A
A212: 5 | B212: 5 | C212: {=INDEX(BGCalc1!$F$4:$F$28,A212)+(INDEX(BGCalc1!$G$4:$G$28,A212)-INDEX(BGCalc1!$F$4:$F$28,A212))/50*B212} -> #N/A | D212: =D211 -> #N/A | E212: =E211 -> #N/A | F212: =F211 -> #N/A | G212: =G211 -> #N/A | H212: {=INDEX(BGCalc1!$L$4:$L$28,A212)*$C212^3+INDEX(BGCalc1!$M$4:$M$28,A212)*$C212^2+INDEX(BGCalc1!$N$4:$N$28,A212)*$C212+INDEX(BGCalc1!$O$4:$O$28,A212)+INDEX('Bulk Graph'!$E$6:$E$30,A212)} -> #N/A | I212: {=INDEX(BGCalc1!$H$4:$H$28,A212)*$C212^3+INDEX(BGCalc1!$I$4:$I$28,A212)*$C212^2+INDEX(BGCalc1!$J$4:$J$28,A212)*$C212+INDEX(BGCalc1!$K$4:$K$28,A212)} -> #N/A | J212: =C212 -> #N/A | K212: =H212+(P212-E212)*F212 -> #N/A | L212: =C212*K212 -> #N/A | M212: {=I212*S212*INDEX(BGCalc1!$B$4:$B$28,A212)} -> #N/A | N212: =M212/L212 -> #N/A | O212: =I212*S212 -> #N/A | P212: =CHOOSE(BGCalc1!$C$1,BGCalc1!$D$1,BGCalc1!$D$1+R212*G212) -> #N/A | Q212: =CHOOSE(BGCalc1!$C$1,NA(),BGCalc1!$D$1) -> 25 | R212: =C212*(H212+(BGCalc1!$D$1-E212)*F212) -> #N/A | S212: =1+(P212-E212)*D212 -> #N/A
A213: 5 | B213: 6 | C213: {=INDEX(BGCalc1!$F$4:$F$28,A213)+(INDEX(BGCalc1!$G$4:$G$28,A213)-INDEX(BGCalc1!$F$4:$F$28,A213))/50*B213} -> #N/A | D213: =D212 -> #N/A | E213: =E212 -> #N/A | F213: =F212 -> #N/A | G213: =G212 -> #N/A | H213: {=INDEX(BGCalc1!$L$4:$L$28,A213)*$C213^3+INDEX(BGCalc1!$M$4:$M$28,A213)*$C213^2+INDEX(BGCalc1!$N$4:$N$28,A213)*$C213+INDEX(BGCalc1!$O$4:$O$28,A213)+INDEX('Bulk Graph'!$E$6:$E$30,A213)} -> #N/A | I213: {=INDEX(BGCalc1!$H$4:$H$28,A213)*$C213^3+INDEX(BGCalc1!$I$4:$I$28,A213)*$C213^2+INDEX(BGCalc1!$J$4:$J$28,A213)*$C213+INDEX(BGCalc1!$K$4:$K$28,A213)} -> #N/A | J213: =C213 -> #N/A | K213: =H213+(P213-E213)*F213 -> #N/A | L213: =C213*K213 -> #N/A | M213: {=I213*S213*INDEX(BGCalc1!$B$4:$B$28,A213)} -> #N/A | N213: =M213/L213 -> #N/A | O213: =I213*S213 -> #N/A | P213: =CHOOSE(BGCalc1!$C$1,BGCalc1!$D$1,BGCalc1!$D$1+R213*G213) -> #N/A | Q213: =CHOOSE(BGCalc1!$C$1,NA(),BGCalc1!$D$1) -> 25 | R213: =C213*(H213+(BGCalc1!$D$1-E213)*F213) -> #N/A | S213: =1+(P213-E213)*D213 -> #N/A
A214: 5 | B214: 7 | C214: {=INDEX(BGCalc1!$F$4:$F$28,A214)+(INDEX(BGCalc1!$G$4:$G$28,A214)-INDEX(BGCalc1!$F$4:$F$28,A214))/50*B214} -> #N/A | D214: =D213 -> #N/A | E214: =E213 -> #N/A | F214: =F213 -> #N/A | G214: =G213 -> #N/A | H214: {=INDEX(BGCalc1!$L$4:$L$28,A214)*$C214^3+INDEX(BGCalc1!$M$4:$M$28,A214)*$C214^2+INDEX(BGCalc1!$N$4:$N$28,A214)*$C214+INDEX(BGCalc1!$O$4:$O$28,A214)+INDEX('Bulk Graph'!$E$6:$E$30,A214)} -> #N/A | I214: {=INDEX(BGCalc1!$H$4:$H$28,A214)*$C214^3+INDEX(BGCalc1!$I$4:$I$28,A214)*$C214^2+INDEX(BGCalc1!$J$4:$J$28,A214)*$C214+INDEX(BGCalc1!$K$4:$K$28,A214)} -> #N/A | J214: =C214 -> #N/A | K214: =H214+(P214-E214)*F214 -> #N/A | L214: =C214*K214 -> #N/A | M214: {=I214*S214*INDEX(BGCalc1!$B$4:$B$28,A214)} -> #N/A | N214: =M214/L214 -> #N/A | O214: =I214*S214 -> #N/A | P214: =CHOOSE(BGCalc1!$C$1,BGCalc1!$D$1,BGCalc1!$D$1+R214*G214) -> #N/A | Q214: =CHOOSE(BGCalc1!$C$1,NA(),BGCalc1!$D$1) -> 25 | R214: =C214*(H214+(BGCalc1!$D$1-E214)*F214) -> #N/A | S214: =1+(P214-E214)*D214 -> #N/A
A215: 5 | B215: 8 | C215: {=INDEX(BGCalc1!$F$4:$F$28,A215)+(INDEX(BGCalc1!$G$4:$G$28,A215)-INDEX(BGCalc1!$F$4:$F$28,A215))/50*B215} -> #N/A | D215: =D214 -> #N/A | E215: =E214 -> #N/A | F215: =F214 -> #N/A | G215: =G214 -> #N/A | H215: {=INDEX(BGCalc1!$L$4:$L$28,A215)*$C215^3+INDEX(BGCalc1!$M$4:$M$28,A215)*$C215^2+INDEX(BGCalc1!$N$4:$N$28,A215)*$C215+INDEX(BGCalc1!$O$4:$O$28,A215)+INDEX('Bulk Graph'!$E$6:$E$30,A215)} -> #N/A | I215: {=INDEX(BGCalc1!$H$4:$H$28,A215)*$C215^3+INDEX(BGCalc1!$I$4:$I$28,A215)*$C215^2+INDEX(BGCalc1!$J$4:$J$28,A215)*$C215+INDEX(BGCalc1!$K$4:$K$28,A215)} -> #N/A | J215: =C215 -> #N/A | K215: =H215+(P215-E215)*F215 -> #N/A | L215: =C215*K215 -> #N/A | M215: {=I215*S215*INDEX(BGCalc1!$B$4:$B$28,A215)} -> #N/A | N215: =M215/L215 -> #N/A | O215: =I215*S215 -> #N/A | P215: =CHOOSE(BGCalc1!$C$1,BGCalc1!$D$1,BGCalc1!$D$1+R215*G215) -> #N/A | Q215: =CHOOSE(BGCalc1!$C$1,NA(),BGCalc1!$D$1) -> 25 | R215: =C215*(H215+(BGCalc1!$D$1-E215)*F215) -> #N/A | S215: =1+(P215-E215)*D215 -> #N/A
A216: 5 | B216: 9 | C216: {=INDEX(BGCalc1!$F$4:$F$28,A216)+(INDEX(BGCalc1!$G$4:$G$28,A216)-INDEX(BGCalc1!$F$4:$F$28,A216))/50*B216} -> #N/A | D216: =D215 -> #N/A | E216: =E215 -> #N/A | F216: =F215 -> #N/A | G216: =G215 -> #N/A | H216: {=INDEX(BGCalc1!$L$4:$L$28,A216)*$C216^3+INDEX(BGCalc1!$M$4:$M$28,A216)*$C216^2+INDEX(BGCalc1!$N$4:$N$28,A216)*$C216+INDEX(BGCalc1!$O$4:$O$28,A216)+INDEX('Bulk Graph'!$E$6:$E$30,A216)} -> #N/A | I216: {=INDEX(BGCalc1!$H$4:$H$28,A216)*$C216^3+INDEX(BGCalc1!$I$4:$I$28,A216)*$C216^2+INDEX(BGCalc1!$J$4:$J$28,A216)*$C216+INDEX(BGCalc1!$K$4:$K$28,A216)} -> #N/A | J216: =C216 -> #N/A | K216: =H216+(P216-E216)*F216 -> #N/A | L216: =C216*K216 -> #N/A | M216: {=I216*S216*INDEX(BGCalc1!$B$4:$B$28,A216)} -> #N/A | N216: =M216/L216 -> #N/A | O216: =I216*S216 -> #N/A | P216: =CHOOSE(BGCalc1!$C$1,BGCalc1!$D$1,BGCalc1!$D$1+R216*G216) -> #N/A | Q216: =CHOOSE(BGCalc1!$C$1,NA(),BGCalc1!$D$1) -> 25 | R216: =C216*(H216+(BGCalc1!$D$1-E216)*F216) -> #N/A | S216: =1+(P216-E216)*D216 -> #N/A
A217: 5 | B217: 10 | C217: {=INDEX(BGCalc1!$F$4:$F$28,A217)+(INDEX(BGCalc1!$G$4:$G$28,A217)-INDEX(BGCalc1!$F$4:$F$28,A217))/50*B217} -> #N/A | D217: =D216 -> #N/A | E217: =E216 -> #N/A | F217: =F216 -> #N/A | G217: =G216 -> #N/A | H217: {=INDEX(BGCalc1!$L$4:$L$28,A217)*$C217^3+INDEX(BGCalc1!$M$4:$M$28,A217)*$C217^2+INDEX(BGCalc1!$N$4:$N$28,A217)*$C217+INDEX(BGCalc1!$O$4:$O$28,A217)+INDEX('Bulk Graph'!$E$6:$E$30,A217)} -> #N/A | I217: {=INDEX(BGCalc1!$H$4:$H$28,A217)*$C217^3+INDEX(BGCalc1!$I$4:$I$28,A217)*$C217^2+INDEX(BGCalc1!$J$4:$J$28,A217)*$C217+INDEX(BGCalc1!$K$4:$K$28,A217)} -> #N/A | J217: =C217 -> #N/A | K217: =H217+(P217-E217)*F217 -> #N/A | L217: =C217*K217 -> #N/A | M217: {=I217*S217*INDEX(BGCalc1!$B$4:$B$28,A217)} -> #N/A | N217: =M217/L217 -> #N/A | O217: =I217*S217 -> #N/A | P217: =CHOOSE(BGCalc1!$C$1,BGCalc1!$D$1,BGCalc1!$D$1+R217*G217) -> #N/A | Q217: =CHOOSE(BGCalc1!$C$1,NA(),BGCalc1!$D$1) -> 25 | R217: =C217*(H217+(BGCalc1!$D$1-E217)*F217) -> #N/A | S217: =1+(P217-E217)*D217 -> #N/A
A218: 5 | B218: 11 | C218: {=INDEX(BGCalc1!$F$4:$F$28,A218)+(INDEX(BGCalc1!$G$4:$G$28,A218)-INDEX(BGCalc1!$F$4:$F$28,A218))/50*B218} -> #N/A | D218: =D217 -> #N/A | E218: =E217 -> #N/A | F218: =F217 -> #N/A | G218: =G217 -> #N/A | H218: {=INDEX(BGCalc1!$L$4:$L$28,A218)*$C218^3+INDEX(BGCalc1!$M$4:$M$28,A218)*$C218^2+INDEX(BGCalc1!$N$4:$N$28,A218)*$C218+INDEX(BGCalc1!$O$4:$O$28,A218)+INDEX('Bulk Graph'!$E$6:$E$30,A218)} -> #N/A | I218: {=INDEX(BGCalc1!$H$4:$H$28,A218)*$C218^3+INDEX(BGCalc1!$I$4:$I$28,A218)*$C218^2+INDEX(BGCalc1!$J$4:$J$28,A218)*$C218+INDEX(BGCalc1!$K$4:$K$28,A218)} -> #N/A | J218: =C218 -> #N/A | K218: =H218+(P218-E218)*F218 -> #N/A | L218: =C218*K218 -> #N/A | M218: {=I218*S218*INDEX(BGCalc1!$B$4:$B$28,A218)} -> #N/A | N218: =M218/L218 -> #N/A | O218: =I218*S218 -> #N/A | P218: =CHOOSE(BGCalc1!$C$1,BGCalc1!$D$1,BGCalc1!$D$1+R218*G218) -> #N/A | Q218: =CHOOSE(BGCalc1!$C$1,NA(),BGCalc1!$D$1) -> 25 | R218: =C218*(H218+(BGCalc1!$D$1-E218)*F218) -> #N/A | S218: =1+(P218-E218)*D218 -> #N/A
A219: 5 | B219: 12 | C219: {=INDEX(BGCalc1!$F$4:$F$28,A219)+(INDEX(BGCalc1!$G$4:$G$28,A219)-INDEX(BGCalc1!$F$4:$F$28,A219))/50*B219} -> #N/A | D219: =D218 -> #N/A | E219: =E218 -> #N/A | F219: =F218 -> #N/A | G219: =G218 -> #N/A | H219: {=INDEX(BGCalc1!$L$4:$L$28,A219)*$C219^3+INDEX(BGCalc1!$M$4:$M$28,A219)*$C219^2+INDEX(BGCalc1!$N$4:$N$28,A219)*$C219+INDEX(BGCalc1!$O$4:$O$28,A219)+INDEX('Bulk Graph'!$E$6:$E$30,A219)} -> #N/A | I219: {=INDEX(BGCalc1!$H$4:$H$28,A219)*$C219^3+INDEX(BGCalc1!$I$4:$I$28,A219)*$C219^2+INDEX(BGCalc1!$J$4:$J$28,A219)*$C219+INDEX(BGCalc1!$K$4:$K$28,A219)} -> #N/A | J219: =C219 -> #N/A | K219: =H219+(P219-E219)*F219 -> #N/A | L219: =C219*K219 -> #N/A | M219: {=I219*S219*INDEX(BGCalc1!$B$4:$B$28,A219)} -> #N/A | N219: =M219/L219 -> #N/A | O219: =I219*S219 -> #N/A | P219: =CHOOSE(BGCalc1!$C$1,BGCalc1!$D$1,BGCalc1!$D$1+R219*G219) -> #N/A | Q219: =CHOOSE(BGCalc1!$C$1,NA(),BGCalc1!$D$1) -> 25 | R219: =C219*(H219+(BGCalc1!$D$1-E219)*F219) -> #N/A | S219: =1+(P219-E219)*D219 -> #N/A
... A257: 5 | B257: 50 | C257: {=INDEX(BGCalc1!$F$4:$F$28,A257)+(INDEX(BGCalc1!$G$4:$G$28,A257)-INDEX(BGCalc1!$F$4:$F$28,A257))/50*B257} -> #N/A | D257: =D256 -> #N/A | E257: =E256 -> #N/A | F257: =F256 -> #N/A | G257: =G256 -> #N/A | H257: {=INDEX(BGCalc1!$L$4:$L$28,A257)*$C257^3+INDEX(BGCalc1!$M$4:$M$28,A257)*$C257^2+INDEX(BGCalc1!$N$4:$N$28,A257)*$C257+INDEX(BGCalc1!$O$4:$O$28,A257)+INDEX('Bulk Graph'!$E$6:$E$30,A257)} -> #N/A | I257: {=INDEX(BGCalc1!$H$4:$H$28,A257)*$C257^3+INDEX(BGCalc1!$I$4:$I$28,A257)*$C257^2+INDEX(BGCalc1!$J$4:$J$28,A257)*$C257+INDEX(BGCalc1!$K$4:$K$28,A257)} -> #N/A | J257: =C257 -> #N/A | K257: =H257+(P257-E257)*F257 -> #N/A | L257: =C257*K257 -> #N/A | M257: {=I257*S257*INDEX(BGCalc1!$B$4:$B$28,A257)} -> #N/A | N257: =M257/L257 -> #N/A | O257: =I257*S257 -> #N/A | P257: =CHOOSE(BGCalc1!$C$1,BGCalc1!$D$1,BGCalc1!$D$1+R257*G257) -> #N/A | Q257: =CHOOSE(BGCalc1!$C$1,NA(),BGCalc1!$D$1) -> 25 | R257: =C257*(H257+(BGCalc1!$D$1-E257)*F257) -> #N/A | S257: =1+(P257-E257)*D257 -> #N/A
A258: 6 | B258: 0 | C258: {=INDEX(BGCalc1!$F$4:$F$28,A258)+(INDEX(BGCalc1!$G$4:$G$28,A258)-INDEX(BGCalc1!$F$4:$F$28,A258))/50*B258} -> #N/A | D258: {=INDEX(BGCalc1!$P$4:$P$28,A258)} -> #N/A | E258: {=INDEX(BGCalc1!$Q$4:$Q$28,A258)} -> #N/A | F258: {=INDEX(BGCalc1!$R$4:$R$28,A258)} -> #N/A | G258: {=INDEX(BGCalc1!$S$4:$S$28,A258)} -> #N/A | H258: {=INDEX(BGCalc1!$L$4:$L$28,A258)*$C258^3+INDEX(BGCalc1!$M$4:$M$28,A258)*$C258^2+INDEX(BGCalc1!$N$4:$N$28,A258)*$C258+INDEX(BGCalc1!$O$4:$O$28,A258)+INDEX('Bulk Graph'!$E$6:$E$30,A258)} -> #N/A | I258: {=INDEX(BGCalc1!$H$4:$H$28,A258)*$C258^3+INDEX(BGCalc1!$I$4:$I$28,A258)*$C258^2+INDEX(BGCalc1!$J$4:$J$28,A258)*$C258+INDEX(BGCalc1!$K$4:$K$28,A258)} -> #N/A | J258: =C258 -> #N/A | K258: =H258+(P258-E258)*F258 -> #N/A | L258: =C258*K258 -> #N/A | M258: {=I258*S258*INDEX(BGCalc1!$B$4:$B$28,A258)} -> #N/A | N258: =M258/L258 -> #N/A | O258: =I258*S258 -> #N/A | P258: =CHOOSE(BGCalc1!$C$1,BGCalc1!$D$1,BGCalc1!$D$1+R258*G258) -> #N/A | Q258: =CHOOSE(BGCalc1!$C$1,NA(),BGCalc1!$D$1) -> 25 | R258: =C258*(H258+(BGCalc1!$D$1-E258)*F258) -> #N/A | S258: =1+(P258-E258)*D258 -> #N/A
A259: 6 | B259: 1 | C259: {=INDEX(BGCalc1!$F$4:$F$28,A259)+(INDEX(BGCalc1!$G$4:$G$28,A259)-INDEX(BGCalc1!$F$4:$F$28,A259))/50*B259} -> #N/A | D259: =D258 -> #N/A | E259: =E258 -> #N/A | F259: =F258 -> #N/A | G259: =G258 -> #N/A | H259: {=INDEX(BGCalc1!$L$4:$L$28,A259)*$C259^3+INDEX(BGCalc1!$M$4:$M$28,A259)*$C259^2+INDEX(BGCalc1!$N$4:$N$28,A259)*$C259+INDEX(BGCalc1!$O$4:$O$28,A259)+INDEX('Bulk Graph'!$E$6:$E$30,A259)} -> #N/A | I259: {=INDEX(BGCalc1!$H$4:$H$28,A259)*$C259^3+INDEX(BGCalc1!$I$4:$I$28,A259)*$C259^2+INDEX(BGCalc1!$J$4:$J$28,A259)*$C259+INDEX(BGCalc1!$K$4:$K$28,A259)} -> #N/A | J259: =C259 -> #N/A | K259: =H259+(P259-E259)*F259 -> #N/A | L259: =C259*K259 -> #N/A | M259: {=I259*S259*INDEX(BGCalc1!$B$4:$B$28,A259)} -> #N/A | N259: =M259/L259 -> #N/A | O259: =I259*S259 -> #N/A | P259: =CHOOSE(BGCalc1!$C$1,BGCalc1!$D$1,BGCalc1!$D$1+R259*G259) -> #N/A | Q259: =CHOOSE(BGCalc1!$C$1,NA(),BGCalc1!$D$1) -> 25 | R259: =C259*(H259+(BGCalc1!$D$1-E259)*F259) -> #N/A | S259: =1+(P259-E259)*D259 -> #N/A
A260: 6 | B260: 2 | C260: {=INDEX(BGCalc1!$F$4:$F$28,A260)+(INDEX(BGCalc1!$G$4:$G$28,A260)-INDEX(BGCalc1!$F$4:$F$28,A260))/50*B260} -> #N/A | D260: =D259 -> #N/A | E260: =E259 -> #N/A | F260: =F259 -> #N/A | G260: =G259 -> #N/A | H260: {=INDEX(BGCalc1!$L$4:$L$28,A260)*$C260^3+INDEX(BGCalc1!$M$4:$M$28,A260)*$C260^2+INDEX(BGCalc1!$N$4:$N$28,A260)*$C260+INDEX(BGCalc1!$O$4:$O$28,A260)+INDEX('Bulk Graph'!$E$6:$E$30,A260)} -> #N/A | I260: {=INDEX(BGCalc1!$H$4:$H$28,A260)*$C260^3+INDEX(BGCalc1!$I$4:$I$28,A260)*$C260^2+INDEX(BGCalc1!$J$4:$J$28,A260)*$C260+INDEX(BGCalc1!$K$4:$K$28,A260)} -> #N/A | J260: =C260 -> #N/A | K260: =H260+(P260-E260)*F260 -> #N/A | L260: =C260*K260 -> #N/A | M260: {=I260*S260*INDEX(BGCalc1!$B$4:$B$28,A260)} -> #N/A | N260: =M260/L260 -> #N/A | O260: =I260*S260 -> #N/A | P260: =CHOOSE(BGCalc1!$C$1,BGCalc1!$D$1,BGCalc1!$D$1+R260*G260) -> #N/A | Q260: =CHOOSE(BGCalc1!$C$1,NA(),BGCalc1!$D$1) -> 25 | R260: =C260*(H260+(BGCalc1!$D$1-E260)*F260) -> #N/A | S260: =1+(P260-E260)*D260 -> #N/A
A261: 6 | B261: 3 | C261: {=INDEX(BGCalc1!$F$4:$F$28,A261)+(INDEX(BGCalc1!$G$4:$G$28,A261)-INDEX(BGCalc1!$F$4:$F$28,A261))/50*B261} -> #N/A | D261: =D260 -> #N/A | E261: =E260 -> #N/A | F261: =F260 -> #N/A | G261: =G260 -> #N/A | H261: {=INDEX(BGCalc1!$L$4:$L$28,A261)*$C261^3+INDEX(BGCalc1!$M$4:$M$28,A261)*$C261^2+INDEX(BGCalc1!$N$4:$N$28,A261)*$C261+INDEX(BGCalc1!$O$4:$O$28,A261)+INDEX('Bulk Graph'!$E$6:$E$30,A261)} -> #N/A | I261: {=INDEX(BGCalc1!$H$4:$H$28,A261)*$C261^3+INDEX(BGCalc1!$I$4:$I$28,A261)*$C261^2+INDEX(BGCalc1!$J$4:$J$28,A261)*$C261+INDEX(BGCalc1!$K$4:$K$28,A261)} -> #N/A | J261: =C261 -> #N/A | K261: =H261+(P261-E261)*F261 -> #N/A | L261: =C261*K261 -> #N/A | M261: {=I261*S261*INDEX(BGCalc1!$B$4:$B$28,A261)} -> #N/A | N261: =M261/L261 -> #N/A | O261: =I261*S261 -> #N/A | P261: =CHOOSE(BGCalc1!$C$1,BGCalc1!$D$1,BGCalc1!$D$1+R261*G261) -> #N/A | Q261: =CHOOSE(BGCalc1!$C$1,NA(),BGCalc1!$D$1) -> 25 | R261: =C261*(H261+(BGCalc1!$D$1-E261)*F261) -> #N/A | S261: =1+(P261-E261)*D261 -> #N/A
A262: 6 | B262: 4 | C262: {=INDEX(BGCalc1!$F$4:$F$28,A262)+(INDEX(BGCalc1!$G$4:$G$28,A262)-INDEX(BGCalc1!$F$4:$F$28,A262))/50*B262} -> #N/A | D262: =D261 -> #N/A | E262: =E261 -> #N/A | F262: =F261 -> #N/A | G262: =G261 -> #N/A | H262: {=INDEX(BGCalc1!$L$4:$L$28,A262)*$C262^3+INDEX(BGCalc1!$M$4:$M$28,A262)*$C262^2+INDEX(BGCalc1!$N$4:$N$28,A262)*$C262+INDEX(BGCalc1!$O$4:$O$28,A262)+INDEX('Bulk Graph'!$E$6:$E$30,A262)} -> #N/A | I262: {=INDEX(BGCalc1!$H$4:$H$28,A262)*$C262^3+INDEX(BGCalc1!$I$4:$I$28,A262)*$C262^2+INDEX(BGCalc1!$J$4:$J$28,A262)*$C262+INDEX(BGCalc1!$K$4:$K$28,A262)} -> #N/A | J262: =C262 -> #N/A | K262: =H262+(P262-E262)*F262 -> #N/A | L262: =C262*K262 -> #N/A | M262: {=I262*S262*INDEX(BGCalc1!$B$4:$B$28,A262)} -> #N/A | N262: =M262/L262 -> #N/A | O262: =I262*S262 -> #N/A | P262: =CHOOSE(BGCalc1!$C$1,BGCalc1!$D$1,BGCalc1!$D$1+R262*G262) -> #N/A | Q262: =CHOOSE(BGCalc1!$C$1,NA(),BGCalc1!$D$1) -> 25 | R262: =C262*(H262+(BGCalc1!$D$1-E262)*F262) -> #N/A | S262: =1+(P262-E262)*D262 -> #N/A
A263: 6 | B263: 5 | C263: {=INDEX(BGCalc1!$F$4:$F$28,A263)+(INDEX(BGCalc1!$G$4:$G$28,A263)-INDEX(BGCalc1!$F$4:$F$28,A263))/50*B263} -> #N/A | D263: =D262 -> #N/A | E263: =E262 -> #N/A | F263: =F262 -> #N/A | G263: =G262 -> #N/A | H263: {=INDEX(BGCalc1!$L$4:$L$28,A263)*$C263^3+INDEX(BGCalc1!$M$4:$M$28,A263)*$C263^2+INDEX(BGCalc1!$N$4:$N$28,A263)*$C263+INDEX(BGCalc1!$O$4:$O$28,A263)+INDEX('Bulk Graph'!$E$6:$E$30,A263)} -> #N/A | I263: {=INDEX(BGCalc1!$H$4:$H$28,A263)*$C263^3+INDEX(BGCalc1!$I$4:$I$28,A263)*$C263^2+INDEX(BGCalc1!$J$4:$J$28,A263)*$C263+INDEX(BGCalc1!$K$4:$K$28,A263)} -> #N/A | J263: =C263 -> #N/A | K263: =H263+(P263-E263)*F263 -> #N/A | L263: =C263*K263 -> #N/A | M263: {=I263*S263*INDEX(BGCalc1!$B$4:$B$28,A263)} -> #N/A | N263: =M263/L263 -> #N/A | O263: =I263*S263 -> #N/A | P263: =CHOOSE(BGCalc1!$C$1,BGCalc1!$D$1,BGCalc1!$D$1+R263*G263) -> #N/A | Q263: =CHOOSE(BGCalc1!$C$1,NA(),BGCalc1!$D$1) -> 25 | R263: =C263*(H263+(BGCalc1!$D$1-E263)*F263) -> #N/A | S263: =1+(P263-E263)*D263 -> #N/A
A264: 6 | B264: 6 | C264: {=INDEX(BGCalc1!$F$4:$F$28,A264)+(INDEX(BGCalc1!$G$4:$G$28,A264)-INDEX(BGCalc1!$F$4:$F$28,A264))/50*B264} -> #N/A | D264: =D263 -> #N/A | E264: =E263 -> #N/A | F264: =F263 -> #N/A | G264: =G263 -> #N/A | H264: {=INDEX(BGCalc1!$L$4:$L$28,A264)*$C264^3+INDEX(BGCalc1!$M$4:$M$28,A264)*$C264^2+INDEX(BGCalc1!$N$4:$N$28,A264)*$C264+INDEX(BGCalc1!$O$4:$O$28,A264)+INDEX('Bulk Graph'!$E$6:$E$30,A264)} -> #N/A | I264: {=INDEX(BGCalc1!$H$4:$H$28,A264)*$C264^3+INDEX(BGCalc1!$I$4:$I$28,A264)*$C264^2+INDEX(BGCalc1!$J$4:$J$28,A264)*$C264+INDEX(BGCalc1!$K$4:$K$28,A264)} -> #N/A | J264: =C264 -> #N/A | K264: =H264+(P264-E264)*F264 -> #N/A | L264: =C264*K264 -> #N/A | M264: {=I264*S264*INDEX(BGCalc1!$B$4:$B$28,A264)} -> #N/A | N264: =M264/L264 -> #N/A | O264: =I264*S264 -> #N/A | P264: =CHOOSE(BGCalc1!$C$1,BGCalc1!$D$1,BGCalc1!$D$1+R264*G264) -> #N/A | Q264: =CHOOSE(BGCalc1!$C$1,NA(),BGCalc1!$D$1) -> 25 | R264: =C264*(H264+(BGCalc1!$D$1-E264)*F264) -> #N/A | S264: =1+(P264-E264)*D264 -> #N/A
A265: 6 | B265: 7 | C265: {=INDEX(BGCalc1!$F$4:$F$28,A265)+(INDEX(BGCalc1!$G$4:$G$28,A265)-INDEX(BGCalc1!$F$4:$F$28,A265))/50*B265} -> #N/A | D265: =D264 -> #N/A | E265: =E264 -> #N/A | F265: =F264 -> #N/A | G265: =G264 -> #N/A | H265: {=INDEX(BGCalc1!$L$4:$L$28,A265)*$C265^3+INDEX(BGCalc1!$M$4:$M$28,A265)*$C265^2+INDEX(BGCalc1!$N$4:$N$28,A265)*$C265+INDEX(BGCalc1!$O$4:$O$28,A265)+INDEX('Bulk Graph'!$E$6:$E$30,A265)} -> #N/A | I265: {=INDEX(BGCalc1!$H$4:$H$28,A265)*$C265^3+INDEX(BGCalc1!$I$4:$I$28,A265)*$C265^2+INDEX(BGCalc1!$J$4:$J$28,A265)*$C265+INDEX(BGCalc1!$K$4:$K$28,A265)} -> #N/A | J265: =C265 -> #N/A | K265: =H265+(P265-E265)*F265 -> #N/A | L265: =C265*K265 -> #N/A | M265: {=I265*S265*INDEX(BGCalc1!$B$4:$B$28,A265)} -> #N/A | N265: =M265/L265 -> #N/A | O265: =I265*S265 -> #N/A | P265: =CHOOSE(BGCalc1!$C$1,BGCalc1!$D$1,BGCalc1!$D$1+R265*G265) -> #N/A | Q265: =CHOOSE(BGCalc1!$C$1,NA(),BGCalc1!$D$1) -> 25 | R265: =C265*(H265+(BGCalc1!$D$1-E265)*F265) -> #N/A | S265: =1+(P265-E265)*D265 -> #N/A
A266: 6 | B266: 8 | C266: {=INDEX(BGCalc1!$F$4:$F$28,A266)+(INDEX(BGCalc1!$G$4:$G$28,A266)-INDEX(BGCalc1!$F$4:$F$28,A266))/50*B266} -> #N/A | D266: =D265 -> #N/A | E266: =E265 -> #N/A | F266: =F265 -> #N/A | G266: =G265 -> #N/A | H266: {=INDEX(BGCalc1!$L$4:$L$28,A266)*$C266^3+INDEX(BGCalc1!$M$4:$M$28,A266)*$C266^2+INDEX(BGCalc1!$N$4:$N$28,A266)*$C266+INDEX(BGCalc1!$O$4:$O$28,A266)+INDEX('Bulk Graph'!$E$6:$E$30,A266)} -> #N/A | I266: {=INDEX(BGCalc1!$H$4:$H$28,A266)*$C266^3+INDEX(BGCalc1!$I$4:$I$28,A266)*$C266^2+INDEX(BGCalc1!$J$4:$J$28,A266)*$C266+INDEX(BGCalc1!$K$4:$K$28,A266)} -> #N/A | J266: =C266 -> #N/A | K266: =H266+(P266-E266)*F266 -> #N/A | L266: =C266*K266 -> #N/A | M266: {=I266*S266*INDEX(BGCalc1!$B$4:$B$28,A266)} -> #N/A | N266: =M266/L266 -> #N/A | O266: =I266*S266 -> #N/A | P266: =CHOOSE(BGCalc1!$C$1,BGCalc1!$D$1,BGCalc1!$D$1+R266*G266) -> #N/A | Q266: =CHOOSE(BGCalc1!$C$1,NA(),BGCalc1!$D$1) -> 25 | R266: =C266*(H266+(BGCalc1!$D$1-E266)*F266) -> #N/A | S266: =1+(P266-E266)*D266 -> #N/A
A267: 6 | B267: 9 | C267: {=INDEX(BGCalc1!$F$4:$F$28,A267)+(INDEX(BGCalc1!$G$4:$G$28,A267)-INDEX(BGCalc1!$F$4:$F$28,A267))/50*B267} -> #N/A | D267: =D266 -> #N/A | E267: =E266 -> #N/A | F267: =F266 -> #N/A | G267: =G266 -> #N/A | H267: {=INDEX(BGCalc1!$L$4:$L$28,A267)*$C267^3+INDEX(BGCalc1!$M$4:$M$28,A267)*$C267^2+INDEX(BGCalc1!$N$4:$N$28,A267)*$C267+INDEX(BGCalc1!$O$4:$O$28,A267)+INDEX('Bulk Graph'!$E$6:$E$30,A267)} -> #N/A | I267: {=INDEX(BGCalc1!$H$4:$H$28,A267)*$C267^3+INDEX(BGCalc1!$I$4:$I$28,A267)*$C267^2+INDEX(BGCalc1!$J$4:$J$28,A267)*$C267+INDEX(BGCalc1!$K$4:$K$28,A267)} -> #N/A | J267: =C267 -> #N/A | K267: =H267+(P267-E267)*F267 -> #N/A | L267: =C267*K267 -> #N/A | M267: {=I267*S267*INDEX(BGCalc1!$B$4:$B$28,A267)} -> #N/A | N267: =M267/L267 -> #N/A | O267: =I267*S267 -> #N/A | P267: =CHOOSE(BGCalc1!$C$1,BGCalc1!$D$1,BGCalc1!$D$1+R267*G267) -> #N/A | Q267: =CHOOSE(BGCalc1!$C$1,NA(),BGCalc1!$D$1) -> 25 | R267: =C267*(H267+(BGCalc1!$D$1-E267)*F267) -> #N/A | S267: =1+(P267-E267)*D267 -> #N/A
A268: 6 | B268: 10 | C268: {=INDEX(BGCalc1!$F$4:$F$28,A268)+(INDEX(BGCalc1!$G$4:$G$28,A268)-INDEX(BGCalc1!$F$4:$F$28,A268))/50*B268} -> #N/A | D268: =D267 -> #N/A | E268: =E267 -> #N/A | F268: =F267 -> #N/A | G268: =G267 -> #N/A | H268: {=INDEX(BGCalc1!$L$4:$L$28,A268)*$C268^3+INDEX(BGCalc1!$M$4:$M$28,A268)*$C268^2+INDEX(BGCalc1!$N$4:$N$28,A268)*$C268+INDEX(BGCalc1!$O$4:$O$28,A268)+INDEX('Bulk Graph'!$E$6:$E$30,A268)} -> #N/A | I268: {=INDEX(BGCalc1!$H$4:$H$28,A268)*$C268^3+INDEX(BGCalc1!$I$4:$I$28,A268)*$C268^2+INDEX(BGCalc1!$J$4:$J$28,A268)*$C268+INDEX(BGCalc1!$K$4:$K$28,A268)} -> #N/A | J268: =C268 -> #N/A | K268: =H268+(P268-E268)*F268 -> #N/A | L268: =C268*K268 -> #N/A | M268: {=I268*S268*INDEX(BGCalc1!$B$4:$B$28,A268)} -> #N/A | N268: =M268/L268 -> #N/A | O268: =I268*S268 -> #N/A | P268: =CHOOSE(BGCalc1!$C$1,BGCalc1!$D$1,BGCalc1!$D$1+R268*G268) -> #N/A | Q268: =CHOOSE(BGCalc1!$C$1,NA(),BGCalc1!$D$1) -> 25 | R268: =C268*(H268+(BGCalc1!$D$1-E268)*F268) -> #N/A | S268: =1+(P268-E268)*D268 -> #N/A
A269: 6 | B269: 11 | C269: {=INDEX(BGCalc1!$F$4:$F$28,A269)+(INDEX(BGCalc1!$G$4:$G$28,A269)-INDEX(BGCalc1!$F$4:$F$28,A269))/50*B269} -> #N/A | D269: =D268 -> #N/A | E269: =E268 -> #N/A | F269: =F268 -> #N/A | G269: =G268 -> #N/A | H269: {=INDEX(BGCalc1!$L$4:$L$28,A269)*$C269^3+INDEX(BGCalc1!$M$4:$M$28,A269)*$C269^2+INDEX(BGCalc1!$N$4:$N$28,A269)*$C269+INDEX(BGCalc1!$O$4:$O$28,A269)+INDEX('Bulk Graph'!$E$6:$E$30,A269)} -> #N/A | I269: {=INDEX(BGCalc1!$H$4:$H$28,A269)*$C269^3+INDEX(BGCalc1!$I$4:$I$28,A269)*$C269^2+INDEX(BGCalc1!$J$4:$J$28,A269)*$C269+INDEX(BGCalc1!$K$4:$K$28,A269)} -> #N/A | J269: =C269 -> #N/A | K269: =H269+(P269-E269)*F269 -> #N/A | L269: =C269*K269 -> #N/A | M269: {=I269*S269*INDEX(BGCalc1!$B$4:$B$28,A269)} -> #N/A | N269: =M269/L269 -> #N/A | O269: =I269*S269 -> #N/A | P269: =CHOOSE(BGCalc1!$C$1,BGCalc1!$D$1,BGCalc1!$D$1+R269*G269) -> #N/A | Q269: =CHOOSE(BGCalc1!$C$1,NA(),BGCalc1!$D$1) -> 25 | R269: =C269*(H269+(BGCalc1!$D$1-E269)*F269) -> #N/A | S269: =1+(P269-E269)*D269 -> #N/A
