Workbook
Name FluxBins: Models!$S$7:$BU$932
Name FluxList1: temp!$D$3:$D$57
Name FluxList2: temp!$H$3:$H$57
Name FluxList3: temp!$L$3:$L$57
Name FluxLookup1: temp!$D$3:$E$57
Name FluxLookup2: temp!$H$3:$I$57
Name FluxLookup3: temp!$L$3:$M$57
Name ModelsData: Models!$A$7:$BU$932
Name NameIndexArray: Lookups!$D$4:$E$1502

Sheet CHARACTERIZE
B1: Compare: | C1: LED flux | D1: LED flux/W | E1: LED Vf | F1: LED W | H1: Current Display Range: | K1: Automatic | M1: Minimum: | N1: 0.1 | O1: Interval: | P1: 0.05
C2: =VLOOKUP(C1,Lookups!$J$2:$L$15,3,FALSE) -> 3 | D2: =VLOOKUP(D1,Lookups!$J$2:$L$15,3,FALSE) -> 4 | E2: =VLOOKUP(E1,Lookups!$J$2:$L$15,3,FALSE) -> 1 | F2: =VLOOKUP(F1,Lookups!$J$2:$L$15,3,FALSE) -> 2 | P2: I
B3: System: | C3: Target Flux : | E3: 1200 | F3: Optical Efficiency: | I3: 0.9 | J3: Electrical Efficiency: | M3: 0.9
B6: Current (A) | C6: Model | D6: (none) | H6: Model | I6: (none) | M6: Model | N6: (none)
C7: Flux | H7: Flux | M7: Flux
C8: Price | D8: 0 | E8: Tc (ºC) | F8: 25 | H8: Price | I8: 0 | J8: Tc (ºC) | K8: 25 | M8: Price | N8: 0 | O8: Tc (ºC) | P8: 25
C9: ΔVf | D9: 0 | E9: Multiple | F9: 1 | H9: ΔVf | I9: 0 | J9: Multiple | K9: 1 | M9: ΔVf | N9: 0 | O9: Multiple | P9: 1
C10: =IF($D$6="(none)","",INDEX('led1'!$B$48:$B$60,C$2)) | D10: =IF($D$6="(none)","",INDEX('led1'!$B$48:$B$60,D$2)) | E10: =IF($D$6="(none)","",INDEX('led1'!$B$48:$B$60,E$2)) | F10: =IF($D$6="(none)","",INDEX('led1'!$B$48:$B$60,F$2)) | H10: =IF($I$6="(none)","",INDEX('led2'!$B$48:$B$60,C$2)) | I10: =IF($I$6="(none)","",INDEX('led2'!$B$48:$B$60,D$2)) | J10: =IF($I$6="(none)","",INDEX('led2'!$B$48:$B$60,E$2)) | K10: =IF($I$6="(none)","",INDEX('led2'!$B$48:$B$60,F$2)) | M10: =IF($N$6="(none)","",INDEX('led3'!$B$48:$B$60,C$2)) | N10: =IF($N$6="(none)","",INDEX('led3'!$B$48:$B$60,D$2)) | O10: =IF($N$6="(none)","",INDEX('led3'!$B$48:$B$60,E$2)) | P10: =IF($N$6="(none)","",INDEX('led3'!$B$48:$B$60,F$2))
A11: 1 | B11: =IF(temp!$AO$7=-100,"",Lookups!AB2) | C11: =IF(OR($B11=0,C$2=0),NA(),INDEX('led1'!$K$85:$W$113,$A11,C$2)) -> #N/A | D11: =IF(OR($B11=0,D$2=0),NA(),INDEX('led1'!$K$85:$W$113,$A11,D$2)) -> #N/A | E11: =IF(OR($B11=0,E$2=0),NA(),INDEX('led1'!$K$85:$W$113,$A11,E$2)) -> #N/A | F11: =IF(OR($B11=0,F$2=0),NA(),INDEX('led1'!$K$85:$W$113,$A11,F$2)) -> #N/A | H11: =IF(OR($B11=0,C$2=0),NA(),INDEX('led2'!$K$85:$W$113,$A11,C$2)) -> #N/A | I11: =IF(OR($B11=0,D$2=0),NA(),INDEX('led2'!$K$85:$W$113,$A11,D$2)) -> #N/A | J11: =IF(OR($B11=0,E$2=0),NA(),INDEX('led2'!$K$85:$W$113,$A11,E$2)) -> #N/A | K11: =IF(OR($B11=0,F$2=0),NA(),INDEX('led2'!$K$85:$W$113,$A11,F$2)) -> #N/A | M11: =IF(OR($B11=0,C$2=0),NA(),INDEX('led3'!$K$85:$W$113,$A11,C$2)) -> #N/A | N11: =IF(OR($B11=0,D$2=0),NA(),INDEX('led3'!$K$85:$W$113,$A11,D$2)) -> #N/A | O11: =IF(OR($B11=0,E$2=0),NA(),INDEX('led3'!$K$85:$W$113,$A11,E$2)) -> #N/A | P11: =IF(OR($B11=0,F$2=0),NA(),INDEX('led3'!$K$85:$W$113,$A11,F$2)) -> #N/A
A12: 2 | B12: =IF(temp!$AO$7=-100,"",Lookups!AB3) | C12: =IF(OR($B12=0,C$2=0),NA(),INDEX('led1'!$K$85:$W$113,$A12,C$2)) -> #N/A | D12: =IF(OR($B12=0,D$2=0),NA(),INDEX('led1'!$K$85:$W$113,$A12,D$2)) -> #N/A | E12: =IF(OR($B12=0,E$2=0),NA(),INDEX('led1'!$K$85:$W$113,$A12,E$2)) -> #N/A | F12: =IF(OR($B12=0,F$2=0),NA(),INDEX('led1'!$K$85:$W$113,$A12,F$2)) -> #N/A | H12: =IF(OR($B12=0,C$2=0),NA(),INDEX('led2'!$K$85:$W$113,$A12,C$2)) -> #N/A | I12: =IF(OR($B12=0,D$2=0),NA(),INDEX('led2'!$K$85:$W$113,$A12,D$2)) -> #N/A | J12: =IF(OR($B12=0,E$2=0),NA(),INDEX('led2'!$K$85:$W$113,$A12,E$2)) -> #N/A | K12: =IF(OR($B12=0,F$2=0),NA(),INDEX('led2'!$K$85:$W$113,$A12,F$2)) -> #N/A | M12: =IF(OR($B12=0,C$2=0),NA(),INDEX('led3'!$K$85:$W$113,$A12,C$2)) -> #N/A | N12: =IF(OR($B12=0,D$2=0),NA(),INDEX('led3'!$K$85:$W$113,$A12,D$2)) -> #N/A | O12: =IF(OR($B12=0,E$2=0),NA(),INDEX('led3'!$K$85:$W$113,$A12,E$2)) -> #N/A | P12: =IF(OR($B12=0,F$2=0),NA(),INDEX('led3'!$K$85:$W$113,$A12,F$2)) -> #N/A
A13: 3 | B13: =IF(temp!$AO$7=-100,"",Lookups!AB4) | C13: =IF(OR($B13=0,C$2=0),NA(),INDEX('led1'!$K$85:$W$113,$A13,C$2)) -> #N/A | D13: =IF(OR($B13=0,D$2=0),NA(),INDEX('led1'!$K$85:$W$113,$A13,D$2)) -> #N/A | E13: =IF(OR($B13=0,E$2=0),NA(),INDEX('led1'!$K$85:$W$113,$A13,E$2)) -> #N/A | F13: =IF(OR($B13=0,F$2=0),NA(),INDEX('led1'!$K$85:$W$113,$A13,F$2)) -> #N/A | H13: =IF(OR($B13=0,C$2=0),NA(),INDEX('led2'!$K$85:$W$113,$A13,C$2)) -> #N/A | I13: =IF(OR($B13=0,D$2=0),NA(),INDEX('led2'!$K$85:$W$113,$A13,D$2)) -> #N/A | J13: =IF(OR($B13=0,E$2=0),NA(),INDEX('led2'!$K$85:$W$113,$A13,E$2)) -> #N/A | K13: =IF(OR($B13=0,F$2=0),NA(),INDEX('led2'!$K$85:$W$113,$A13,F$2)) -> #N/A | M13: =IF(OR($B13=0,C$2=0),NA(),INDEX('led3'!$K$85:$W$113,$A13,C$2)) -> #N/A | N13: =IF(OR($B13=0,D$2=0),NA(),INDEX('led3'!$K$85:$W$113,$A13,D$2)) -> #N/A | O13: =IF(OR($B13=0,E$2=0),NA(),INDEX('led3'!$K$85:$W$113,$A13,E$2)) -> #N/A | P13: =IF(OR($B13=0,F$2=0),NA(),INDEX('led3'!$K$85:$W$113,$A13,F$2)) -> #N/A
A14: 4 | B14: =IF(temp!$AO$7=-100,"",Lookups!AB5) | C14: =IF(OR($B14=0,C$2=0),NA(),INDEX('led1'!$K$85:$W$113,$A14,C$2)) -> #N/A | D14: =IF(OR($B14=0,D$2=0),NA(),INDEX('led1'!$K$85:$W$113,$A14,D$2)) -> #N/A | E14: =IF(OR($B14=0,E$2=0),NA(),INDEX('led1'!$K$85:$W$113,$A14,E$2)) -> #N/A | F14: =IF(OR($B14=0,F$2=0),NA(),INDEX('led1'!$K$85:$W$113,$A14,F$2)) -> #N/A | H14: =IF(OR($B14=0,C$2=0),NA(),INDEX('led2'!$K$85:$W$113,$A14,C$2)) -> #N/A | I14: =IF(OR($B14=0,D$2=0),NA(),INDEX('led2'!$K$85:$W$113,$A14,D$2)) -> #N/A | J14: =IF(OR($B14=0,E$2=0),NA(),INDEX('led2'!$K$85:$W$113,$A14,E$2)) -> #N/A | K14: =IF(OR($B14=0,F$2=0),NA(),INDEX('led2'!$K$85:$W$113,$A14,F$2)) -> #N/A | M14: =IF(OR($B14=0,C$2=0),NA(),INDEX('led3'!$K$85:$W$113,$A14,C$2)) -> #N/A | N14: =IF(OR($B14=0,D$2=0),NA(),INDEX('led3'!$K$85:$W$113,$A14,D$2)) -> #N/A | O14: =IF(OR($B14=0,E$2=0),NA(),INDEX('led3'!$K$85:$W$113,$A14,E$2)) -> #N/A | P14: =IF(OR($B14=0,F$2=0),NA(),INDEX('led3'!$K$85:$W$113,$A14,F$2)) -> #N/A
A15: 5 | B15: =IF(temp!$AO$7=-100,"",Lookups!AB6) | C15: =IF(OR($B15=0,C$2=0),NA(),INDEX('led1'!$K$85:$W$113,$A15,C$2)) -> #N/A | D15: =IF(OR($B15=0,D$2=0),NA(),INDEX('led1'!$K$85:$W$113,$A15,D$2)) -> #N/A | E15: =IF(OR($B15=0,E$2=0),NA(),INDEX('led1'!$K$85:$W$113,$A15,E$2)) -> #N/A | F15: =IF(OR($B15=0,F$2=0),NA(),INDEX('led1'!$K$85:$W$113,$A15,F$2)) -> #N/A | H15: =IF(OR($B15=0,C$2=0),NA(),INDEX('led2'!$K$85:$W$113,$A15,C$2)) -> #N/A | I15: =IF(OR($B15=0,D$2=0),NA(),INDEX('led2'!$K$85:$W$113,$A15,D$2)) -> #N/A | J15: =IF(OR($B15=0,E$2=0),NA(),INDEX('led2'!$K$85:$W$113,$A15,E$2)) -> #N/A | K15: =IF(OR($B15=0,F$2=0),NA(),INDEX('led2'!$K$85:$W$113,$A15,F$2)) -> #N/A | M15: =IF(OR($B15=0,C$2=0),NA(),INDEX('led3'!$K$85:$W$113,$A15,C$2)) -> #N/A | N15: =IF(OR($B15=0,D$2=0),NA(),INDEX('led3'!$K$85:$W$113,$A15,D$2)) -> #N/A | O15: =IF(OR($B15=0,E$2=0),NA(),INDEX('led3'!$K$85:$W$113,$A15,E$2)) -> #N/A | P15: =IF(OR($B15=0,F$2=0),NA(),INDEX('led3'!$K$85:$W$113,$A15,F$2)) -> #N/A
A16: 6 | B16: =IF(temp!$AO$7=-100,"",Lookups!AB7) | C16: =IF(OR($B16=0,C$2=0),NA(),INDEX('led1'!$K$85:$W$113,$A16,C$2)) -> #N/A | D16: =IF(OR($B16=0,D$2=0),NA(),INDEX('led1'!$K$85:$W$113,$A16,D$2)) -> #N/A | E16: =IF(OR($B16=0,E$2=0),NA(),INDEX('led1'!$K$85:$W$113,$A16,E$2)) -> #N/A | F16: =IF(OR($B16=0,F$2=0),NA(),INDEX('led1'!$K$85:$W$113,$A16,F$2)) -> #N/A | H16: =IF(OR($B16=0,C$2=0),NA(),INDEX('led2'!$K$85:$W$113,$A16,C$2)) -> #N/A | I16: =IF(OR($B16=0,D$2=0),NA(),INDEX('led2'!$K$85:$W$113,$A16,D$2)) -> #N/A | J16: =IF(OR($B16=0,E$2=0),NA(),INDEX('led2'!$K$85:$W$113,$A16,E$2)) -> #N/A | K16: =IF(OR($B16=0,F$2=0),NA(),INDEX('led2'!$K$85:$W$113,$A16,F$2)) -> #N/A | M16: =IF(OR($B16=0,C$2=0),NA(),INDEX('led3'!$K$85:$W$113,$A16,C$2)) -> #N/A | N16: =IF(OR($B16=0,D$2=0),NA(),INDEX('led3'!$K$85:$W$113,$A16,D$2)) -> #N/A | O16: =IF(OR($B16=0,E$2=0),NA(),INDEX('led3'!$K$85:$W$113,$A16,E$2)) -> #N/A | P16: =IF(OR($B16=0,F$2=0),NA(),INDEX('led3'!$K$85:$W$113,$A16,F$2)) -> #N/A
A17: 7 | B17: =IF(temp!$AO$7=-100,"",Lookups!AB8) | C17: =IF(OR($B17=0,C$2=0),NA(),INDEX('led1'!$K$85:$W$113,$A17,C$2)) -> #N/A | D17: =IF(OR($B17=0,D$2=0),NA(),INDEX('led1'!$K$85:$W$113,$A17,D$2)) -> #N/A | E17: =IF(OR($B17=0,E$2=0),NA(),INDEX('led1'!$K$85:$W$113,$A17,E$2)) -> #N/A | F17: =IF(OR($B17=0,F$2=0),NA(),INDEX('led1'!$K$85:$W$113,$A17,F$2)) -> #N/A | H17: =IF(OR($B17=0,C$2=0),NA(),INDEX('led2'!$K$85:$W$113,$A17,C$2)) -> #N/A | I17: =IF(OR($B17=0,D$2=0),NA(),INDEX('led2'!$K$85:$W$113,$A17,D$2)) -> #N/A | J17: =IF(OR($B17=0,E$2=0),NA(),INDEX('led2'!$K$85:$W$113,$A17,E$2)) -> #N/A | K17: =IF(OR($B17=0,F$2=0),NA(),INDEX('led2'!$K$85:$W$113,$A17,F$2)) -> #N/A | M17: =IF(OR($B17=0,C$2=0),NA(),INDEX('led3'!$K$85:$W$113,$A17,C$2)) -> #N/A | N17: =IF(OR($B17=0,D$2=0),NA(),INDEX('led3'!$K$85:$W$113,$A17,D$2)) -> #N/A | O17: =IF(OR($B17=0,E$2=0),NA(),INDEX('led3'!$K$85:$W$113,$A17,E$2)) -> #N/A | P17: =IF(OR($B17=0,F$2=0),NA(),INDEX('led3'!$K$85:$W$113,$A17,F$2)) -> #N/A
A18: 8 | B18: =IF(temp!$AO$7=-100,"",Lookups!AB9) | C18: =IF(OR($B18=0,C$2=0),NA(),INDEX('led1'!$K$85:$W$113,$A18,C$2)) -> #N/A | D18: =IF(OR($B18=0,D$2=0),NA(),INDEX('led1'!$K$85:$W$113,$A18,D$2)) -> #N/A | E18: =IF(OR($B18=0,E$2=0),NA(),INDEX('led1'!$K$85:$W$113,$A18,E$2)) -> #N/A | F18: =IF(OR($B18=0,F$2=0),NA(),INDEX('led1'!$K$85:$W$113,$A18,F$2)) -> #N/A | H18: =IF(OR($B18=0,C$2=0),NA(),INDEX('led2'!$K$85:$W$113,$A18,C$2)) -> #N/A | I18: =IF(OR($B18=0,D$2=0),NA(),INDEX('led2'!$K$85:$W$113,$A18,D$2)) -> #N/A | J18: =IF(OR($B18=0,E$2=0),NA(),INDEX('led2'!$K$85:$W$113,$A18,E$2)) -> #N/A | K18: =IF(OR($B18=0,F$2=0),NA(),INDEX('led2'!$K$85:$W$113,$A18,F$2)) -> #N/A | M18: =IF(OR($B18=0,C$2=0),NA(),INDEX('led3'!$K$85:$W$113,$A18,C$2)) -> #N/A | N18: =IF(OR($B18=0,D$2=0),NA(),INDEX('led3'!$K$85:$W$113,$A18,D$2)) -> #N/A | O18: =IF(OR($B18=0,E$2=0),NA(),INDEX('led3'!$K$85:$W$113,$A18,E$2)) -> #N/A | P18: =IF(OR($B18=0,F$2=0),NA(),INDEX('led3'!$K$85:$W$113,$A18,F$2)) -> #N/A
A19: 9 | B19: =IF(temp!$AO$7=-100,"",Lookups!AB10) | C19: =IF(OR($B19=0,C$2=0),NA(),INDEX('led1'!$K$85:$W$113,$A19,C$2)) -> #N/A | D19: =IF(OR($B19=0,D$2=0),NA(),INDEX('led1'!$K$85:$W$113,$A19,D$2)) -> #N/A | E19: =IF(OR($B19=0,E$2=0),NA(),INDEX('led1'!$K$85:$W$113,$A19,E$2)) -> #N/A | F19: =IF(OR($B19=0,F$2=0),NA(),INDEX('led1'!$K$85:$W$113,$A19,F$2)) -> #N/A | H19: =IF(OR($B19=0,C$2=0),NA(),INDEX('led2'!$K$85:$W$113,$A19,C$2)) -> #N/A | I19: =IF(OR($B19=0,D$2=0),NA(),INDEX('led2'!$K$85:$W$113,$A19,D$2)) -> #N/A | J19: =IF(OR($B19=0,E$2=0),NA(),INDEX('led2'!$K$85:$W$113,$A19,E$2)) -> #N/A | K19: =IF(OR($B19=0,F$2=0),NA(),INDEX('led2'!$K$85:$W$113,$A19,F$2)) -> #N/A | M19: =IF(OR($B19=0,C$2=0),NA(),INDEX('led3'!$K$85:$W$113,$A19,C$2)) -> #N/A | N19: =IF(OR($B19=0,D$2=0),NA(),INDEX('led3'!$K$85:$W$113,$A19,D$2)) -> #N/A | O19: =IF(OR($B19=0,E$2=0),NA(),INDEX('led3'!$K$85:$W$113,$A19,E$2)) -> #N/A | P19: =IF(OR($B19=0,F$2=0),NA(),INDEX('led3'!$K$85:$W$113,$A19,F$2)) -> #N/A
A20: 10 | B20: =IF(temp!$AO$7=-100,"",Lookups!AB11) | C20: =IF(OR($B20=0,C$2=0),NA(),INDEX('led1'!$K$85:$W$113,$A20,C$2)) -> #N/A | D20: =IF(OR($B20=0,D$2=0),NA(),INDEX('led1'!$K$85:$W$113,$A20,D$2)) -> #N/A | E20: =IF(OR($B20=0,E$2=0),NA(),INDEX('led1'!$K$85:$W$113,$A20,E$2)) -> #N/A | F20: =IF(OR($B20=0,F$2=0),NA(),INDEX('led1'!$K$85:$W$113,$A20,F$2)) -> #N/A | H20: =IF(OR($B20=0,C$2=0),NA(),INDEX('led2'!$K$85:$W$113,$A20,C$2)) -> #N/A | I20: =IF(OR($B20=0,D$2=0),NA(),INDEX('led2'!$K$85:$W$113,$A20,D$2)) -> #N/A | J20: =IF(OR($B20=0,E$2=0),NA(),INDEX('led2'!$K$85:$W$113,$A20,E$2)) -> #N/A | K20: =IF(OR($B20=0,F$2=0),NA(),INDEX('led2'!$K$85:$W$113,$A20,F$2)) -> #N/A | M20: =IF(OR($B20=0,C$2=0),NA(),INDEX('led3'!$K$85:$W$113,$A20,C$2)) -> #N/A | N20: =IF(OR($B20=0,D$2=0),NA(),INDEX('led3'!$K$85:$W$113,$A20,D$2)) -> #N/A | O20: =IF(OR($B20=0,E$2=0),NA(),INDEX('led3'!$K$85:$W$113,$A20,E$2)) -> #N/A | P20: =IF(OR($B20=0,F$2=0),NA(),INDEX('led3'!$K$85:$W$113,$A20,F$2)) -> #N/A
A21: 11 | B21: =IF(temp!$AO$7=-100,"",Lookups!AB12) | C21: =IF(OR($B21=0,C$2=0),NA(),INDEX('led1'!$K$85:$W$113,$A21,C$2)) -> #N/A | D21: =IF(OR($B21=0,D$2=0),NA(),INDEX('led1'!$K$85:$W$113,$A21,D$2)) -> #N/A | E21: =IF(OR($B21=0,E$2=0),NA(),INDEX('led1'!$K$85:$W$113,$A21,E$2)) -> #N/A | F21: =IF(OR($B21=0,F$2=0),NA(),INDEX('led1'!$K$85:$W$113,$A21,F$2)) -> #N/A | H21: =IF(OR($B21=0,C$2=0),NA(),INDEX('led2'!$K$85:$W$113,$A21,C$2)) -> #N/A | I21: =IF(OR($B21=0,D$2=0),NA(),INDEX('led2'!$K$85:$W$113,$A21,D$2)) -> #N/A | J21: =IF(OR($B21=0,E$2=0),NA(),INDEX('led2'!$K$85:$W$113,$A21,E$2)) -> #N/A | K21: =IF(OR($B21=0,F$2=0),NA(),INDEX('led2'!$K$85:$W$113,$A21,F$2)) -> #N/A | M21: =IF(OR($B21=0,C$2=0),NA(),INDEX('led3'!$K$85:$W$113,$A21,C$2)) -> #N/A | N21: =IF(OR($B21=0,D$2=0),NA(),INDEX('led3'!$K$85:$W$113,$A21,D$2)) -> #N/A | O21: =IF(OR($B21=0,E$2=0),NA(),INDEX('led3'!$K$85:$W$113,$A21,E$2)) -> #N/A | P21: =IF(OR($B21=0,F$2=0),NA(),INDEX('led3'!$K$85:$W$113,$A21,F$2)) -> #N/A
A22: 12 | B22: =IF(temp!$AO$7=-100,"",Lookups!AB13) | C22: =IF(OR($B22=0,C$2=0),NA(),INDEX('led1'!$K$85:$W$113,$A22,C$2)) -> #N/A | D22: =IF(OR($B22=0,D$2=0),NA(),INDEX('led1'!$K$85:$W$113,$A22,D$2)) -> #N/A | E22: =IF(OR($B22=0,E$2=0),NA(),INDEX('led1'!$K$85:$W$113,$A22,E$2)) -> #N/A | F22: =IF(OR($B22=0,F$2=0),NA(),INDEX('led1'!$K$85:$W$113,$A22,F$2)) -> #N/A | H22: =IF(OR($B22=0,C$2=0),NA(),INDEX('led2'!$K$85:$W$113,$A22,C$2)) -> #N/A | I22: =IF(OR($B22=0,D$2=0),NA(),INDEX('led2'!$K$85:$W$113,$A22,D$2)) -> #N/A | J22: =IF(OR($B22=0,E$2=0),NA(),INDEX('led2'!$K$85:$W$113,$A22,E$2)) -> #N/A | K22: =IF(OR($B22=0,F$2=0),NA(),INDEX('led2'!$K$85:$W$113,$A22,F$2)) -> #N/A | M22: =IF(OR($B22=0,C$2=0),NA(),INDEX('led3'!$K$85:$W$113,$A22,C$2)) -> #N/A | N22: =IF(OR($B22=0,D$2=0),NA(),INDEX('led3'!$K$85:$W$113,$A22,D$2)) -> #N/A | O22: =IF(OR($B22=0,E$2=0),NA(),INDEX('led3'!$K$85:$W$113,$A22,E$2)) -> #N/A | P22: =IF(OR($B22=0,F$2=0),NA(),INDEX('led3'!$K$85:$W$113,$A22,F$2)) -> #N/A
... A39: 29 | B39: =IF(temp!$AO$7=-100,"",Lookups!AB30) | C39: =IF(OR($B39=0,C$2=0),NA(),INDEX('led1'!$K$85:$W$113,$A39,C$2)) -> #N/A | D39: =IF(OR($B39=0,D$2=0),NA(),INDEX('led1'!$K$85:$W$113,$A39,D$2)) -> #N/A | E39: =IF(OR($B39=0,E$2=0),NA(),INDEX('led1'!$K$85:$W$113,$A39,E$2)) -> #N/A | F39: =IF(OR($B39=0,F$2=0),NA(),INDEX('led1'!$K$85:$W$113,$A39,F$2)) -> #N/A | H39: =IF(OR($B39=0,C$2=0),NA(),INDEX('led2'!$K$85:$W$113,$A39,C$2)) -> #N/A | I39: =IF(OR($B39=0,D$2=0),NA(),INDEX('led2'!$K$85:$W$113,$A39,D$2)) -> #N/A | J39: =IF(OR($B39=0,E$2=0),NA(),INDEX('led2'!$K$85:$W$113,$A39,E$2)) -> #N/A | K39: =IF(OR($B39=0,F$2=0),NA(),INDEX('led2'!$K$85:$W$113,$A39,F$2)) -> #N/A | M39: =IF(OR($B39=0,C$2=0),NA(),INDEX('led3'!$K$85:$W$113,$A39,C$2)) -> #N/A | N39: =IF(OR($B39=0,D$2=0),NA(),INDEX('led3'!$K$85:$W$113,$A39,D$2)) -> #N/A | O39: =IF(OR($B39=0,E$2=0),NA(),INDEX('led3'!$K$85:$W$113,$A39,E$2)) -> #N/A | P39: =IF(OR($B39=0,F$2=0),NA(),INDEX('led3'!$K$85:$W$113,$A39,F$2)) -> #N/A

Sheet EXPORT Graph
C1: Product Characterization Tool
E3: Model | F3: Flux | G3: Temperature | I3: System Parameters
E4: =temp!P3 | F4: =temp!Q3 | G4: =temp!R3 | I4: Target Flux | J4: =CHARACTERIZE!E3 -> 1200
E5: =temp!P4 | F5: =temp!Q4 | G5: =temp!R4 | I5: Optical Efficiency | J5: =CHARACTERIZE!I3 -> 0.9
E6: =temp!P5 | F6: =temp!Q5 | G6: =temp!R5 | I6: Electrical Efficiency | J6: =CHARACTERIZE!M3 -> 0.9
A9: y axis: | B9: 5 | I9: Notes:
A10: LED Efficacy
A12: x axis:
A13: LED Power (W)

Sheet EXPORT Table
A1: Product Characterization Tool
B3: Current (A) | C3: Model | D3: =temp!P3 | H3: Model | I3: =temp!P4 | M3: Model | N3: =temp!P5
C4: Flux | D4: =temp!Q3 | H4: Flux | I4: =temp!Q4 | M4: Flux | N4: =temp!Q5
C5: Temp. | D5: =temp!R3 | H5: Temp. | I5: =temp!R4 | M5: Temp. | N5: =temp!R5
C6: =CHARACTERIZE!C10 | D6: =CHARACTERIZE!D10 | E6: =CHARACTERIZE!E10 | F6: =CHARACTERIZE!F10 | H6: =CHARACTERIZE!H10 | I6: =CHARACTERIZE!I10 | J6: =CHARACTERIZE!J10 | K6: =CHARACTERIZE!K10 | M6: =CHARACTERIZE!M10 | N6: =CHARACTERIZE!N10 | O6: =CHARACTERIZE!O10 | P6: =CHARACTERIZE!P10
B7: =CHARACTERIZE!B11 | C7: =CHARACTERIZE!C11 -> #N/A | D7: =CHARACTERIZE!D11 -> #N/A | E7: =CHARACTERIZE!E11 -> #N/A | F7: =CHARACTERIZE!F11 -> #N/A | H7: =CHARACTERIZE!H11 -> #N/A | I7: =CHARACTERIZE!I11 -> #N/A | J7: =CHARACTERIZE!J11 -> #N/A | K7: =CHARACTERIZE!K11 -> #N/A | M7: =CHARACTERIZE!M11 -> #N/A | N7: =CHARACTERIZE!N11 -> #N/A | O7: =CHARACTERIZE!O11 -> #N/A | P7: =CHARACTERIZE!P11 -> #N/A
B8: =CHARACTERIZE!B12 | C8: =CHARACTERIZE!C12 -> #N/A | D8: =CHARACTERIZE!D12 -> #N/A | E8: =CHARACTERIZE!E12 -> #N/A | F8: =CHARACTERIZE!F12 -> #N/A | H8: =CHARACTERIZE!H12 -> #N/A | I8: =CHARACTERIZE!I12 -> #N/A | J8: =CHARACTERIZE!J12 -> #N/A | K8: =CHARACTERIZE!K12 -> #N/A | M8: =CHARACTERIZE!M12 -> #N/A | N8: =CHARACTERIZE!N12 -> #N/A | O8: =CHARACTERIZE!O12 -> #N/A | P8: =CHARACTERIZE!P12 -> #N/A
B9: =CHARACTERIZE!B13 | C9: =CHARACTERIZE!C13 -> #N/A | D9: =CHARACTERIZE!D13 -> #N/A | E9: =CHARACTERIZE!E13 -> #N/A | F9: =CHARACTERIZE!F13 -> #N/A | H9: =CHARACTERIZE!H13 -> #N/A | I9: =CHARACTERIZE!I13 -> #N/A | J9: =CHARACTERIZE!J13 -> #N/A | K9: =CHARACTERIZE!K13 -> #N/A | M9: =CHARACTERIZE!M13 -> #N/A | N9: =CHARACTERIZE!N13 -> #N/A | O9: =CHARACTERIZE!O13 -> #N/A | P9: =CHARACTERIZE!P13 -> #N/A
B10: =CHARACTERIZE!B14 | C10: =CHARACTERIZE!C14 -> #N/A | D10: =CHARACTERIZE!D14 -> #N/A | E10: =CHARACTERIZE!E14 -> #N/A | F10: =CHARACTERIZE!F14 -> #N/A | H10: =CHARACTERIZE!H14 -> #N/A | I10: =CHARACTERIZE!I14 -> #N/A | J10: =CHARACTERIZE!J14 -> #N/A | K10: =CHARACTERIZE!K14 -> #N/A | M10: =CHARACTERIZE!M14 -> #N/A | N10: =CHARACTERIZE!N14 -> #N/A | O10: =CHARACTERIZE!O14 -> #N/A | P10: =CHARACTERIZE!P14 -> #N/A
B11: =CHARACTERIZE!B15 | C11: =CHARACTERIZE!C15 -> #N/A | D11: =CHARACTERIZE!D15 -> #N/A | E11: =CHARACTERIZE!E15 -> #N/A | F11: =CHARACTERIZE!F15 -> #N/A | H11: =CHARACTERIZE!H15 -> #N/A | I11: =CHARACTERIZE!I15 -> #N/A | J11: =CHARACTERIZE!J15 -> #N/A | K11: =CHARACTERIZE!K15 -> #N/A | M11: =CHARACTERIZE!M15 -> #N/A | N11: =CHARACTERIZE!N15 -> #N/A | O11: =CHARACTERIZE!O15 -> #N/A | P11: =CHARACTERIZE!P15 -> #N/A
B12: =CHARACTERIZE!B16 | C12: =CHARACTERIZE!C16 -> #N/A | D12: =CHARACTERIZE!D16 -> #N/A | E12: =CHARACTERIZE!E16 -> #N/A | F12: =CHARACTERIZE!F16 -> #N/A | H12: =CHARACTERIZE!H16 -> #N/A | I12: =CHARACTERIZE!I16 -> #N/A | J12: =CHARACTERIZE!J16 -> #N/A | K12: =CHARACTERIZE!K16 -> #N/A | M12: =CHARACTERIZE!M16 -> #N/A | N12: =CHARACTERIZE!N16 -> #N/A | O12: =CHARACTERIZE!O16 -> #N/A | P12: =CHARACTERIZE!P16 -> #N/A
B13: =CHARACTERIZE!B17 | C13: =CHARACTERIZE!C17 -> #N/A | D13: =CHARACTERIZE!D17 -> #N/A | E13: =CHARACTERIZE!E17 -> #N/A | F13: =CHARACTERIZE!F17 -> #N/A | H13: =CHARACTERIZE!H17 -> #N/A | I13: =CHARACTERIZE!I17 -> #N/A | J13: =CHARACTERIZE!J17 -> #N/A | K13: =CHARACTERIZE!K17 -> #N/A | M13: =CHARACTERIZE!M17 -> #N/A | N13: =CHARACTERIZE!N17 -> #N/A | O13: =CHARACTERIZE!O17 -> #N/A | P13: =CHARACTERIZE!P17 -> #N/A
B14: =CHARACTERIZE!B18 | C14: =CHARACTERIZE!C18 -> #N/A | D14: =CHARACTERIZE!D18 -> #N/A | E14: =CHARACTERIZE!E18 -> #N/A | F14: =CHARACTERIZE!F18 -> #N/A | H14: =CHARACTERIZE!H18 -> #N/A | I14: =CHARACTERIZE!I18 -> #N/A | J14: =CHARACTERIZE!J18 -> #N/A | K14: =CHARACTERIZE!K18 -> #N/A | M14: =CHARACTERIZE!M18 -> #N/A | N14: =CHARACTERIZE!N18 -> #N/A | O14: =CHARACTERIZE!O18 -> #N/A | P14: =CHARACTERIZE!P18 -> #N/A
B15: =CHARACTERIZE!B19 | C15: =CHARACTERIZE!C19 -> #N/A | D15: =CHARACTERIZE!D19 -> #N/A | E15: =CHARACTERIZE!E19 -> #N/A | F15: =CHARACTERIZE!F19 -> #N/A | H15: =CHARACTERIZE!H19 -> #N/A | I15: =CHARACTERIZE!I19 -> #N/A | J15: =CHARACTERIZE!J19 -> #N/A | K15: =CHARACTERIZE!K19 -> #N/A | M15: =CHARACTERIZE!M19 -> #N/A | N15: =CHARACTERIZE!N19 -> #N/A | O15: =CHARACTERIZE!O19 -> #N/A | P15: =CHARACTERIZE!P19 -> #N/A
B16: =CHARACTERIZE!B20 | C16: =CHARACTERIZE!C20 -> #N/A | D16: =CHARACTERIZE!D20 -> #N/A | E16: =CHARACTERIZE!E20 -> #N/A | F16: =CHARACTERIZE!F20 -> #N/A | H16: =CHARACTERIZE!H20 -> #N/A | I16: =CHARACTERIZE!I20 -> #N/A | J16: =CHARACTERIZE!J20 -> #N/A | K16: =CHARACTERIZE!K20 -> #N/A | M16: =CHARACTERIZE!M20 -> #N/A | N16: =CHARACTERIZE!N20 -> #N/A | O16: =CHARACTERIZE!O20 -> #N/A | P16: =CHARACTERIZE!P20 -> #N/A
B17: =CHARACTERIZE!B21 | C17: =CHARACTERIZE!C21 -> #N/A | D17: =CHARACTERIZE!D21 -> #N/A | E17: =CHARACTERIZE!E21 -> #N/A | F17: =CHARACTERIZE!F21 -> #N/A | H17: =CHARACTERIZE!H21 -> #N/A | I17: =CHARACTERIZE!I21 -> #N/A | J17: =CHARACTERIZE!J21 -> #N/A | K17: =CHARACTERIZE!K21 -> #N/A | M17: =CHARACTERIZE!M21 -> #N/A | N17: =CHARACTERIZE!N21 -> #N/A | O17: =CHARACTERIZE!O21 -> #N/A | P17: =CHARACTERIZE!P21 -> #N/A
B18: =CHARACTERIZE!B22 | C18: =CHARACTERIZE!C22 -> #N/A | D18: =CHARACTERIZE!D22 -> #N/A | E18: =CHARACTERIZE!E22 -> #N/A | F18: =CHARACTERIZE!F22 -> #N/A | H18: =CHARACTERIZE!H22 -> #N/A | I18: =CHARACTERIZE!I22 -> #N/A | J18: =CHARACTERIZE!J22 -> #N/A | K18: =CHARACTERIZE!K22 -> #N/A | M18: =CHARACTERIZE!M22 -> #N/A | N18: =CHARACTERIZE!N22 -> #N/A | O18: =CHARACTERIZE!O22 -> #N/A | P18: =CHARACTERIZE!P22 -> #N/A
... B35: =CHARACTERIZE!B39 | C35: =CHARACTERIZE!C39 -> #N/A | D35: =CHARACTERIZE!D39 -> #N/A | E35: =CHARACTERIZE!E39 -> #N/A | F35: =CHARACTERIZE!F39 -> #N/A | H35: =CHARACTERIZE!H39 -> #N/A | I35: =CHARACTERIZE!I39 -> #N/A | J35: =CHARACTERIZE!J39 -> #N/A | K35: =CHARACTERIZE!K39 -> #N/A | M35: =CHARACTERIZE!M39 -> #N/A | N35: =CHARACTERIZE!N39 -> #N/A | O35: =CHARACTERIZE!O39 -> #N/A | P35: =CHARACTERIZE!P39 -> #N/A

Sheet Advanced
C2: Number of Significant Digits to Use in Displayed Values | G2: Flux Display Options | L2: LED 1 | P2: LED 2 | T2: LED 3
L3: =CHARACTERIZE!D6 -> (none) | P3: =CHARACTERIZE!I6 -> (none) | T3: =CHARACTERIZE!N6 -> (none)
L4: ='EXPORT Graph'!F4 | P4: ='EXPORT Graph'!F5 | T4: ='EXPORT Graph'!F6
I5: Flux Display Mode | L5: Default | P5: Default | T5: Default
C7: Voltage | D7: 3 | I7: How to Perform Flux Conversion? | L7: Use an LED Preset | P7: Use an LED Preset | T7: Use an LED Preset
C8: Power | D8: 3
C9: Efficacy | D9: 3 | I9: Conversion Factors Being Used:
I10: LER (mW/lm) | L10: =Lookups!AH2 -> 318.9 | P10: =Lookups!AH3 -> 318.9 | T10: =Lookups!AH4 -> 318.9
I11: PPF/flux | L11: =Lookups!AI2 -> 0.013917 | P11: =Lookups!AI3 -> 0.013917 | T11: =Lookups!AI4 -> 0.013917
I14: LED Preset: | L14: White: 6500K 70 CRI | P14: White: 6500K 70 CRI | T14: White: 6500K 70 CRI
I16: White LED Model:
I17: CCT (7000K-2100K) | L17: 5000 | P17: 5000 | T17: 5000
I18: Duv (-0.1-+0.1) | L18: 0.002 | P18: 0.002 | T18: 0.002
I19: CRI Ra (65-95) | L19: 70 | P19: 70 | T19: 70
I20: CRI R9 (-50-+90) | L20: 10 | P20: 10 | T20: 10
I22: Provide Conversion Factors Directly:
I23: LER (mW/lm) | L23: 337 | P23: 337 | T23: 337
I24: PPF/flux | L24: 0.013971 | P24: 0.013971 | T24: =155/28029 -> 0.0055299868

Sheet Bulk Table
A2: Product Characterization Tool
A4: LED Inputs | H4: LED Outputs | P4: System Inputs | U4: System Outputs
A5: Model | B5: Flux Value | C5: Manual Flux | D5: ΔVf | E5: If (A) | F5: Tsp (ºC) | H5: Imin (A) | I5: Imax (A) | J5: Vf | K5: Power (W) | L5: Flux | M5: LPW | N5: =CHOOSE(BTCalc!$D$1, "Tsp (ºC)","Tj (ºC)") -> Tj (ºC) | P5: # Series | Q5: # Parallel | R5: Optical Efficiency | S5: Electrical Efficiency | U5: # LEDs | V5: Vload | W5: Iload (A) | X5: Ptotal (W) | Y5: Flux Total | Z5: LPW
A6: (none) | D6: 0 | F6: 25 | H6: =IF(NOT(ISERROR(BTCalc!$A4)),BTCalc!R4,"") | I6: =IF(NOT(ISERROR(BTCalc!$A4)),BTCalc!S4,"") | J6: =IF(BTCalc!G4,ROUND(BTCalc!N4,3-(1+INT(LOG10(ABS(BTCalc!N4))))),"") | K6: =IF(BTCalc!G4,ROUND(BTCalc!O4,2-(1+INT(LOG10(ABS(BTCalc!O4))))),"") | L6: =IF(BTCalc!G4,ROUND(BTCalc!P4,IF(BTCalc!P4<100,IF(BTCalc!P4<10,IF(BTCalc!P4<1,3,2),1),0)),"") | M6: =IF(BTCalc!G4,ROUND(BTCalc!Q4,3-(1+INT(LOG10(ABS(BTCalc!Q4))))),"") | N6: =IF(BTCalc!G4,CHOOSE(BTCalc!$D$1,BTCalc!F4,BTCalc!E4),"") | P6: 1 | Q6: 1 | R6: 0.9 | S6: 0.9 | U6: =P6*Q6 -> 1 | V6: =IF(BTCalc!G4,P6*J6,"") | W6: =IF(BTCalc!G4,E6*Q6,"") | X6: =IF(BTCalc!G4,V6*W6/S6,"") | Y6: =IF(BTCalc!G4,L6*U6*R6,"") | Z6: =IF(BTCalc!G4,Y6/X6,"")
A7: (none) | D7: 0 | F7: 25 | H7: =IF(NOT(ISERROR(BTCalc!$A5)),BTCalc!R5,"") | I7: =IF(NOT(ISERROR(BTCalc!$A5)),BTCalc!S5,"") | J7: =IF(BTCalc!G5,ROUND(BTCalc!N5,3-(1+INT(LOG10(ABS(BTCalc!N5))))),"") | K7: =IF(BTCalc!G5,ROUND(BTCalc!O5,2-(1+INT(LOG10(ABS(BTCalc!O5))))),"") | L7: =IF(BTCalc!G5,ROUND(BTCalc!P5,IF(BTCalc!P5<100,IF(BTCalc!P5<10,IF(BTCalc!P5<1,3,2),1),0)),"") | M7: =IF(BTCalc!G5,ROUND(BTCalc!Q5,3-(1+INT(LOG10(ABS(BTCalc!Q5))))),"") | N7: =IF(BTCalc!G5,CHOOSE(BTCalc!$D$1,BTCalc!F5,BTCalc!E5),"") | P7: 1 | Q7: 1 | R7: 0.9 | S7: 0.9 | U7: =P7*Q7 -> 1 | V7: =IF(BTCalc!G5,P7*J7,"") | W7: =IF(BTCalc!G5,E7*Q7,"") | X7: =IF(BTCalc!G5,V7*W7/S7,"") | Y7: =IF(BTCalc!G5,L7*U7*R7,"") | Z7: =IF(BTCalc!G5,Y7/X7,"")
A8: (none) | D8: 0 | F8: 25 | H8: =IF(NOT(ISERROR(BTCalc!$A6)),BTCalc!R6,"") | I8: =IF(NOT(ISERROR(BTCalc!$A6)),BTCalc!S6,"") | J8: =IF(BTCalc!G6,ROUND(BTCalc!N6,3-(1+INT(LOG10(ABS(BTCalc!N6))))),"") | K8: =IF(BTCalc!G6,ROUND(BTCalc!O6,2-(1+INT(LOG10(ABS(BTCalc!O6))))),"") | L8: =IF(BTCalc!G6,ROUND(BTCalc!P6,IF(BTCalc!P6<100,IF(BTCalc!P6<10,IF(BTCalc!P6<1,3,2),1),0)),"") | M8: =IF(BTCalc!G6,ROUND(BTCalc!Q6,3-(1+INT(LOG10(ABS(BTCalc!Q6))))),"") | N8: =IF(BTCalc!G6,CHOOSE(BTCalc!$D$1,BTCalc!F6,BTCalc!E6),"") | P8: 1 | Q8: 1 | R8: 0.9 | S8: 0.9 | U8: =P8*Q8 -> 1 | V8: =IF(BTCalc!G6,P8*J8,"") | W8: =IF(BTCalc!G6,E8*Q8,"") | X8: =IF(BTCalc!G6,V8*W8/S8,"") | Y8: =IF(BTCalc!G6,L8*U8*R8,"") | Z8: =IF(BTCalc!G6,Y8/X8,"")
A9: (none) | D9: 0 | F9: 25 | H9: =IF(NOT(ISERROR(BTCalc!$A7)),BTCalc!R7,"") | I9: =IF(NOT(ISERROR(BTCalc!$A7)),BTCalc!S7,"") | J9: =IF(BTCalc!G7,ROUND(BTCalc!N7,3-(1+INT(LOG10(ABS(BTCalc!N7))))),"") | K9: =IF(BTCalc!G7,ROUND(BTCalc!O7,2-(1+INT(LOG10(ABS(BTCalc!O7))))),"") | L9: =IF(BTCalc!G7,ROUND(BTCalc!P7,IF(BTCalc!P7<100,IF(BTCalc!P7<10,IF(BTCalc!P7<1,3,2),1),0)),"") | M9: =IF(BTCalc!G7,ROUND(BTCalc!Q7,3-(1+INT(LOG10(ABS(BTCalc!Q7))))),"") | N9: =IF(BTCalc!G7,CHOOSE(BTCalc!$D$1,BTCalc!F7,BTCalc!E7),"") | P9: 1 | Q9: 1 | R9: 0.9 | S9: 0.9 | U9: =P9*Q9 -> 1 | V9: =IF(BTCalc!G7,P9*J9,"") | W9: =IF(BTCalc!G7,E9*Q9,"") | X9: =IF(BTCalc!G7,V9*W9/S9,"") | Y9: =IF(BTCalc!G7,L9*U9*R9,"") | Z9: =IF(BTCalc!G7,Y9/X9,"")
A10: (none) | D10: 0 | F10: 25 | H10: =IF(NOT(ISERROR(BTCalc!$A8)),BTCalc!R8,"") | I10: =IF(NOT(ISERROR(BTCalc!$A8)),BTCalc!S8,"") | J10: =IF(BTCalc!G8,ROUND(BTCalc!N8,3-(1+INT(LOG10(ABS(BTCalc!N8))))),"") | K10: =IF(BTCalc!G8,ROUND(BTCalc!O8,2-(1+INT(LOG10(ABS(BTCalc!O8))))),"") | L10: =IF(BTCalc!G8,ROUND(BTCalc!P8,IF(BTCalc!P8<100,IF(BTCalc!P8<10,IF(BTCalc!P8<1,3,2),1),0)),"") | M10: =IF(BTCalc!G8,ROUND(BTCalc!Q8,3-(1+INT(LOG10(ABS(BTCalc!Q8))))),"") | N10: =IF(BTCalc!G8,CHOOSE(BTCalc!$D$1,BTCalc!F8,BTCalc!E8),"") | P10: 1 | Q10: 1 | R10: 0.9 | S10: 0.9 | U10: =P10*Q10 -> 1 | V10: =IF(BTCalc!G8,P10*J10,"") | W10: =IF(BTCalc!G8,E10*Q10,"") | X10: =IF(BTCalc!G8,V10*W10/S10,"") | Y10: =IF(BTCalc!G8,L10*U10*R10,"") | Z10: =IF(BTCalc!G8,Y10/X10,"")
A11: (none) | D11: 0 | F11: 25 | H11: =IF(NOT(ISERROR(BTCalc!$A9)),BTCalc!R9,"") | I11: =IF(NOT(ISERROR(BTCalc!$A9)),BTCalc!S9,"") | J11: =IF(BTCalc!G9,ROUND(BTCalc!N9,3-(1+INT(LOG10(ABS(BTCalc!N9))))),"") | K11: =IF(BTCalc!G9,ROUND(BTCalc!O9,2-(1+INT(LOG10(ABS(BTCalc!O9))))),"") | L11: =IF(BTCalc!G9,ROUND(BTCalc!P9,IF(BTCalc!P9<100,IF(BTCalc!P9<10,IF(BTCalc!P9<1,3,2),1),0)),"") | M11: =IF(BTCalc!G9,ROUND(BTCalc!Q9,3-(1+INT(LOG10(ABS(BTCalc!Q9))))),"") | N11: =IF(BTCalc!G9,CHOOSE(BTCalc!$D$1,BTCalc!F9,BTCalc!E9),"") | P11: 1 | Q11: 1 | R11: 0.9 | S11: 0.9 | U11: =P11*Q11 -> 1 | V11: =IF(BTCalc!G9,P11*J11,"") | W11: =IF(BTCalc!G9,E11*Q11,"") | X11: =IF(BTCalc!G9,V11*W11/S11,"") | Y11: =IF(BTCalc!G9,L11*U11*R11,"") | Z11: =IF(BTCalc!G9,Y11/X11,"")
A12: (none) | D12: 0 | F12: 25 | H12: =IF(NOT(ISERROR(BTCalc!$A10)),BTCalc!R10,"") | I12: =IF(NOT(ISERROR(BTCalc!$A10)),BTCalc!S10,"") | J12: =IF(BTCalc!G10,ROUND(BTCalc!N10,3-(1+INT(LOG10(ABS(BTCalc!N10))))),"") | K12: =IF(BTCalc!G10,ROUND(BTCalc!O10,2-(1+INT(LOG10(ABS(BTCalc!O10))))),"") | L12: =IF(BTCalc!G10,ROUND(BTCalc!P10,IF(BTCalc!P10<100,IF(BTCalc!P10<10,IF(BTCalc!P10<1,3,2),1),0)),"") | M12: =IF(BTCalc!G10,ROUND(BTCalc!Q10,3-(1+INT(LOG10(ABS(BTCalc!Q10))))),"") | N12: =IF(BTCalc!G10,CHOOSE(BTCalc!$D$1,BTCalc!F10,BTCalc!E10),"") | P12: 1 | Q12: 1 | R12: 0.9 | S12: 0.9 | U12: =P12*Q12 -> 1 | V12: =IF(BTCalc!G10,P12*J12,"") | W12: =IF(BTCalc!G10,E12*Q12,"") | X12: =IF(BTCalc!G10,V12*W12/S12,"") | Y12: =IF(BTCalc!G10,L12*U12*R12,"") | Z12: =IF(BTCalc!G10,Y12/X12,"")
A13: (none) | D13: 0 | F13: 25 | H13: =IF(NOT(ISERROR(BTCalc!$A11)),BTCalc!R11,"") | I13: =IF(NOT(ISERROR(BTCalc!$A11)),BTCalc!S11,"") | J13: =IF(BTCalc!G11,ROUND(BTCalc!N11,3-(1+INT(LOG10(ABS(BTCalc!N11))))),"") | K13: =IF(BTCalc!G11,ROUND(BTCalc!O11,2-(1+INT(LOG10(ABS(BTCalc!O11))))),"") | L13: =IF(BTCalc!G11,ROUND(BTCalc!P11,IF(BTCalc!P11<100,IF(BTCalc!P11<10,IF(BTCalc!P11<1,3,2),1),0)),"") | M13: =IF(BTCalc!G11,ROUND(BTCalc!Q11,3-(1+INT(LOG10(ABS(BTCalc!Q11))))),"") | N13: =IF(BTCalc!G11,CHOOSE(BTCalc!$D$1,BTCalc!F11,BTCalc!E11),"") | P13: 1 | Q13: 1 | R13: 0.9 | S13: 0.9 | U13: =P13*Q13 -> 1 | V13: =IF(BTCalc!G11,P13*J13,"") | W13: =IF(BTCalc!G11,E13*Q13,"") | X13: =IF(BTCalc!G11,V13*W13/S13,"") | Y13: =IF(BTCalc!G11,L13*U13*R13,"") | Z13: =IF(BTCalc!G11,Y13/X13,"")
A14: (none) | D14: 0 | F14: 25 | H14: =IF(NOT(ISERROR(BTCalc!$A12)),BTCalc!R12,"") | I14: =IF(NOT(ISERROR(BTCalc!$A12)),BTCalc!S12,"") | J14: =IF(BTCalc!G12,ROUND(BTCalc!N12,3-(1+INT(LOG10(ABS(BTCalc!N12))))),"") | K14: =IF(BTCalc!G12,ROUND(BTCalc!O12,2-(1+INT(LOG10(ABS(BTCalc!O12))))),"") | L14: =IF(BTCalc!G12,ROUND(BTCalc!P12,IF(BTCalc!P12<100,IF(BTCalc!P12<10,IF(BTCalc!P12<1,3,2),1),0)),"") | M14: =IF(BTCalc!G12,ROUND(BTCalc!Q12,3-(1+INT(LOG10(ABS(BTCalc!Q12))))),"") | N14: =IF(BTCalc!G12,CHOOSE(BTCalc!$D$1,BTCalc!F12,BTCalc!E12),"") | P14: 1 | Q14: 1 | R14: 0.9 | S14: 0.9 | U14: =P14*Q14 -> 1 | V14: =IF(BTCalc!G12,P14*J14,"") | W14: =IF(BTCalc!G12,E14*Q14,"") | X14: =IF(BTCalc!G12,V14*W14/S14,"") | Y14: =IF(BTCalc!G12,L14*U14*R14,"") | Z14: =IF(BTCalc!G12,Y14/X14,"")
A15: (none) | D15: 0 | F15: 25 | H15: =IF(NOT(ISERROR(BTCalc!$A13)),BTCalc!R13,"") | I15: =IF(NOT(ISERROR(BTCalc!$A13)),BTCalc!S13,"") | J15: =IF(BTCalc!G13,ROUND(BTCalc!N13,3-(1+INT(LOG10(ABS(BTCalc!N13))))),"") | K15: =IF(BTCalc!G13,ROUND(BTCalc!O13,2-(1+INT(LOG10(ABS(BTCalc!O13))))),"") | L15: =IF(BTCalc!G13,ROUND(BTCalc!P13,IF(BTCalc!P13<100,IF(BTCalc!P13<10,IF(BTCalc!P13<1,3,2),1),0)),"") | M15: =IF(BTCalc!G13,ROUND(BTCalc!Q13,3-(1+INT(LOG10(ABS(BTCalc!Q13))))),"") | N15: =IF(BTCalc!G13,CHOOSE(BTCalc!$D$1,BTCalc!F13,BTCalc!E13),"") | P15: 1 | Q15: 1 | R15: 0.9 | S15: 0.9 | U15: =P15*Q15 -> 1 | V15: =IF(BTCalc!G13,P15*J15,"") | W15: =IF(BTCalc!G13,E15*Q15,"") | X15: =IF(BTCalc!G13,V15*W15/S15,"") | Y15: =IF(BTCalc!G13,L15*U15*R15,"") | Z15: =IF(BTCalc!G13,Y15/X15,"")
A16: (none) | D16: 0 | F16: 25 | H16: =IF(NOT(ISERROR(BTCalc!$A14)),BTCalc!R14,"") | I16: =IF(NOT(ISERROR(BTCalc!$A14)),BTCalc!S14,"") | J16: =IF(BTCalc!G14,ROUND(BTCalc!N14,3-(1+INT(LOG10(ABS(BTCalc!N14))))),"") | K16: =IF(BTCalc!G14,ROUND(BTCalc!O14,2-(1+INT(LOG10(ABS(BTCalc!O14))))),"") | L16: =IF(BTCalc!G14,ROUND(BTCalc!P14,IF(BTCalc!P14<100,IF(BTCalc!P14<10,IF(BTCalc!P14<1,3,2),1),0)),"") | M16: =IF(BTCalc!G14,ROUND(BTCalc!Q14,3-(1+INT(LOG10(ABS(BTCalc!Q14))))),"") | N16: =IF(BTCalc!G14,CHOOSE(BTCalc!$D$1,BTCalc!F14,BTCalc!E14),"") | P16: 1 | Q16: 1 | R16: 0.9 | S16: 0.9 | U16: =P16*Q16 -> 1 | V16: =IF(BTCalc!G14,P16*J16,"") | W16: =IF(BTCalc!G14,E16*Q16,"") | X16: =IF(BTCalc!G14,V16*W16/S16,"") | Y16: =IF(BTCalc!G14,L16*U16*R16,"") | Z16: =IF(BTCalc!G14,Y16/X16,"")
A17: (none) | D17: 0 | F17: 25 | H17: =IF(NOT(ISERROR(BTCalc!$A15)),BTCalc!R15,"") | I17: =IF(NOT(ISERROR(BTCalc!$A15)),BTCalc!S15,"") | J17: =IF(BTCalc!G15,ROUND(BTCalc!N15,3-(1+INT(LOG10(ABS(BTCalc!N15))))),"") | K17: =IF(BTCalc!G15,ROUND(BTCalc!O15,2-(1+INT(LOG10(ABS(BTCalc!O15))))),"") | L17: =IF(BTCalc!G15,ROUND(BTCalc!P15,IF(BTCalc!P15<100,IF(BTCalc!P15<10,IF(BTCalc!P15<1,3,2),1),0)),"") | M17: =IF(BTCalc!G15,ROUND(BTCalc!Q15,3-(1+INT(LOG10(ABS(BTCalc!Q15))))),"") | N17: =IF(BTCalc!G15,CHOOSE(BTCalc!$D$1,BTCalc!F15,BTCalc!E15),"") | P17: 1 | Q17: 1 | R17: 0.9 | S17: 0.9 | U17: =P17*Q17 -> 1 | V17: =IF(BTCalc!G15,P17*J17,"") | W17: =IF(BTCalc!G15,E17*Q17,"") | X17: =IF(BTCalc!G15,V17*W17/S17,"") | Y17: =IF(BTCalc!G15,L17*U17*R17,"") | Z17: =IF(BTCalc!G15,Y17/X17,"")
... A35: (none) | D35: 0 | F35: 25 | H35: =IF(NOT(ISERROR(BTCalc!$A33)),BTCalc!R33,"") | I35: =IF(NOT(ISERROR(BTCalc!$A33)),BTCalc!S33,"") | J35: =IF(BTCalc!G33,ROUND(BTCalc!N33,3-(1+INT(LOG10(ABS(BTCalc!N33))))),"") | K35: =IF(BTCalc!G33,ROUND(BTCalc!O33,2-(1+INT(LOG10(ABS(BTCalc!O33))))),"") | L35: =IF(BTCalc!G33,ROUND(BTCalc!P33,IF(BTCalc!P33<100,IF(BTCalc!P33<10,IF(BTCalc!P33<1,3,2),1),0)),"") | M35: =IF(BTCalc!G33,ROUND(BTCalc!Q33,3-(1+INT(LOG10(ABS(BTCalc!Q33))))),"") | N35: =IF(BTCalc!G33,CHOOSE(BTCalc!$D$1,BTCalc!F33,BTCalc!E33),"") | P35: 1 | Q35: 1 | R35: 0.9 | S35: 0.9 | U35: =P35*Q35 -> 1 | V35: =IF(BTCalc!G33,P35*J35,"") | W35: =IF(BTCalc!G33,E35*Q35,"") | X35: =IF(BTCalc!G33,V35*W35/S35,"") | Y35: =IF(BTCalc!G33,L35*U35*R35,"") | Z35: =IF(BTCalc!G33,Y35/X35,"")

Sheet BTCalc
D1: =IF('Bulk Table'!F5="Tj (ºC)",1,2) -> 2 | R1: 5 | S1: 6 | T1: 7 | U1: 8 | V1: 9 | W1: 10 | X1: 11 | Y1: 12 | Z1: 13 | AA1: 14 | AB1: 15 | AC1: 16 | AD1: 17 | AE1: 18 | AF1: 1 | AG1: 2 | AH1: 3 | AI1: 4 | AJ1: 5 | AK1: 6 | AL1: 7 | AM1: 8 | AN1: 9 | AO1: 10 | AP1: 11 | AQ1: 12 | AR1: 13 | AS1: 14 | AT1: 15 | AU1: 16 | AV1: 17 | AW1: 18 | AX1: 19 | AY1: 20 | AZ1: 21 | BA1: 22 | BB1: 23 | BC1: 24 | BD1: 25 | BE1: 26 | BF1: 27 | BG1: 28 | BH1: 29 | BI1: 30 | BJ1: 31 | BK1: 32 | BL1: 33 | BM1: 34 | BN1: 35 | BO1: 36 | BP1: 37 | BQ1: 38 | BR1: 39 | BS1: 40 | BT1: 41 | BU1: 42 | BV1: 43 | BW1: 44 | BX1: 45 | BY1: 46 | BZ1: 47 | CA1: 48 | CB1: 49 | CC1: 50 | CD1: 51 | CE1: 52 | CF1: 53 | CG1: 54 | CH1: 55
R2: Currents | T2: %LF Polynomial Fit | X2: Vf Polynomial Fit | AB2: Thermal Parameters
A3: Model Index | B3: Flux Value | C3: Current (A) | D3: Temp Input | E3: Tj (ºC) | F3: Tsp (ºC) | G3: Valid Current? | H3: Invalid Flux? | I3: Flux Override? | J3: Calc %LF | K3: Calc Vf | L3: Power for Temp Calc | M3: LF Factor for Temp | N3: LED Vf | O3: LED Power | P3: LED Flux | Q3: LED LPW | R3: Min | S3: Max | T3: x^3 | U3: x^2 | V3: x | W3: a | X3: x^3 | Y3: x^2 | Z3: x | AA3: a | AB3: %LF vs Tj Slope | AC3: Tj @ 100% LF | AD3: Temp Coeff of V | AE3: Thermal Resistance | AF3: Flux Bins
A4: =VLOOKUP('Bulk Table'!$A6,NameIndexArray,2,FALSE)-2 -> #N/A | B4: =IF(I4,'Bulk Table'!$C6,MID('Bulk Table'!$B6,FIND("(",'Bulk Table'!$B6)+1,FIND(")",'Bulk Table'!$B6)-FIND("(",'Bulk Table'!$B6)-1)) -> #VALUE! | C4: ='Bulk Table'!$E6 -> 0 | D4: ='Bulk Table'!$F6 -> 25 | E4: =CHOOSE($D$1,D4,D4+L4*AE4) -> #N/A | F4: =CHOOSE($D$1,D4-L4*AE4,D4) -> 25 | G4: =AND(IF(ISERROR($R4),FALSE,NOT(OR($C4<$R4,$C4>$S4))),NOT(H4)) -> FALSE | H4: =IF(I4,FALSE,ISERROR(HLOOKUP('Bulk Table'!B6,$AF4:$CH4,1,FALSE))) -> TRUE | I4: =NOT('Bulk Table'!$C6=0) -> FALSE | J4: =T4*$C4^3+U4*$C4^2+V4*$C4+W4 -> #N/A | K4: =X4*$C4^3+Y4*$C4^2+Z4*$C4+AA4+'Bulk Table'!$D6 -> #N/A | L4: =C4*(K4+(D4-AC4)*AD4) -> #N/A | M4: =1+(E4-AC4)*AB4 -> #N/A | N4: =K4+(E4-AC4)*AD4 -> #N/A | O4: =N4*C4 -> #N/A | P4: =J4*M4*B4 -> #N/A | Q4: =P4/(N4*C4) -> #N/A | R4: {=INDEX(ModelsData,$A4*2+1,R$1)} -> #N/A | S4: {=INDEX(ModelsData,$A4*2+1,S$1)} -> #N/A | T4: {=INDEX(ModelsData,$A4*2+1,T$1)} -> #N/A | U4: {=INDEX(ModelsData,$A4*2+1,U$1)} -> #N/A | V4: {=INDEX(ModelsData,$A4*2+1,V$1)} -> #N/A | W4: {=INDEX(ModelsData,$A4*2+1,W$1)} -> #N/A | X4: {=INDEX(ModelsData,$A4*2+1,X$1)} -> #N/A | Y4: {=INDEX(ModelsData,$A4*2+1,Y$1)} -> #N/A | ... AE4: {=INDEX(ModelsData,$A4*2+1,AE$1)} -> #N/A | AF4: {=IF(INDEX(FluxBins,$A4*2+1,AF$1)="","",INDEX(FluxBins,$A4*2+1,AF$1)&" ("&INDEX(FluxBins,$A4*2+2,AF$1)&")")} -> #N/A | AG4: {=IF(INDEX(FluxBins,$A4*2+1,AG$1)="","",INDEX(FluxBins,$A4*2+1,AG$1)&" ("&INDEX(FluxBins,$A4*2+2,AG$1)&")")} -> #N/A | AH4: {=IF(INDEX(FluxBins,$A4*2+1,AH$1)="","",INDEX(FluxBins,$A4*2+1,AH$1)&" ("&INDEX(FluxBins,$A4*2+2,AH$1)&")")} -> #N/A | AI4: {=IF(INDEX(FluxBins,$A4*2+1,AI$1)="","",INDEX(FluxBins,$A4*2+1,AI$1)&" ("&INDEX(FluxBins,$A4*2+2,AI$1)&")")} -> #N/A | AJ4: {=IF(INDEX(FluxBins,$A4*2+1,AJ$1)="","",INDEX(FluxBins,$A4*2+1,AJ$1)&" ("&INDEX(FluxBins,$A4*2+2,AJ$1)&")")} -> #N/A | AK4: {=IF(INDEX(FluxBins,$A4*2+1,AK$1)="","",INDEX(FluxBins,$A4*2+1,AK$1)&" ("&INDEX(FluxBins,$A4*2+2,AK$1)&")")} -> #N/A | AL4: {=IF(INDEX(FluxBins,$A4*2+1,AL$1)="","",INDEX(FluxBins,$A4*2+1,AL$1)&" ("&INDEX(FluxBins,$A4*2+2,AL$1)&")")} -> #N/A | AM4: {=IF(INDEX(FluxBins,$A4*2+1,AM$1)="","",INDEX(FluxBins,$A4*2+1,AM$1)&" ("&INDEX(FluxBins,$A4*2+2,AM$1)&")")} -> #N/A | ... CH4: {=IF(INDEX(FluxBins,$A4*2+1,CH$1)="","",INDEX(FluxBins,$A4*2+1,CH$1)&" ("&INDEX(FluxBins,$A4*2+2,CH$1)&")")} -> #N/A
A5: =VLOOKUP('Bulk Table'!$A7,NameIndexArray,2,FALSE)-2 -> #N/A | B5: =IF(I5,'Bulk Table'!$C7,MID('Bulk Table'!$B7,FIND("(",'Bulk Table'!$B7)+1,FIND(")",'Bulk Table'!$B7)-FIND("(",'Bulk Table'!$B7)-1)) -> #VALUE! | C5: ='Bulk Table'!$E7 -> 0 | D5: ='Bulk Table'!$F7 -> 25 | E5: =CHOOSE($D$1,D5,D5+L5*AE5) -> #N/A | F5: =CHOOSE($D$1,D5-L5*AE5,D5) -> 25 | G5: =AND(IF(ISERROR($R5),FALSE,NOT(OR($C5<$R5,$C5>$S5))),NOT(H5)) -> FALSE | H5: =IF(I5,FALSE,ISERROR(HLOOKUP('Bulk Table'!B7,$AF5:$CH5,1,FALSE))) -> TRUE | I5: =NOT('Bulk Table'!$C7=0) -> FALSE | J5: =T5*$C5^3+U5*$C5^2+V5*$C5+W5 -> #N/A | K5: =X5*$C5^3+Y5*$C5^2+Z5*$C5+AA5+'Bulk Table'!$D7 -> #N/A | L5: =C5*(K5+(D5-AC5)*AD5) -> #N/A | M5: =1+(E5-AC5)*AB5 -> #N/A | N5: =K5+(E5-AC5)*AD5 -> #N/A | O5: =N5*C5 -> #N/A | P5: =J5*M5*B5 -> #N/A | Q5: =P5/(N5*C5) -> #N/A | R5: {=INDEX(ModelsData,$A5*2+1,R$1)} -> #N/A | S5: {=INDEX(ModelsData,$A5*2+1,S$1)} -> #N/A | T5: {=INDEX(ModelsData,$A5*2+1,T$1)} -> #N/A | U5: {=INDEX(ModelsData,$A5*2+1,U$1)} -> #N/A | V5: {=INDEX(ModelsData,$A5*2+1,V$1)} -> #N/A | W5: {=INDEX(ModelsData,$A5*2+1,W$1)} -> #N/A | X5: {=INDEX(ModelsData,$A5*2+1,X$1)} -> #N/A | Y5: {=INDEX(ModelsData,$A5*2+1,Y$1)} -> #N/A | ... AE5: {=INDEX(ModelsData,$A5*2+1,AE$1)} -> #N/A | AF5: {=IF(INDEX(FluxBins,$A5*2+1,AF$1)="","",INDEX(FluxBins,$A5*2+1,AF$1)&" ("&INDEX(FluxBins,$A5*2+2,AF$1)&")")} -> #N/A | AG5: {=IF(INDEX(FluxBins,$A5*2+1,AG$1)="","",INDEX(FluxBins,$A5*2+1,AG$1)&" ("&INDEX(FluxBins,$A5*2+2,AG$1)&")")} -> #N/A | AH5: {=IF(INDEX(FluxBins,$A5*2+1,AH$1)="","",INDEX(FluxBins,$A5*2+1,AH$1)&" ("&INDEX(FluxBins,$A5*2+2,AH$1)&")")} -> #N/A | AI5: {=IF(INDEX(FluxBins,$A5*2+1,AI$1)="","",INDEX(FluxBins,$A5*2+1,AI$1)&" ("&INDEX(FluxBins,$A5*2+2,AI$1)&")")} -> #N/A | AJ5: {=IF(INDEX(FluxBins,$A5*2+1,AJ$1)="","",INDEX(FluxBins,$A5*2+1,AJ$1)&" ("&INDEX(FluxBins,$A5*2+2,AJ$1)&")")} -> #N/A | AK5: {=IF(INDEX(FluxBins,$A5*2+1,AK$1)="","",INDEX(FluxBins,$A5*2+1,AK$1)&" ("&INDEX(FluxBins,$A5*2+2,AK$1)&")")} -> #N/A | AL5: {=IF(INDEX(FluxBins,$A5*2+1,AL$1)="","",INDEX(FluxBins,$A5*2+1,AL$1)&" ("&INDEX(FluxBins,$A5*2+2,AL$1)&")")} -> #N/A | AM5: {=IF(INDEX(FluxBins,$A5*2+1,AM$1)="","",INDEX(FluxBins,$A5*2+1,AM$1)&" ("&INDEX(FluxBins,$A5*2+2,AM$1)&")")} -> #N/A | ... CH5: {=IF(INDEX(FluxBins,$A5*2+1,CH$1)="","",INDEX(FluxBins,$A5*2+1,CH$1)&" ("&INDEX(FluxBins,$A5*2+2,CH$1)&")")} -> #N/A
A6: =VLOOKUP('Bulk Table'!$A8,NameIndexArray,2,FALSE)-2 -> #N/A | B6: =IF(I6,'Bulk Table'!$C8,MID('Bulk Table'!$B8,FIND("(",'Bulk Table'!$B8)+1,FIND(")",'Bulk Table'!$B8)-FIND("(",'Bulk Table'!$B8)-1)) -> #VALUE! | C6: ='Bulk Table'!$E8 -> 0 | D6: ='Bulk Table'!$F8 -> 25 | E6: =CHOOSE($D$1,D6,D6+L6*AE6) -> #N/A | F6: =CHOOSE($D$1,D6-L6*AE6,D6) -> 25 | G6: =AND(IF(ISERROR($R6),FALSE,NOT(OR($C6<$R6,$C6>$S6))),NOT(H6)) -> FALSE | H6: =IF(I6,FALSE,ISERROR(HLOOKUP('Bulk Table'!B8,$AF6:$CH6,1,FALSE))) -> TRUE | I6: =NOT('Bulk Table'!$C8=0) -> FALSE | J6: =T6*$C6^3+U6*$C6^2+V6*$C6+W6 -> #N/A | K6: =X6*$C6^3+Y6*$C6^2+Z6*$C6+AA6+'Bulk Table'!$D8 -> #N/A | L6: =C6*(K6+(D6-AC6)*AD6) -> #N/A | M6: =1+(E6-AC6)*AB6 -> #N/A | N6: =K6+(E6-AC6)*AD6 -> #N/A | O6: =N6*C6 -> #N/A | P6: =J6*M6*B6 -> #N/A | Q6: =P6/(N6*C6) -> #N/A | R6: {=INDEX(ModelsData,$A6*2+1,R$1)} -> #N/A | S6: {=INDEX(ModelsData,$A6*2+1,S$1)} -> #N/A | T6: {=INDEX(ModelsData,$A6*2+1,T$1)} -> #N/A | U6: {=INDEX(ModelsData,$A6*2+1,U$1)} -> #N/A | V6: {=INDEX(ModelsData,$A6*2+1,V$1)} -> #N/A | W6: {=INDEX(ModelsData,$A6*2+1,W$1)} -> #N/A | X6: {=INDEX(ModelsData,$A6*2+1,X$1)} -> #N/A | Y6: {=INDEX(ModelsData,$A6*2+1,Y$1)} -> #N/A | ... AE6: {=INDEX(ModelsData,$A6*2+1,AE$1)} -> #N/A | AF6: {=IF(INDEX(FluxBins,$A6*2+1,AF$1)="","",INDEX(FluxBins,$A6*2+1,AF$1)&" ("&INDEX(FluxBins,$A6*2+2,AF$1)&")")} -> #N/A | AG6: {=IF(INDEX(FluxBins,$A6*2+1,AG$1)="","",INDEX(FluxBins,$A6*2+1,AG$1)&" ("&INDEX(FluxBins,$A6*2+2,AG$1)&")")} -> #N/A | AH6: {=IF(INDEX(FluxBins,$A6*2+1,AH$1)="","",INDEX(FluxBins,$A6*2+1,AH$1)&" ("&INDEX(FluxBins,$A6*2+2,AH$1)&")")} -> #N/A | AI6: {=IF(INDEX(FluxBins,$A6*2+1,AI$1)="","",INDEX(FluxBins,$A6*2+1,AI$1)&" ("&INDEX(FluxBins,$A6*2+2,AI$1)&")")} -> #N/A | AJ6: {=IF(INDEX(FluxBins,$A6*2+1,AJ$1)="","",INDEX(FluxBins,$A6*2+1,AJ$1)&" ("&INDEX(FluxBins,$A6*2+2,AJ$1)&")")} -> #N/A | AK6: {=IF(INDEX(FluxBins,$A6*2+1,AK$1)="","",INDEX(FluxBins,$A6*2+1,AK$1)&" ("&INDEX(FluxBins,$A6*2+2,AK$1)&")")} -> #N/A | AL6: {=IF(INDEX(FluxBins,$A6*2+1,AL$1)="","",INDEX(FluxBins,$A6*2+1,AL$1)&" ("&INDEX(FluxBins,$A6*2+2,AL$1)&")")} -> #N/A | AM6: {=IF(INDEX(FluxBins,$A6*2+1,AM$1)="","",INDEX(FluxBins,$A6*2+1,AM$1)&" ("&INDEX(FluxBins,$A6*2+2,AM$1)&")")} -> #N/A | ... CH6: {=IF(INDEX(FluxBins,$A6*2+1,CH$1)="","",INDEX(FluxBins,$A6*2+1,CH$1)&" ("&INDEX(FluxBins,$A6*2+2,CH$1)&")")} -> #N/A
A7: =VLOOKUP('Bulk Table'!$A9,NameIndexArray,2,FALSE)-2 -> #N/A | B7: =IF(I7,'Bulk Table'!$C9,MID('Bulk Table'!$B9,FIND("(",'Bulk Table'!$B9)+1,FIND(")",'Bulk Table'!$B9)-FIND("(",'Bulk Table'!$B9)-1)) -> #VALUE! | C7: ='Bulk Table'!$E9 -> 0 | D7: ='Bulk Table'!$F9 -> 25 | E7: =CHOOSE($D$1,D7,D7+L7*AE7) -> #N/A | F7: =CHOOSE($D$1,D7-L7*AE7,D7) -> 25 | G7: =AND(IF(ISERROR($R7),FALSE,NOT(OR($C7<$R7,$C7>$S7))),NOT(H7)) -> FALSE | H7: =IF(I7,FALSE,ISERROR(HLOOKUP('Bulk Table'!B9,$AF7:$CH7,1,FALSE))) -> TRUE | I7: =NOT('Bulk Table'!$C9=0) -> FALSE | J7: =T7*$C7^3+U7*$C7^2+V7*$C7+W7 -> #N/A | K7: =X7*$C7^3+Y7*$C7^2+Z7*$C7+AA7+'Bulk Table'!$D9 -> #N/A | L7: =C7*(K7+(D7-AC7)*AD7) -> #N/A | M7: =1+(E7-AC7)*AB7 -> #N/A | N7: =K7+(E7-AC7)*AD7 -> #N/A | O7: =N7*C7 -> #N/A | P7: =J7*M7*B7 -> #N/A | Q7: =P7/(N7*C7) -> #N/A | R7: {=INDEX(ModelsData,$A7*2+1,R$1)} -> #N/A | S7: {=INDEX(ModelsData,$A7*2+1,S$1)} -> #N/A | T7: {=INDEX(ModelsData,$A7*2+1,T$1)} -> #N/A | U7: {=INDEX(ModelsData,$A7*2+1,U$1)} -> #N/A | V7: {=INDEX(ModelsData,$A7*2+1,V$1)} -> #N/A | W7: {=INDEX(ModelsData,$A7*2+1,W$1)} -> #N/A | X7: {=INDEX(ModelsData,$A7*2+1,X$1)} -> #N/A | Y7: {=INDEX(ModelsData,$A7*2+1,Y$1)} -> #N/A | ... AE7: {=INDEX(ModelsData,$A7*2+1,AE$1)} -> #N/A | AF7: {=IF(INDEX(FluxBins,$A7*2+1,AF$1)="","",INDEX(FluxBins,$A7*2+1,AF$1)&" ("&INDEX(FluxBins,$A7*2+2,AF$1)&")")} -> #N/A | AG7: {=IF(INDEX(FluxBins,$A7*2+1,AG$1)="","",INDEX(FluxBins,$A7*2+1,AG$1)&" ("&INDEX(FluxBins,$A7*2+2,AG$1)&")")} -> #N/A | AH7: {=IF(INDEX(FluxBins,$A7*2+1,AH$1)="","",INDEX(FluxBins,$A7*2+1,AH$1)&" ("&INDEX(FluxBins,$A7*2+2,AH$1)&")")} -> #N/A | AI7: {=IF(INDEX(FluxBins,$A7*2+1,AI$1)="","",INDEX(FluxBins,$A7*2+1,AI$1)&" ("&INDEX(FluxBins,$A7*2+2,AI$1)&")")} -> #N/A | AJ7: {=IF(INDEX(FluxBins,$A7*2+1,AJ$1)="","",INDEX(FluxBins,$A7*2+1,AJ$1)&" ("&INDEX(FluxBins,$A7*2+2,AJ$1)&")")} -> #N/A | AK7: {=IF(INDEX(FluxBins,$A7*2+1,AK$1)="","",INDEX(FluxBins,$A7*2+1,AK$1)&" ("&INDEX(FluxBins,$A7*2+2,AK$1)&")")} -> #N/A | AL7: {=IF(INDEX(FluxBins,$A7*2+1,AL$1)="","",INDEX(FluxBins,$A7*2+1,AL$1)&" ("&INDEX(FluxBins,$A7*2+2,AL$1)&")")} -> #N/A | AM7: {=IF(INDEX(FluxBins,$A7*2+1,AM$1)="","",INDEX(FluxBins,$A7*2+1,AM$1)&" ("&INDEX(FluxBins,$A7*2+2,AM$1)&")")} -> #N/A | ... CH7: {=IF(INDEX(FluxBins,$A7*2+1,CH$1)="","",INDEX(FluxBins,$A7*2+1,CH$1)&" ("&INDEX(FluxBins,$A7*2+2,CH$1)&")")} -> #N/A
A8: =VLOOKUP('Bulk Table'!$A10,NameIndexArray,2,FALSE)-2 -> #N/A | B8: =IF(I8,'Bulk Table'!$C10,MID('Bulk Table'!$B10,FIND("(",'Bulk Table'!$B10)+1,FIND(")",'Bulk Table'!$B10)-FIND("(",'Bulk Table'!$B10)-1)) -> #VALUE! | C8: ='Bulk Table'!$E10 -> 0 | D8: ='Bulk Table'!$F10 -> 25 | E8: =CHOOSE($D$1,D8,D8+L8*AE8) -> #N/A | F8: =CHOOSE($D$1,D8-L8*AE8,D8) -> 25 | G8: =AND(IF(ISERROR($R8),FALSE,NOT(OR($C8<$R8,$C8>$S8))),NOT(H8)) -> FALSE | H8: =IF(I8,FALSE,ISERROR(HLOOKUP('Bulk Table'!B10,$AF8:$CH8,1,FALSE))) -> TRUE | I8: =NOT('Bulk Table'!$C10=0) -> FALSE | J8: =T8*$C8^3+U8*$C8^2+V8*$C8+W8 -> #N/A | K8: =X8*$C8^3+Y8*$C8^2+Z8*$C8+AA8+'Bulk Table'!$D10 -> #N/A | L8: =C8*(K8+(D8-AC8)*AD8) -> #N/A | M8: =1+(E8-AC8)*AB8 -> #N/A | N8: =K8+(E8-AC8)*AD8 -> #N/A | O8: =N8*C8 -> #N/A | P8: =J8*M8*B8 -> #N/A | Q8: =P8/(N8*C8) -> #N/A | R8: {=INDEX(ModelsData,$A8*2+1,R$1)} -> #N/A | S8: {=INDEX(ModelsData,$A8*2+1,S$1)} -> #N/A | T8: {=INDEX(ModelsData,$A8*2+1,T$1)} -> #N/A | U8: {=INDEX(ModelsData,$A8*2+1,U$1)} -> #N/A | V8: {=INDEX(ModelsData,$A8*2+1,V$1)} -> #N/A | W8: {=INDEX(ModelsData,$A8*2+1,W$1)} -> #N/A | X8: {=INDEX(ModelsData,$A8*2+1,X$1)} -> #N/A | Y8: {=INDEX(ModelsData,$A8*2+1,Y$1)} -> #N/A | ... AE8: {=INDEX(ModelsData,$A8*2+1,AE$1)} -> #N/A | AF8: {=IF(INDEX(FluxBins,$A8*2+1,AF$1)="","",INDEX(FluxBins,$A8*2+1,AF$1)&" ("&INDEX(FluxBins,$A8*2+2,AF$1)&")")} -> #N/A | AG8: {=IF(INDEX(FluxBins,$A8*2+1,AG$1)="","",INDEX(FluxBins,$A8*2+1,AG$1)&" ("&INDEX(FluxBins,$A8*2+2,AG$1)&")")} -> #N/A | AH8: {=IF(INDEX(FluxBins,$A8*2+1,AH$1)="","",INDEX(FluxBins,$A8*2+1,AH$1)&" ("&INDEX(FluxBins,$A8*2+2,AH$1)&")")} -> #N/A | AI8: {=IF(INDEX(FluxBins,$A8*2+1,AI$1)="","",INDEX(FluxBins,$A8*2+1,AI$1)&" ("&INDEX(FluxBins,$A8*2+2,AI$1)&")")} -> #N/A | AJ8: {=IF(INDEX(FluxBins,$A8*2+1,AJ$1)="","",INDEX(FluxBins,$A8*2+1,AJ$1)&" ("&INDEX(FluxBins,$A8*2+2,AJ$1)&")")} -> #N/A | AK8: {=IF(INDEX(FluxBins,$A8*2+1,AK$1)="","",INDEX(FluxBins,$A8*2+1,AK$1)&" ("&INDEX(FluxBins,$A8*2+2,AK$1)&")")} -> #N/A | AL8: {=IF(INDEX(FluxBins,$A8*2+1,AL$1)="","",INDEX(FluxBins,$A8*2+1,AL$1)&" ("&INDEX(FluxBins,$A8*2+2,AL$1)&")")} -> #N/A | AM8: {=IF(INDEX(FluxBins,$A8*2+1,AM$1)="","",INDEX(FluxBins,$A8*2+1,AM$1)&" ("&INDEX(FluxBins,$A8*2+2,AM$1)&")")} -> #N/A | ... CH8: {=IF(INDEX(FluxBins,$A8*2+1,CH$1)="","",INDEX(FluxBins,$A8*2+1,CH$1)&" ("&INDEX(FluxBins,$A8*2+2,CH$1)&")")} -> #N/A
A9: =VLOOKUP('Bulk Table'!$A11,NameIndexArray,2,FALSE)-2 -> #N/A | B9: =IF(I9,'Bulk Table'!$C11,MID('Bulk Table'!$B11,FIND("(",'Bulk Table'!$B11)+1,FIND(")",'Bulk Table'!$B11)-FIND("(",'Bulk Table'!$B11)-1)) -> #VALUE! | C9: ='Bulk Table'!$E11 -> 0 | D9: ='Bulk Table'!$F11 -> 25 | E9: =CHOOSE($D$1,D9,D9+L9*AE9) -> #N/A | F9: =CHOOSE($D$1,D9-L9*AE9,D9) -> 25 | G9: =AND(IF(ISERROR($R9),FALSE,NOT(OR($C9<$R9,$C9>$S9))),NOT(H9)) -> FALSE | H9: =IF(I9,FALSE,ISERROR(HLOOKUP('Bulk Table'!B11,$AF9:$CH9,1,FALSE))) -> TRUE | I9: =NOT('Bulk Table'!$C11=0) -> FALSE | J9: =T9*$C9^3+U9*$C9^2+V9*$C9+W9 -> #N/A | K9: =X9*$C9^3+Y9*$C9^2+Z9*$C9+AA9+'Bulk Table'!$D11 -> #N/A | L9: =C9*(K9+(D9-AC9)*AD9) -> #N/A | M9: =1+(E9-AC9)*AB9 -> #N/A | N9: =K9+(E9-AC9)*AD9 -> #N/A | O9: =N9*C9 -> #N/A | P9: =J9*M9*B9 -> #N/A | Q9: =P9/(N9*C9) -> #N/A | R9: {=INDEX(ModelsData,$A9*2+1,R$1)} -> #N/A | S9: {=INDEX(ModelsData,$A9*2+1,S$1)} -> #N/A | T9: {=INDEX(ModelsData,$A9*2+1,T$1)} -> #N/A | U9: {=INDEX(ModelsData,$A9*2+1,U$1)} -> #N/A | V9: {=INDEX(ModelsData,$A9*2+1,V$1)} -> #N/A | W9: {=INDEX(ModelsData,$A9*2+1,W$1)} -> #N/A | X9: {=INDEX(ModelsData,$A9*2+1,X$1)} -> #N/A | Y9: {=INDEX(ModelsData,$A9*2+1,Y$1)} -> #N/A | ... AE9: {=INDEX(ModelsData,$A9*2+1,AE$1)} -> #N/A | AF9: {=IF(INDEX(FluxBins,$A9*2+1,AF$1)="","",INDEX(FluxBins,$A9*2+1,AF$1)&" ("&INDEX(FluxBins,$A9*2+2,AF$1)&")")} -> #N/A | AG9: {=IF(INDEX(FluxBins,$A9*2+1,AG$1)="","",INDEX(FluxBins,$A9*2+1,AG$1)&" ("&INDEX(FluxBins,$A9*2+2,AG$1)&")")} -> #N/A | AH9: {=IF(INDEX(FluxBins,$A9*2+1,AH$1)="","",INDEX(FluxBins,$A9*2+1,AH$1)&" ("&INDEX(FluxBins,$A9*2+2,AH$1)&")")} -> #N/A | AI9: {=IF(INDEX(FluxBins,$A9*2+1,AI$1)="","",INDEX(FluxBins,$A9*2+1,AI$1)&" ("&INDEX(FluxBins,$A9*2+2,AI$1)&")")} -> #N/A | AJ9: {=IF(INDEX(FluxBins,$A9*2+1,AJ$1)="","",INDEX(FluxBins,$A9*2+1,AJ$1)&" ("&INDEX(FluxBins,$A9*2+2,AJ$1)&")")} -> #N/A | AK9: {=IF(INDEX(FluxBins,$A9*2+1,AK$1)="","",INDEX(FluxBins,$A9*2+1,AK$1)&" ("&INDEX(FluxBins,$A9*2+2,AK$1)&")")} -> #N/A | AL9: {=IF(INDEX(FluxBins,$A9*2+1,AL$1)="","",INDEX(FluxBins,$A9*2+1,AL$1)&" ("&INDEX(FluxBins,$A9*2+2,AL$1)&")")} -> #N/A | AM9: {=IF(INDEX(FluxBins,$A9*2+1,AM$1)="","",INDEX(FluxBins,$A9*2+1,AM$1)&" ("&INDEX(FluxBins,$A9*2+2,AM$1)&")")} -> #N/A | ... CH9: {=IF(INDEX(FluxBins,$A9*2+1,CH$1)="","",INDEX(FluxBins,$A9*2+1,CH$1)&" ("&INDEX(FluxBins,$A9*2+2,CH$1)&")")} -> #N/A
A10: =VLOOKUP('Bulk Table'!$A12,NameIndexArray,2,FALSE)-2 -> #N/A | B10: =IF(I10,'Bulk Table'!$C12,MID('Bulk Table'!$B12,FIND("(",'Bulk Table'!$B12)+1,FIND(")",'Bulk Table'!$B12)-FIND("(",'Bulk Table'!$B12)-1)) -> #VALUE! | C10: ='Bulk Table'!$E12 -> 0 | D10: ='Bulk Table'!$F12 -> 25 | E10: =CHOOSE($D$1,D10,D10+L10*AE10) -> #N/A | F10: =CHOOSE($D$1,D10-L10*AE10,D10) -> 25 | G10: =AND(IF(ISERROR($R10),FALSE,NOT(OR($C10<$R10,$C10>$S10))),NOT(H10)) -> FALSE | H10: =IF(I10,FALSE,ISERROR(HLOOKUP('Bulk Table'!B12,$AF10:$CH10,1,FALSE))) -> TRUE | I10: =NOT('Bulk Table'!$C12=0) -> FALSE | J10: =T10*$C10^3+U10*$C10^2+V10*$C10+W10 -> #N/A | K10: =X10*$C10^3+Y10*$C10^2+Z10*$C10+AA10+'Bulk Table'!$D12 -> #N/A | L10: =C10*(K10+(D10-AC10)*AD10) -> #N/A | M10: =1+(E10-AC10)*AB10 -> #N/A | N10: =K10+(E10-AC10)*AD10 -> #N/A | O10: =N10*C10 -> #N/A | P10: =J10*M10*B10 -> #N/A | Q10: =P10/(N10*C10) -> #N/A | R10: {=INDEX(ModelsData,$A10*2+1,R$1)} -> #N/A | S10: {=INDEX(ModelsData,$A10*2+1,S$1)} -> #N/A | T10: {=INDEX(ModelsData,$A10*2+1,T$1)} -> #N/A | U10: {=INDEX(ModelsData,$A10*2+1,U$1)} -> #N/A | V10: {=INDEX(ModelsData,$A10*2+1,V$1)} -> #N/A | W10: {=INDEX(ModelsData,$A10*2+1,W$1)} -> #N/A | X10: {=INDEX(ModelsData,$A10*2+1,X$1)} -> #N/A | Y10: {=INDEX(ModelsData,$A10*2+1,Y$1)} -> #N/A | ... AE10: {=INDEX(ModelsData,$A10*2+1,AE$1)} -> #N/A | AF10: {=IF(INDEX(FluxBins,$A10*2+1,AF$1)="","",INDEX(FluxBins,$A10*2+1,AF$1)&" ("&INDEX(FluxBins,$A10*2+2,AF$1)&")")} -> #N/A | AG10: {=IF(INDEX(FluxBins,$A10*2+1,AG$1)="","",INDEX(FluxBins,$A10*2+1,AG$1)&" ("&INDEX(FluxBins,$A10*2+2,AG$1)&")")} -> #N/A | AH10: {=IF(INDEX(FluxBins,$A10*2+1,AH$1)="","",INDEX(FluxBins,$A10*2+1,AH$1)&" ("&INDEX(FluxBins,$A10*2+2,AH$1)&")")} -> #N/A | AI10: {=IF(INDEX(FluxBins,$A10*2+1,AI$1)="","",INDEX(FluxBins,$A10*2+1,AI$1)&" ("&INDEX(FluxBins,$A10*2+2,AI$1)&")")} -> #N/A | AJ10: {=IF(INDEX(FluxBins,$A10*2+1,AJ$1)="","",INDEX(FluxBins,$A10*2+1,AJ$1)&" ("&INDEX(FluxBins,$A10*2+2,AJ$1)&")")} -> #N/A | AK10: {=IF(INDEX(FluxBins,$A10*2+1,AK$1)="","",INDEX(FluxBins,$A10*2+1,AK$1)&" ("&INDEX(FluxBins,$A10*2+2,AK$1)&")")} -> #N/A | AL10: {=IF(INDEX(FluxBins,$A10*2+1,AL$1)="","",INDEX(FluxBins,$A10*2+1,AL$1)&" ("&INDEX(FluxBins,$A10*2+2,AL$1)&")")} -> #N/A | AM10: {=IF(INDEX(FluxBins,$A10*2+1,AM$1)="","",INDEX(FluxBins,$A10*2+1,AM$1)&" ("&INDEX(FluxBins,$A10*2+2,AM$1)&")")} -> #N/A | ... CH10: {=IF(INDEX(FluxBins,$A10*2+1,CH$1)="","",INDEX(FluxBins,$A10*2+1,CH$1)&" ("&INDEX(FluxBins,$A10*2+2,CH$1)&")")} -> #N/A
A11: =VLOOKUP('Bulk Table'!$A13,NameIndexArray,2,FALSE)-2 -> #N/A | B11: =IF(I11,'Bulk Table'!$C13,MID('Bulk Table'!$B13,FIND("(",'Bulk Table'!$B13)+1,FIND(")",'Bulk Table'!$B13)-FIND("(",'Bulk Table'!$B13)-1)) -> #VALUE! | C11: ='Bulk Table'!$E13 -> 0 | D11: ='Bulk Table'!$F13 -> 25 | E11: =CHOOSE($D$1,D11,D11+L11*AE11) -> #N/A | F11: =CHOOSE($D$1,D11-L11*AE11,D11) -> 25 | G11: =AND(IF(ISERROR($R11),FALSE,NOT(OR($C11<$R11,$C11>$S11))),NOT(H11)) -> FALSE | H11: =IF(I11,FALSE,ISERROR(HLOOKUP('Bulk Table'!B13,$AF11:$CH11,1,FALSE))) -> TRUE | I11: =NOT('Bulk Table'!$C13=0) -> FALSE | J11: =T11*$C11^3+U11*$C11^2+V11*$C11+W11 -> #N/A | K11: =X11*$C11^3+Y11*$C11^2+Z11*$C11+AA11+'Bulk Table'!$D13 -> #N/A | L11: =C11*(K11+(D11-AC11)*AD11) -> #N/A | M11: =1+(E11-AC11)*AB11 -> #N/A | N11: =K11+(E11-AC11)*AD11 -> #N/A | O11: =N11*C11 -> #N/A | P11: =J11*M11*B11 -> #N/A | Q11: =P11/(N11*C11) -> #N/A | R11: {=INDEX(ModelsData,$A11*2+1,R$1)} -> #N/A | S11: {=INDEX(ModelsData,$A11*2+1,S$1)} -> #N/A | T11: {=INDEX(ModelsData,$A11*2+1,T$1)} -> #N/A | U11: {=INDEX(ModelsData,$A11*2+1,U$1)} -> #N/A | V11: {=INDEX(ModelsData,$A11*2+1,V$1)} -> #N/A | W11: {=INDEX(ModelsData,$A11*2+1,W$1)} -> #N/A | X11: {=INDEX(ModelsData,$A11*2+1,X$1)} -> #N/A | Y11: {=INDEX(ModelsData,$A11*2+1,Y$1)} -> #N/A | ... AE11: {=INDEX(ModelsData,$A11*2+1,AE$1)} -> #N/A | AF11: {=IF(INDEX(FluxBins,$A11*2+1,AF$1)="","",INDEX(FluxBins,$A11*2+1,AF$1)&" ("&INDEX(FluxBins,$A11*2+2,AF$1)&")")} -> #N/A | AG11: {=IF(INDEX(FluxBins,$A11*2+1,AG$1)="","",INDEX(FluxBins,$A11*2+1,AG$1)&" ("&INDEX(FluxBins,$A11*2+2,AG$1)&")")} -> #N/A | AH11: {=IF(INDEX(FluxBins,$A11*2+1,AH$1)="","",INDEX(FluxBins,$A11*2+1,AH$1)&" ("&INDEX(FluxBins,$A11*2+2,AH$1)&")")} -> #N/A | AI11: {=IF(INDEX(FluxBins,$A11*2+1,AI$1)="","",INDEX(FluxBins,$A11*2+1,AI$1)&" ("&INDEX(FluxBins,$A11*2+2,AI$1)&")")} -> #N/A | AJ11: {=IF(INDEX(FluxBins,$A11*2+1,AJ$1)="","",INDEX(FluxBins,$A11*2+1,AJ$1)&" ("&INDEX(FluxBins,$A11*2+2,AJ$1)&")")} -> #N/A | AK11: {=IF(INDEX(FluxBins,$A11*2+1,AK$1)="","",INDEX(FluxBins,$A11*2+1,AK$1)&" ("&INDEX(FluxBins,$A11*2+2,AK$1)&")")} -> #N/A | AL11: {=IF(INDEX(FluxBins,$A11*2+1,AL$1)="","",INDEX(FluxBins,$A11*2+1,AL$1)&" ("&INDEX(FluxBins,$A11*2+2,AL$1)&")")} -> #N/A | AM11: {=IF(INDEX(FluxBins,$A11*2+1,AM$1)="","",INDEX(FluxBins,$A11*2+1,AM$1)&" ("&INDEX(FluxBins,$A11*2+2,AM$1)&")")} -> #N/A | ... CH11: {=IF(INDEX(FluxBins,$A11*2+1,CH$1)="","",INDEX(FluxBins,$A11*2+1,CH$1)&" ("&INDEX(FluxBins,$A11*2+2,CH$1)&")")} -> #N/A
A12: =VLOOKUP('Bulk Table'!$A14,NameIndexArray,2,FALSE)-2 -> #N/A | B12: =IF(I12,'Bulk Table'!$C14,MID('Bulk Table'!$B14,FIND("(",'Bulk Table'!$B14)+1,FIND(")",'Bulk Table'!$B14)-FIND("(",'Bulk Table'!$B14)-1)) -> #VALUE! | C12: ='Bulk Table'!$E14 -> 0 | D12: ='Bulk Table'!$F14 -> 25 | E12: =CHOOSE($D$1,D12,D12+L12*AE12) -> #N/A | F12: =CHOOSE($D$1,D12-L12*AE12,D12) -> 25 | G12: =AND(IF(ISERROR($R12),FALSE,NOT(OR($C12<$R12,$C12>$S12))),NOT(H12)) -> FALSE | H12: =IF(I12,FALSE,ISERROR(HLOOKUP('Bulk Table'!B14,$AF12:$CH12,1,FALSE))) -> TRUE | I12: =NOT('Bulk Table'!$C14=0) -> FALSE | J12: =T12*$C12^3+U12*$C12^2+V12*$C12+W12 -> #N/A | K12: =X12*$C12^3+Y12*$C12^2+Z12*$C12+AA12+'Bulk Table'!$D14 -> #N/A | L12: =C12*(K12+(D12-AC12)*AD12) -> #N/A | M12: =1+(E12-AC12)*AB12 -> #N/A | N12: =K12+(E12-AC12)*AD12 -> #N/A | O12: =N12*C12 -> #N/A | P12: =J12*M12*B12 -> #N/A | Q12: =P12/(N12*C12) -> #N/A | R12: {=INDEX(ModelsData,$A12*2+1,R$1)} -> #N/A | S12: {=INDEX(ModelsData,$A12*2+1,S$1)} -> #N/A | T12: {=INDEX(ModelsData,$A12*2+1,T$1)} -> #N/A | U12: {=INDEX(ModelsData,$A12*2+1,U$1)} -> #N/A | V12: {=INDEX(ModelsData,$A12*2+1,V$1)} -> #N/A | W12: {=INDEX(ModelsData,$A12*2+1,W$1)} -> #N/A | X12: {=INDEX(ModelsData,$A12*2+1,X$1)} -> #N/A | Y12: {=INDEX(ModelsData,$A12*2+1,Y$1)} -> #N/A | ... AE12: {=INDEX(ModelsData,$A12*2+1,AE$1)} -> #N/A | AF12: {=IF(INDEX(FluxBins,$A12*2+1,AF$1)="","",INDEX(FluxBins,$A12*2+1,AF$1)&" ("&INDEX(FluxBins,$A12*2+2,AF$1)&")")} -> #N/A | AG12: {=IF(INDEX(FluxBins,$A12*2+1,AG$1)="","",INDEX(FluxBins,$A12*2+1,AG$1)&" ("&INDEX(FluxBins,$A12*2+2,AG$1)&")")} -> #N/A | AH12: {=IF(INDEX(FluxBins,$A12*2+1,AH$1)="","",INDEX(FluxBins,$A12*2+1,AH$1)&" ("&INDEX(FluxBins,$A12*2+2,AH$1)&")")} -> #N/A | AI12: {=IF(INDEX(FluxBins,$A12*2+1,AI$1)="","",INDEX(FluxBins,$A12*2+1,AI$1)&" ("&INDEX(FluxBins,$A12*2+2,AI$1)&")")} -> #N/A | AJ12: {=IF(INDEX(FluxBins,$A12*2+1,AJ$1)="","",INDEX(FluxBins,$A12*2+1,AJ$1)&" ("&INDEX(FluxBins,$A12*2+2,AJ$1)&")")} -> #N/A | AK12: {=IF(INDEX(FluxBins,$A12*2+1,AK$1)="","",INDEX(FluxBins,$A12*2+1,AK$1)&" ("&INDEX(FluxBins,$A12*2+2,AK$1)&")")} -> #N/A | AL12: {=IF(INDEX(FluxBins,$A12*2+1,AL$1)="","",INDEX(FluxBins,$A12*2+1,AL$1)&" ("&INDEX(FluxBins,$A12*2+2,AL$1)&")")} -> #N/A | AM12: {=IF(INDEX(FluxBins,$A12*2+1,AM$1)="","",INDEX(FluxBins,$A12*2+1,AM$1)&" ("&INDEX(FluxBins,$A12*2+2,AM$1)&")")} -> #N/A | ... CH12: {=IF(INDEX(FluxBins,$A12*2+1,CH$1)="","",INDEX(FluxBins,$A12*2+1,CH$1)&" ("&INDEX(FluxBins,$A12*2+2,CH$1)&")")} -> #N/A
A13: =VLOOKUP('Bulk Table'!$A15,NameIndexArray,2,FALSE)-2 -> #N/A | B13: =IF(I13,'Bulk Table'!$C15,MID('Bulk Table'!$B15,FIND("(",'Bulk Table'!$B15)+1,FIND(")",'Bulk Table'!$B15)-FIND("(",'Bulk Table'!$B15)-1)) -> #VALUE! | C13: ='Bulk Table'!$E15 -> 0 | D13: ='Bulk Table'!$F15 -> 25 | E13: =CHOOSE($D$1,D13,D13+L13*AE13) -> #N/A | F13: =CHOOSE($D$1,D13-L13*AE13,D13) -> 25 | G13: =AND(IF(ISERROR($R13),FALSE,NOT(OR($C13<$R13,$C13>$S13))),NOT(H13)) -> FALSE | H13: =IF(I13,FALSE,ISERROR(HLOOKUP('Bulk Table'!B15,$AF13:$CH13,1,FALSE))) -> TRUE | I13: =NOT('Bulk Table'!$C15=0) -> FALSE | J13: =T13*$C13^3+U13*$C13^2+V13*$C13+W13 -> #N/A | K13: =X13*$C13^3+Y13*$C13^2+Z13*$C13+AA13+'Bulk Table'!$D15 -> #N/A | L13: =C13*(K13+(D13-AC13)*AD13) -> #N/A | M13: =1+(E13-AC13)*AB13 -> #N/A | N13: =K13+(E13-AC13)*AD13 -> #N/A | O13: =N13*C13 -> #N/A | P13: =J13*M13*B13 -> #N/A | Q13: =P13/(N13*C13) -> #N/A | R13: {=INDEX(ModelsData,$A13*2+1,R$1)} -> #N/A | S13: {=INDEX(ModelsData,$A13*2+1,S$1)} -> #N/A | T13: {=INDEX(ModelsData,$A13*2+1,T$1)} -> #N/A | U13: {=INDEX(ModelsData,$A13*2+1,U$1)} -> #N/A | V13: {=INDEX(ModelsData,$A13*2+1,V$1)} -> #N/A | W13: {=INDEX(ModelsData,$A13*2+1,W$1)} -> #N/A | X13: {=INDEX(ModelsData,$A13*2+1,X$1)} -> #N/A | Y13: {=INDEX(ModelsData,$A13*2+1,Y$1)} -> #N/A | ... AE13: {=INDEX(ModelsData,$A13*2+1,AE$1)} -> #N/A | AF13: {=IF(INDEX(FluxBins,$A13*2+1,AF$1)="","",INDEX(FluxBins,$A13*2+1,AF$1)&" ("&INDEX(FluxBins,$A13*2+2,AF$1)&")")} -> #N/A | AG13: {=IF(INDEX(FluxBins,$A13*2+1,AG$1)="","",INDEX(FluxBins,$A13*2+1,AG$1)&" ("&INDEX(FluxBins,$A13*2+2,AG$1)&")")} -> #N/A | AH13: {=IF(INDEX(FluxBins,$A13*2+1,AH$1)="","",INDEX(FluxBins,$A13*2+1,AH$1)&" ("&INDEX(FluxBins,$A13*2+2,AH$1)&")")} -> #N/A | AI13: {=IF(INDEX(FluxBins,$A13*2+1,AI$1)="","",INDEX(FluxBins,$A13*2+1,AI$1)&" ("&INDEX(FluxBins,$A13*2+2,AI$1)&")")} -> #N/A | AJ13: {=IF(INDEX(FluxBins,$A13*2+1,AJ$1)="","",INDEX(FluxBins,$A13*2+1,AJ$1)&" ("&INDEX(FluxBins,$A13*2+2,AJ$1)&")")} -> #N/A | AK13: {=IF(INDEX(FluxBins,$A13*2+1,AK$1)="","",INDEX(FluxBins,$A13*2+1,AK$1)&" ("&INDEX(FluxBins,$A13*2+2,AK$1)&")")} -> #N/A | AL13: {=IF(INDEX(FluxBins,$A13*2+1,AL$1)="","",INDEX(FluxBins,$A13*2+1,AL$1)&" ("&INDEX(FluxBins,$A13*2+2,AL$1)&")")} -> #N/A | AM13: {=IF(INDEX(FluxBins,$A13*2+1,AM$1)="","",INDEX(FluxBins,$A13*2+1,AM$1)&" ("&INDEX(FluxBins,$A13*2+2,AM$1)&")")} -> #N/A | ... CH13: {=IF(INDEX(FluxBins,$A13*2+1,CH$1)="","",INDEX(FluxBins,$A13*2+1,CH$1)&" ("&INDEX(FluxBins,$A13*2+2,CH$1)&")")} -> #N/A
